BEGIN:VCALENDAR
VERSION:2.0
PRODID:-//Plataforma de Colaboração para Olimpíadas Científicas - ECPv6.15.17//NONSGML v1.0//EN
CALSCALE:GREGORIAN
METHOD:PUBLISH
X-ORIGINAL-URL:https://comunidade-olimpiadas.lidersys.com.br
X-WR-CALDESC:Eventos para Plataforma de Colaboração para Olimpíadas Científicas
REFRESH-INTERVAL;VALUE=DURATION:PT1H
X-Robots-Tag:noindex
X-PUBLISHED-TTL:PT1H
BEGIN:VTIMEZONE
TZID:America/Sao_Paulo
BEGIN:STANDARD
TZOFFSETFROM:-0300
TZOFFSETTO:-0300
TZNAME:-03
DTSTART:20230101T000000
END:STANDARD
END:VTIMEZONE
BEGIN:VEVENT
DTSTART;VALUE=DATE:20240826
DTEND;VALUE=DATE:20240827
DTSTAMP:20260422T200126
CREATED:20250513T170948Z
LAST-MODIFIED:20250831T130746Z
UID:1375-1724630400-1724716799@comunidade-olimpiadas.lidersys.com.br
SUMMARY:IYPT Brasil - Início de inscrições
DESCRIPTION:Área temática: \n\nFísica\n\nPúblico-alvo:  \n\nEstudantes do Ensino Médio\n\nModalidades e fases:  \n\nPrimeira Fase: Relatórios e Vídeos\n\nSegunda Fase: Fast Fights (FF)\n\nTerceira Fase: Torneio Nacional\n\nSeletiva para Olimpíada Internacional:  \n\nInternational Young Physicists’ Tournament (IYPT)\n\nFinanciamento\, apoio e/ou organização:  \n\nSBF; Fundação Behring; Fundação Estudar; b projetos
URL:https://comunidade-olimpiadas.lidersys.com.br/event/iypt-brasil-inicio-de-inscricoes/
CATEGORIES:Início e Fim de Inscrições
ATTACH;FMTTYPE=image/png:https://comunidade-olimpiadas.lidersys.com.br/wp-content/uploads/2025/05/IYPT.png
END:VEVENT
END:VCALENDAR