BEGIN:VCALENDAR
VERSION:2.0
PRODID:-//Plataforma de Colaboração para Olimpíadas Científicas - ECPv6.15.17//NONSGML v1.0//EN
CALSCALE:GREGORIAN
METHOD:PUBLISH
X-ORIGINAL-URL:https://comunidade-olimpiadas.lidersys.com.br
X-WR-CALDESC:Eventos para Plataforma de Colaboração para Olimpíadas Científicas
REFRESH-INTERVAL;VALUE=DURATION:PT1H
X-Robots-Tag:noindex
X-PUBLISHED-TTL:PT1H
BEGIN:VTIMEZONE
TZID:America/Sao_Paulo
BEGIN:STANDARD
TZOFFSETFROM:-0300
TZOFFSETTO:-0300
TZNAME:-03
DTSTART:20240101T000000
END:STANDARD
END:VTIMEZONE
BEGIN:VEVENT
DTSTART;VALUE=DATE:20250101
DTEND;VALUE=DATE:20250102
DTSTAMP:20260422T121908
CREATED:20250831T151027Z
LAST-MODIFIED:20250831T151028Z
UID:3266-1735689600-1735775999@comunidade-olimpiadas.lidersys.com.br
SUMMARY:Olimpíada de Empreendedorismo (OE) - Início de inscrições
DESCRIPTION:Área temática: \n\nEmpreendedorismo\n\nPúblico-alvo:  \n\nEnsino Fundamental – Anos Finais: estudantes do 6º ao 9º ano\nEnsino Médio: estudantes do 1º ao 3º ano\n\nModalidades e fases:  \n\nTrês etapas\n\nFinanciamento\, apoio e/ou organização:  \n\nCNPq; MCTI; UFES; USP; UNINASSAU; Você Sabia?; Davi Braga; Pyong Lee; Estudando.com; Medalhei; IB; Cristiana Arcangeli; CDN; Escola M60
URL:https://comunidade-olimpiadas.lidersys.com.br/event/olimpiada-de-empreendedorismo-oe-inicio-de-inscricoes/
CATEGORIES:Início e Fim de Inscrições
END:VEVENT
END:VCALENDAR