BEGIN:VCALENDAR
VERSION:2.0
PRODID:-//Plataforma de Colaboração para Olimpíadas Científicas - ECPv6.15.17//NONSGML v1.0//EN
CALSCALE:GREGORIAN
METHOD:PUBLISH
X-ORIGINAL-URL:https://comunidade-olimpiadas.lidersys.com.br
X-WR-CALDESC:Eventos para Plataforma de Colaboração para Olimpíadas Científicas
REFRESH-INTERVAL;VALUE=DURATION:PT1H
X-Robots-Tag:noindex
X-PUBLISHED-TTL:PT1H
BEGIN:VTIMEZONE
TZID:America/Sao_Paulo
BEGIN:STANDARD
TZOFFSETFROM:-0300
TZOFFSETTO:-0300
TZNAME:-03
DTSTART:20240101T000000
END:STANDARD
END:VTIMEZONE
BEGIN:VEVENT
DTSTART;VALUE=DATE:20250204
DTEND;VALUE=DATE:20250205
DTSTAMP:20260422T090937
CREATED:20250513T165703Z
LAST-MODIFIED:20250831T125645Z
UID:1345-1738627200-1738713599@comunidade-olimpiadas.lidersys.com.br
SUMMARY:Olimpíada Brasileira de Restauração de Ecossistemas (Restaura Natureza) - Início de inscrições
DESCRIPTION:Área temática: \n\nRestauração de ecossistemas\n\nPúblico-alvo:  \n\nEstudantes do 7º\, 8º e 9º ano do Ensino Fundamental;\nEstudantes do 1º e 2º ano do Ensino Médio.\n\nModalidades e fases:  \n\nDuas etapas\n\nFinanciamento\, apoio e/ou organização:  \n\nWWF-Brasil; Associação Quero na Escola; ONU; Maurício de Souza Produções; Rebre sobre rebre; Criativas na escola – Design for change; Ecofalante; Aegea
URL:https://comunidade-olimpiadas.lidersys.com.br/event/restaura-natureza-inicio-de-inscricoes/
CATEGORIES:Início e Fim de Inscrições
ATTACH;FMTTYPE=image/png:https://comunidade-olimpiadas.lidersys.com.br/wp-content/uploads/2025/05/Restaura-natureza.png
END:VEVENT
BEGIN:VEVENT
DTSTART;VALUE=DATE:20250204
DTEND;VALUE=DATE:20250205
DTSTAMP:20260422T090937
CREATED:20250513T165904Z
LAST-MODIFIED:20250831T125633Z
UID:1349-1738627200-1738713599@comunidade-olimpiadas.lidersys.com.br
SUMMARY:Olimpíada Brasileira de Restauração de Ecossistemas (Restaura Natureza) - Início Fase on line
DESCRIPTION:Área temática: \n\nRestauração de ecossistemas\n\nPúblico-alvo:  \n\nEstudantes do 7º\, 8º e 9º ano do Ensino Fundamental;\nEstudantes do 1º e 2º ano do Ensino Médio.\n\nModalidades e fases:  \n\nDuas etapas\n\nFinanciamento\, apoio e/ou organização:  \n\nWWF-Brasil; Associação Quero na Escola; ONU; Maurício de Souza Produções; Rebre sobre rebre; Criativas na escola – Design for change; Ecofalante; Aegea
URL:https://comunidade-olimpiadas.lidersys.com.br/event/restaura-natureza-fase-on-line/
CATEGORIES:Prova de Competição Nacional
ATTACH;FMTTYPE=image/png:https://comunidade-olimpiadas.lidersys.com.br/wp-content/uploads/2025/05/Restaura-natureza.png
END:VEVENT
BEGIN:VEVENT
DTSTART;VALUE=DATE:20250204
DTEND;VALUE=DATE:20250205
DTSTAMP:20260422T090937
CREATED:20250513T165959Z
LAST-MODIFIED:20250831T125627Z
UID:1351-1738627200-1738713599@comunidade-olimpiadas.lidersys.com.br
SUMMARY:Olimpíada Brasileira de Restauração de Ecossistemas (Restaura Natureza) - Início Fase prática
DESCRIPTION:Área temática: \n\nRestauração de ecossistemas\n\nPúblico-alvo:  \n\nEstudantes do 7º\, 8º e 9º ano do Ensino Fundamental;\nEstudantes do 1º e 2º ano do Ensino Médio.\n\nModalidades e fases:  \n\nDuas etapas\n\nFinanciamento\, apoio e/ou organização:  \n\nWWF-Brasil; Associação Quero na Escola; ONU; Maurício de Souza Produções; Rebre sobre rebre; Criativas na escola – Design for change; Ecofalante; Aegea
URL:https://comunidade-olimpiadas.lidersys.com.br/event/restaura-natureza-fase-pratica/
CATEGORIES:Prova de Competição Nacional
ATTACH;FMTTYPE=image/png:https://comunidade-olimpiadas.lidersys.com.br/wp-content/uploads/2025/05/Restaura-natureza.png
END:VEVENT
END:VCALENDAR