BEGIN:VCALENDAR
VERSION:2.0
PRODID:-//Plataforma de Colaboração para Olimpíadas Científicas - ECPv6.15.17//NONSGML v1.0//EN
CALSCALE:GREGORIAN
METHOD:PUBLISH
X-WR-CALNAME:Plataforma de Colaboração para Olimpíadas Científicas
X-ORIGINAL-URL:https://comunidade-olimpiadas.lidersys.com.br
X-WR-CALDESC:Eventos para Plataforma de Colaboração para Olimpíadas Científicas
REFRESH-INTERVAL;VALUE=DURATION:PT1H
X-Robots-Tag:noindex
X-PUBLISHED-TTL:PT1H
BEGIN:VTIMEZONE
TZID:America/Sao_Paulo
BEGIN:STANDARD
TZOFFSETFROM:-0300
TZOFFSETTO:-0300
TZNAME:-03
DTSTART:20240101T000000
END:STANDARD
END:VTIMEZONE
BEGIN:VEVENT
DTSTART;VALUE=DATE:20250318
DTEND;VALUE=DATE:20250319
DTSTAMP:20260422T073648
CREATED:20250513T195413Z
LAST-MODIFIED:20250831T131720Z
UID:1436-1742256000-1742342399@comunidade-olimpiadas.lidersys.com.br
SUMMARY:Olimpíada de Português bê-á-bá (OP bê-á-bá) - Início de inscrições
DESCRIPTION:Área temática: \n\nLíngua Portuguesa\n\nPúblico-alvo:  \n\nCategoria D: estudantes do 5º Ano do Ensino Fundamental;\n\nCategoria E: estudantes do 4º Ano do Ensino Fundamental;\n\nCategoria F: estudantes do 3º Ano do Ensino Fundamental;\n\nCategoria G: estudantes do 2º Ano do Ensino Fundamental;\n\nCategoria H: estudantes do 1º Ano do Ensino Fundamental.\n\nModalidades e fases:  \n\nDuas fases\n\nFinanciamento\, apoio e/ou organização:  \n\nABRALIN; Instituto Philotimia; Istituto de Letras; UFF; Associação de Professores de Português – Portugal
URL:https://comunidade-olimpiadas.lidersys.com.br/event/op-be-a-ba-inicio-de-inscricoes/
CATEGORIES:Início e Fim de Inscrições
ATTACH;FMTTYPE=image/png:https://comunidade-olimpiadas.lidersys.com.br/wp-content/uploads/2025/05/OP-BEABA.png
END:VEVENT
END:VCALENDAR