BEGIN:VCALENDAR
VERSION:2.0
PRODID:-//Plataforma de Colaboração para Olimpíadas Científicas - ECPv6.15.17//NONSGML v1.0//EN
CALSCALE:GREGORIAN
METHOD:PUBLISH
X-ORIGINAL-URL:https://comunidade-olimpiadas.lidersys.com.br
X-WR-CALDESC:Eventos para Plataforma de Colaboração para Olimpíadas Científicas
REFRESH-INTERVAL;VALUE=DURATION:PT1H
X-Robots-Tag:noindex
X-PUBLISHED-TTL:PT1H
BEGIN:VTIMEZONE
TZID:America/Sao_Paulo
BEGIN:STANDARD
TZOFFSETFROM:-0300
TZOFFSETTO:-0300
TZNAME:-03
DTSTART:20240101T000000
END:STANDARD
END:VTIMEZONE
BEGIN:VEVENT
DTSTART;VALUE=DATE:20250320
DTEND;VALUE=DATE:20250321
DTSTAMP:20260422T073723
CREATED:20250513T140019Z
LAST-MODIFIED:20250830T234547Z
UID:1205-1742428800-1742515199@comunidade-olimpiadas.lidersys.com.br
SUMMARY:Olimpíada Canguru de Matemática - Fase única
DESCRIPTION:Área temática: \n\nMatemática\n\nPúblico-alvo:  \n\nNível P (Pre Ecolier) – estudantes do 3º e 4º anos do Ensino Fundamental\n\nNível E (Ecolier) – estudantes do 5º e 6º anos do Ensino Fundamental\n\nNível B (Benjamin) – estudantes do 7º e 8º anos do Ensino Fundamental\n\nNível C (Cadet) – estudantes do 9º ano do Ensino Fundamental\n\nNível J (Junior) – estudantes dos 1º e 2º anos do Ensino Médio\n\nNível S (Student) – estudantes da 3º ano do Ensino Médio\n\nModalidades e fases:  \n\nFase única\n\nFinanciamento\, apoio e/ou organização:  \n\nUPMat Educacional; Associação Kangourou Sans Frontières AKSF
URL:https://comunidade-olimpiadas.lidersys.com.br/event/olimpiada-canguru-de-matematica-fase-unica/
CATEGORIES:Prova de Competição Nacional
ATTACH;FMTTYPE=image/png:https://comunidade-olimpiadas.lidersys.com.br/wp-content/uploads/2025/05/Olimpiada-Canguru-de-Matematica.png
END:VEVENT
END:VCALENDAR