BEGIN:VCALENDAR
VERSION:2.0
PRODID:-//Plataforma de Colaboração para Olimpíadas Científicas - ECPv6.15.17//NONSGML v1.0//EN
CALSCALE:GREGORIAN
METHOD:PUBLISH
X-WR-CALNAME:Plataforma de Colaboração para Olimpíadas Científicas
X-ORIGINAL-URL:https://comunidade-olimpiadas.lidersys.com.br
X-WR-CALDESC:Eventos para Plataforma de Colaboração para Olimpíadas Científicas
REFRESH-INTERVAL;VALUE=DURATION:PT1H
X-Robots-Tag:noindex
X-PUBLISHED-TTL:PT1H
BEGIN:VTIMEZONE
TZID:America/Sao_Paulo
BEGIN:STANDARD
TZOFFSETFROM:-0300
TZOFFSETTO:-0300
TZNAME:-03
DTSTART:20240101T000000
END:STANDARD
END:VTIMEZONE
BEGIN:VEVENT
DTSTART;VALUE=DATE:20250401
DTEND;VALUE=DATE:20250402
DTSTAMP:20260422T060913
CREATED:20250317T124515Z
LAST-MODIFIED:20250630T194906Z
UID:733-1743465600-1743551999@comunidade-olimpiadas.lidersys.com.br
SUMMARY:Olimpíada Nacional de Ciências (ONC) - Início de inscrições
DESCRIPTION:Área temática: \n\nCiências\n\nPúblico-alvo:  \n\nEnsino Fundamental I (3º\, 4º e 5º anos); fundamental II (6º\, 7º\, 8º ou 9º ano); no Ensino Médio (1ª\, 2ª ou 3ª série); e estudantes da 4ª série do Ensino Técnico; EJANível Kids\, correspondente a estudantes do 3º\, 4º e 5º anos do ensino fundamental;\n\nNível A – estudantes do 6º e 7º ano do Ensino Fundamental;\n\nNível B – estudantes do 8º e 9º ano do Ensino Fundamental;\n\nNível C – estudantes da 1ª série do Ensino Médio;\n\nNível D – estudantes da 2ª série do Ensino Médio; e\n\nNível E – estudantes da 3ª série do Ensino Médio e 4ª série do Ensino Técnico;\n\nModalidades e fases:  \nDuas fases \nFinanciamento\, apoio e/ou organização:  \n\nUFPI; MCTI; ABQ; Departamento de História da Unicamp; Instituto Butantan; SAB; SBF; FADEX; UNFPA; UFMA; CLA; Petrobrás
URL:https://comunidade-olimpiadas.lidersys.com.br/event/onc-inicio-de-inscricoes/
CATEGORIES:Início e Fim de Inscrições
ATTACH;FMTTYPE=image/png:https://comunidade-olimpiadas.lidersys.com.br/wp-content/uploads/2025/03/onc.png
END:VEVENT
BEGIN:VEVENT
DTSTART;VALUE=DATE:20250401
DTEND;VALUE=DATE:20250402
DTSTAMP:20260422T060913
CREATED:20250513T140905Z
LAST-MODIFIED:20250831T095757Z
UID:1223-1743465600-1743551999@comunidade-olimpiadas.lidersys.com.br
SUMMARY:Olimpíada Camaleão de Química (OCQ) - Início de inscrições [CANCELADA]
DESCRIPTION:Área temática: \n\nQuímica\n\nPúblico-alvo:  \n\nNível A: estudantes do 5° ao 9° ano do Ensino Fundamental;\n\nNível B: estudantes do Ensino Médio;\n\nNível C: pessoas que concluíram o Ensino Médio\, sem restrição de idade (Categoria Livre).\n\nModalidades e fases:  \n\nDuas fases
URL:https://comunidade-olimpiadas.lidersys.com.br/event/ocq-inicio-de-inscricoes/
CATEGORIES:Início e Fim de Inscrições
ATTACH;FMTTYPE=image/png:https://comunidade-olimpiadas.lidersys.com.br/wp-content/uploads/2025/05/OCQ.png
END:VEVENT
BEGIN:VEVENT
DTSTART;VALUE=DATE:20250401
DTEND;VALUE=DATE:20250402
DTSTAMP:20260422T060913
CREATED:20250526T184354Z
LAST-MODIFIED:20250630T202135Z
UID:1625-1743465600-1743551999@comunidade-olimpiadas.lidersys.com.br
SUMMARY:Olimpíada Brasileira de Química (OBQ) - Início de inscrições (seletivas estaduais\, exceto MG\, SP e SE)
DESCRIPTION:Área temática: \n\nQuímica\n\nPúblico-alvo:  \n\nModalidade A – estudantes da 1ª e da 2ª série do Ensino Médio;\n\nModalidade B – estudantes das demais séries do Ensino Médio.\n\nModalidades e fases:  \n\nPrimeira etapa – Fase I – seleciona estudantes para a fase II\, ou para a fase III;\n\nPrimeira etapa – Fase II – Olimpíada Estadual;\n\nPrimeira etapa – Fase III – prova teórica em nível nacional.\n\nSegunda etapa – Fase IV – prova teórico-prática em formato de vídeo;\n\nSegunda etapa – Fase V – Curso de Aprofundamento e Excelência em Química;\n\nSegunda etapa – Fase VI – prova de seleção para Olimpíadas Internacionais.\n\nSeletiva para competição internacional  \n\nOlimpíada Internacional de Química (IChO); Olimpíada Ibero-Americana de Química (OIAQ)\n\nFinanciamento\, apoio e/ou organização:  \n\nUFC; UFPI; ABQ; CFQ; ABICLIM; ABICLOR; CNPq; MCTI; MEC
URL:https://comunidade-olimpiadas.lidersys.com.br/event/olimpiadas-de-quimica-obq-inicio-de-inscricoes-seletivas-estaduais-exceto-mg-sp-e-se/
CATEGORIES:Início e Fim de Inscrições
ATTACH;FMTTYPE=image/png:https://comunidade-olimpiadas.lidersys.com.br/wp-content/uploads/2025/05/OBQ.png
END:VEVENT
BEGIN:VEVENT
DTSTART;VALUE=DATE:20250401
DTEND;VALUE=DATE:20250402
DTSTAMP:20260422T060913
CREATED:20250527T015356Z
LAST-MODIFIED:20250831T125454Z
UID:1702-1743465600-1743551999@comunidade-olimpiadas.lidersys.com.br
SUMMARY:Olimpíada Brasileira de Neurociências para Graduandos (OBNG) - Fim de inscrições
DESCRIPTION:Área temática: \n\nNeurociências\n\nPúblico-alvo:  \n\nEstudantes de graduação\n\nModalidades e fases:  \n\nTrês etapas\n\nFinanciamento\, apoio e/ou organização:  \n\nNUDCEN; UFRJ; IBCCF; Ciências e Cognição; OBN; Simpósio Brasileiro de Neurociências; OBFIS; SBNeC; FeSBE; AD Instruments
URL:https://comunidade-olimpiadas.lidersys.com.br/event/olimpiada-brasileira-de-neurociencias-para-graduandos-obng-fim-de-inscricoes/
CATEGORIES:Início e Fim de Inscrições
ATTACH;FMTTYPE=image/png:https://comunidade-olimpiadas.lidersys.com.br/wp-content/uploads/2025/05/OBNG.png
END:VEVENT
BEGIN:VEVENT
DTSTART;VALUE=DATE:20250401
DTEND;VALUE=DATE:20250403
DTSTAMP:20260422T060913
CREATED:20250317T124513Z
LAST-MODIFIED:20250630T194049Z
UID:725-1743465600-1743638399@comunidade-olimpiadas.lidersys.com.br
SUMMARY:Olimpíada Brasileira de Matemática (OBM) - Terceira Seletiva IMO/IBERO
DESCRIPTION:Área temática: \n\nMatemática\n\nPúblico-alvo:  \n\nNível 1 – estudantes do 6º ou 7º ano do Ensino Fundamental;\n\nNível 2 – estudantes do 8º ou 9º ano do Ensino Fundamental;\n\nNível 3 – estudantes do Ensino Médio; e\n\nNível universitário – estudantes universitários ou que tenham concluído o Ensino Médio há menos de um ano.\n\nModalidades e fases:  \nFase única – Para os Níveis 1. 2 e 3 é destinada a participantes que:\n \n\ntiveram as maiores pontuações na OBMEP;\n\nmedalhistas na edição anterior da OBM;\n\nmedalhistas do TM²\n\nmedalhistas da Competição Jacob Palis Júnior de Matemática;\n\ntiveram maiores pontuações nas competições regionais ligadas à OBM\n\nDuas fases – Para o Nível Universitário é destinada a participantes que:\n\nnão tenham concluído o ensino superior;\n\ngraduandos ou pessoas que tenham concluído o Ensino Médio há menos de um ano;\n\nA Competição Elon Lages Lima de Matemática equivale à primeira fase Nível Universitário da OBM\n\nSeletiva para competição internacional:  \n\nAsian Pacific Mathematics Olympiad (APMO); Competencia Iberoamericana Interuniversitaria de Matemáticas (CIIM); International Mathematics Competition for University Students (IMC); Iranian Geometry Olympiad (IGO); Olimpíada Ibero-americana de Matemática (OIM); Olimpíada Internacional de Matemática (IMO); Olimpíada de Maio (OM); Olimpíada de Matemática da Comunidade dos Países de Língua Portuguesa (OMC-PLP); Olimpíada de Matemática do Cone Sul (OMCsul)\n\nFinanciamento\, apoio e/ou organização:  \n\nCNPq; SBM; IMPA; INCTMat; Acad. Bras. Ciências; AOBM; UFBA
URL:https://comunidade-olimpiadas.lidersys.com.br/event/obm-terceira-seletiva-imo-ibero/
CATEGORIES:Capacitação e/ou seletiva para as Olimpíadas Internacionais
ATTACH;FMTTYPE=image/png:https://comunidade-olimpiadas.lidersys.com.br/wp-content/uploads/2025/03/obm.png
END:VEVENT
END:VCALENDAR