BEGIN:VCALENDAR
VERSION:2.0
PRODID:-//Plataforma de Colaboração para Olimpíadas Científicas - ECPv6.15.17//NONSGML v1.0//EN
CALSCALE:GREGORIAN
METHOD:PUBLISH
X-ORIGINAL-URL:https://comunidade-olimpiadas.lidersys.com.br
X-WR-CALDESC:Eventos para Plataforma de Colaboração para Olimpíadas Científicas
REFRESH-INTERVAL;VALUE=DURATION:PT1H
X-Robots-Tag:noindex
X-PUBLISHED-TTL:PT1H
BEGIN:VTIMEZONE
TZID:America/Sao_Paulo
BEGIN:STANDARD
TZOFFSETFROM:-0300
TZOFFSETTO:-0300
TZNAME:-03
DTSTART:20240101T000000
END:STANDARD
END:VTIMEZONE
BEGIN:VEVENT
DTSTART;VALUE=DATE:20250403
DTEND;VALUE=DATE:20250404
DTSTAMP:20260422T045447
CREATED:20250513T003958Z
LAST-MODIFIED:20250701T201918Z
UID:1076-1743638400-1743724799@comunidade-olimpiadas.lidersys.com.br
SUMMARY:Olimpíada Brasileira de Linguística (OBL) - Início de inscrições
DESCRIPTION:Área temática: \n\nLinguística\n\nPúblico-alvo:  \n\nMirim: estudantes do 6º ao 8º ano do Ensino Fundamental;\n\nRegular: estudantes do 9º ano do Ensino Fundamental ao último ano do Ensino Médio; e\n\nAberta: qualquer pessoa\, de qualquer idade\, que não esteja matriculada na Educação Básica\, independentemente da escolaridade.\n\nModalidades e fases:  \n\nDuas fases (categorias Mirim\, Aberta e Regular)\n\nEscola de Linguística de Outono (ELO) e Olimpíada Internacional de Linguística (categoria Regular)\n\nSeletiva para Olimpíada Internacional:  \n\nOlimpíada Internacional de Linguística (IOL)\n\nFinanciamento\, apoio e/ou organização:  \n\nVertere instituto; Abralin; Gelne; UFSCAR; UFRJ; UFRN; UFPB; Liga olímpica (OBECON\, SAPIENTIA; Vitalis); Parábola; Estúdio Vértebra
URL:https://comunidade-olimpiadas.lidersys.com.br/event/obl-inicio-de-inscricoes/
CATEGORIES:Início e Fim de Inscrições
ATTACH;FMTTYPE=image/png:https://comunidade-olimpiadas.lidersys.com.br/wp-content/uploads/2025/05/OBL.png
END:VEVENT
END:VCALENDAR