BEGIN:VCALENDAR
VERSION:2.0
PRODID:-//Plataforma de Colaboração para Olimpíadas Científicas - ECPv6.15.17//NONSGML v1.0//EN
CALSCALE:GREGORIAN
METHOD:PUBLISH
X-WR-CALNAME:Plataforma de Colaboração para Olimpíadas Científicas
X-ORIGINAL-URL:https://comunidade-olimpiadas.lidersys.com.br
X-WR-CALDESC:Eventos para Plataforma de Colaboração para Olimpíadas Científicas
REFRESH-INTERVAL;VALUE=DURATION:PT1H
X-Robots-Tag:noindex
X-PUBLISHED-TTL:PT1H
BEGIN:VTIMEZONE
TZID:America/Sao_Paulo
BEGIN:STANDARD
TZOFFSETFROM:-0300
TZOFFSETTO:-0300
TZNAME:-03
DTSTART:20240101T000000
END:STANDARD
END:VTIMEZONE
BEGIN:VEVENT
DTSTART;VALUE=DATE:20250410
DTEND;VALUE=DATE:20250411
DTSTAMP:20260422T060913
CREATED:20250512T235954Z
LAST-MODIFIED:20250630T194621Z
UID:1032-1744243200-1744329599@comunidade-olimpiadas.lidersys.com.br
SUMMARY:Competição Jacob Palis Júnior de Matemática - Início de inscrições
DESCRIPTION:Área temática: \n\nMatemática\n\nPúblico-alvo:  \n\nNível 1 – estudantes do 6° ou 7° ano do Ensino Fundamental\n\nNível 2 – estudantes do 8° ou 9° ano do Ensino Fundamental\n\nNível 3 – estudantes do Ensino Médio \n\nModalidades e fases:  \n\nFase única\n\nFinanciamento\, apoio e/ou organização:  \n\nAOBM; SBM
URL:https://comunidade-olimpiadas.lidersys.com.br/event/competicao-jacob-palis-junior-de-matematica-inicio-de-inscricoes/
CATEGORIES:Início e Fim de Inscrições
ATTACH;FMTTYPE=image/png:https://comunidade-olimpiadas.lidersys.com.br/wp-content/uploads/2025/03/obm.png
END:VEVENT
BEGIN:VEVENT
DTSTART;VALUE=DATE:20250410
DTEND;VALUE=DATE:20250411
DTSTAMP:20260422T060913
CREATED:20250513T135339Z
LAST-MODIFIED:20250529T133241Z
UID:1191-1744243200-1744329599@comunidade-olimpiadas.lidersys.com.br
SUMMARY:Olimpíada de Matemática da Unicamp (OMU) - Fim de inscrições
DESCRIPTION:Área temática: \n\nMatemática\n\nPúblico-alvo:  \n\nNível Alfa – estudantes do 6º ao 9º ano do Ensino Fundamental;\n\nNível Beta – estudantes do Ensino Médio.\n\nModalidades e fases:  \n\nTrês fases em equipes e uma fase Individual\n\nFinanciamento:  \n\nIMECC/UNICAMP
URL:https://comunidade-olimpiadas.lidersys.com.br/event/omu-fim-de-inscricoes/
CATEGORIES:Início e Fim de Inscrições
ATTACH;FMTTYPE=image/png:https://comunidade-olimpiadas.lidersys.com.br/wp-content/uploads/2025/05/OMU.png
END:VEVENT
END:VCALENDAR