BEGIN:VCALENDAR
VERSION:2.0
PRODID:-//Plataforma de Colaboração para Olimpíadas Científicas - ECPv6.15.17//NONSGML v1.0//EN
CALSCALE:GREGORIAN
METHOD:PUBLISH
X-WR-CALNAME:Plataforma de Colaboração para Olimpíadas Científicas
X-ORIGINAL-URL:https://comunidade-olimpiadas.lidersys.com.br
X-WR-CALDESC:Eventos para Plataforma de Colaboração para Olimpíadas Científicas
REFRESH-INTERVAL;VALUE=DURATION:PT1H
X-Robots-Tag:noindex
X-PUBLISHED-TTL:PT1H
BEGIN:VTIMEZONE
TZID:America/Sao_Paulo
BEGIN:STANDARD
TZOFFSETFROM:-0300
TZOFFSETTO:-0300
TZNAME:-03
DTSTART:20240101T000000
END:STANDARD
END:VTIMEZONE
BEGIN:VEVENT
DTSTART;VALUE=DATE:20250425
DTEND;VALUE=DATE:20250426
DTSTAMP:20260422T073541
CREATED:20250317T124507Z
LAST-MODIFIED:20250630T202536Z
UID:791-1745539200-1745625599@comunidade-olimpiadas.lidersys.com.br
SUMMARY:Olimpíada Nacional em História do Brasil (ONHB) - Fim de inscrições (escolas públicas)
DESCRIPTION:Área temática: \n\nHistória\n\nPúblico-alvo:  \n\nEstudantes do 8° e 9° anos do Ensino Fundamental;\n\nEstudantes do Ensino Médio.\n\nModalidades e fases:  \n\nSeis fases – provas on-line\n\nUma fase – prova final\n\nFinanciamento\, apoio e/ou organização:  \n\nUnicamp; ANPUH; Departamento de História – IFCH/Unicamp; Programa de Pós-graduação em História da Unicamp; SAE Unicamp
URL:https://comunidade-olimpiadas.lidersys.com.br/event/onhb-fim-de-inscricoes/
CATEGORIES:Início e Fim de Inscrições
ATTACH;FMTTYPE=image/png:https://comunidade-olimpiadas.lidersys.com.br/wp-content/uploads/2025/03/onc-1.png
END:VEVENT
BEGIN:VEVENT
DTSTART;VALUE=DATE:20250425
DTEND;VALUE=DATE:20250426
DTSTAMP:20260422T073541
CREATED:20250513T160233Z
LAST-MODIFIED:20250831T124058Z
UID:1297-1745539200-1745625599@comunidade-olimpiadas.lidersys.com.br
SUMMARY:Olimpíada Brasileira de Tecnologia (OBT) - Fim de inscrições
DESCRIPTION:Área temática: \n\nTecnologia\n\nPúblico-alvo:  \n\nNível 1: 8º e 9º anos do Ensino Fundamental;\n\nNível 2: 1ª\, 2ª e 3ª série do Ensino Médio.\n\nModalidades e fases:  \n\nPrimeira fase\n\nSegunda fase\n\nDesafio APP (optativo)\n\nFinanciamento\, apoio e/ou organização:  \n\nInstituto Alpha Lumen; MIT Brazil; Cloudwalk
URL:https://comunidade-olimpiadas.lidersys.com.br/event/obt-fim-de-inscricoes/
CATEGORIES:Início e Fim de Inscrições
ATTACH;FMTTYPE=image/png:https://comunidade-olimpiadas.lidersys.com.br/wp-content/uploads/2025/05/OBT.png
END:VEVENT
BEGIN:VEVENT
DTSTART;VALUE=DATE:20250425
DTEND;VALUE=DATE:20250426
DTSTAMP:20260422T073541
CREATED:20250513T170047Z
LAST-MODIFIED:20250831T130026Z
UID:1353-1745539200-1745625599@comunidade-olimpiadas.lidersys.com.br
SUMMARY:Olimpíada Brasileira de Ciências (OBC) - Fim de inscrições
DESCRIPTION:Área temática: \n\nCiências\n\nPúblico-alvo:  \n\nEstudantes a partir de 15 anos de idade\n\nModalidades e fases:  \n\nDuas fases\n\nSeletiva IJSO\n\nSeletiva para Olimpíada Internacional:  \n\nOlimpíada Internacional Júnior de Ciências (IJSO)\n\nFinanciamento\, apoio e/ou organização:  \n\nb projetos
URL:https://comunidade-olimpiadas.lidersys.com.br/event/obc-fim-de-inscricoes/
CATEGORIES:Início e Fim de Inscrições
ATTACH;FMTTYPE=image/png:https://comunidade-olimpiadas.lidersys.com.br/wp-content/uploads/2025/05/OBC.png
END:VEVENT
END:VCALENDAR