BEGIN:VCALENDAR
VERSION:2.0
PRODID:-//Plataforma de Colaboração para Olimpíadas Científicas - ECPv6.15.17//NONSGML v1.0//EN
CALSCALE:GREGORIAN
METHOD:PUBLISH
X-WR-CALNAME:Plataforma de Colaboração para Olimpíadas Científicas
X-ORIGINAL-URL:https://comunidade-olimpiadas.lidersys.com.br
X-WR-CALDESC:Eventos para Plataforma de Colaboração para Olimpíadas Científicas
REFRESH-INTERVAL;VALUE=DURATION:PT1H
X-Robots-Tag:noindex
X-PUBLISHED-TTL:PT1H
BEGIN:VTIMEZONE
TZID:America/Sao_Paulo
BEGIN:STANDARD
TZOFFSETFROM:-0300
TZOFFSETTO:-0300
TZNAME:-03
DTSTART:20240101T000000
END:STANDARD
END:VTIMEZONE
BEGIN:VEVENT
DTSTART;VALUE=DATE:20250428
DTEND;VALUE=DATE:20250429
DTSTAMP:20260422T032255
CREATED:20250527T014714Z
LAST-MODIFIED:20250831T131608Z
UID:1692-1745798400-1745884799@comunidade-olimpiadas.lidersys.com.br
SUMMARY:Olimpíada Nacional de Filosofia (ONFIL) - Início identificação para etapa regional
DESCRIPTION:Área temática: \n\nFilosofia\n\nPúblico-alvo:  \n\nEstudantes que não tenham concluído o Ensino Médio e tenham até 19 anos de idade\n\nModalidades e fases:  \n\nTrês etapas\n\nSeletiva para competição internacional \n\nIPO\n\nFinanciamento\, apoio e/ou organização:  \n\nUFSM; CNPq; MCTI
URL:https://comunidade-olimpiadas.lidersys.com.br/event/olimpiada-nacional-de-filosofia-onfil-inicio-identificacao-para-etapa-regional/
CATEGORIES:Início e Fim de Inscrições
ATTACH;FMTTYPE=image/png:https://comunidade-olimpiadas.lidersys.com.br/wp-content/uploads/2025/05/ONFIL.png
END:VEVENT
BEGIN:VEVENT
DTSTART;VALUE=DATE:20250428
DTEND;VALUE=DATE:20250429
DTSTAMP:20260422T032255
CREATED:20250530T130208Z
LAST-MODIFIED:20250530T130208Z
UID:2345-1745798400-1745884799@comunidade-olimpiadas.lidersys.com.br
SUMMARY:Olimpíada de Matemática da Unicamp (OMU) - Fim Fase 1
DESCRIPTION:Área temática: \n\nMatemática\n\nPúblico-alvo:  \n\nNível Alfa – estudantes do 6º ao 9º ano do Ensino Fundamental;\n\nNível Beta – estudantes do Ensino Médio.\n\nModalidades e fases:  \n\nTrês fases em equipes e uma fase Individual\n\nFinanciamento:  \n\nIMECC/UNICAMP
URL:https://comunidade-olimpiadas.lidersys.com.br/event/olimpiada-de-matematica-da-unicamp-omu-fim-fase-1/
CATEGORIES:Prova de Competição Nacional
ATTACH;FMTTYPE=image/png:https://comunidade-olimpiadas.lidersys.com.br/wp-content/uploads/2025/05/OMU.png
END:VEVENT
END:VCALENDAR