BEGIN:VCALENDAR
VERSION:2.0
PRODID:-//Plataforma de Colaboração para Olimpíadas Científicas - ECPv6.15.17//NONSGML v1.0//EN
CALSCALE:GREGORIAN
METHOD:PUBLISH
X-WR-CALNAME:Plataforma de Colaboração para Olimpíadas Científicas
X-ORIGINAL-URL:https://comunidade-olimpiadas.lidersys.com.br
X-WR-CALDESC:Eventos para Plataforma de Colaboração para Olimpíadas Científicas
REFRESH-INTERVAL;VALUE=DURATION:PT1H
X-Robots-Tag:noindex
X-PUBLISHED-TTL:PT1H
BEGIN:VTIMEZONE
TZID:America/Sao_Paulo
BEGIN:STANDARD
TZOFFSETFROM:-0300
TZOFFSETTO:-0300
TZNAME:-03
DTSTART:20240101T000000
END:STANDARD
END:VTIMEZONE
BEGIN:VEVENT
DTSTART;VALUE=DATE:20250429
DTEND;VALUE=DATE:20250501
DTSTAMP:20260422T032219
CREATED:20250513T160425Z
LAST-MODIFIED:20250831T124046Z
UID:1301-1745884800-1746057599@comunidade-olimpiadas.lidersys.com.br
SUMMARY:Olimpíada Brasileira de Tecnologia (OBT) - Fase 1 - Prova Equipe Matemática
DESCRIPTION:Área temática: \n\nTecnologia\n\nPúblico-alvo:  \n\nNível 1: 8º e 9º anos do Ensino Fundamental;\n\nNível 2: 1ª\, 2ª e 3ª série do Ensino Médio.\n\nModalidades e fases:  \n\nPrimeira fase\n\nSegunda fase\n\nDesafio APP (optativo)\n\nFinanciamento\, apoio e/ou organização:  \n\nInstituto Alpha Lumen; MIT Brazil; Cloudwalk
URL:https://comunidade-olimpiadas.lidersys.com.br/event/obt-fase-1-prova-equipe-matematica/
CATEGORIES:Prova de Competição Nacional
ATTACH;FMTTYPE=image/png:https://comunidade-olimpiadas.lidersys.com.br/wp-content/uploads/2025/05/OBT.png
END:VEVENT
BEGIN:VEVENT
DTSTART;VALUE=DATE:20250430
DTEND;VALUE=DATE:20250501
DTSTAMP:20260422T032219
CREATED:20250513T140540Z
LAST-MODIFIED:20250630T193700Z
UID:1215-1745971200-1746057599@comunidade-olimpiadas.lidersys.com.br
SUMMARY:Olimpíada Mirim OBMEP - Início de inscrições
DESCRIPTION:Área temática: \n\nMatemática\n\nPúblico-alvo:  \n\nMirim 1 – Estudantes do 2º e 3º anos do Ensino Fundamental;\n\nMirim 2 – Estudantes do 4º e 5º anos do Ensino Fundamental.\n\nModalidades e fases:  \n\nDuas fases\n\nFinanciamento\, apoio e/ou organização:  \n\nCAPES; CNPq; B3 Social; IMPA; MEC; MCTI
URL:https://comunidade-olimpiadas.lidersys.com.br/event/olimpiada-mirim-obmep-inicio-de-inscricoes/
CATEGORIES:Início e Fim de Inscrições
ATTACH;FMTTYPE=image/png:https://comunidade-olimpiadas.lidersys.com.br/wp-content/uploads/2025/05/Olimpiada-Mirim-OBMEP.png
END:VEVENT
BEGIN:VEVENT
DTSTART;VALUE=DATE:20250430
DTEND;VALUE=DATE:20250501
DTSTAMP:20260422T032219
CREATED:20250513T164840Z
LAST-MODIFIED:20250831T125109Z
UID:1327-1745971200-1746057599@comunidade-olimpiadas.lidersys.com.br
SUMMARY:Olimpíada Brasileira de Geopolítica (OBGP) - Fim de inscrições
DESCRIPTION:Área temática: \n\nGeopolítica\n\nPúblico-alvo:  \n\nNível 1: Estudantes do 6º e 7º ano;\n\nNível 2: Estudantes do 8º e 9º ano;\n\nNível 3: Estudantes do Ensino Médio e técnico; e\n\nNível Livre: adultos que já concluíram a educação básica.\n\nModalidades e fases:  \n\nFase única\n\nFinanciamento\, apoio e/ou organização:  \n\nSeleta Educação
URL:https://comunidade-olimpiadas.lidersys.com.br/event/obgp-fim-de-inscricoes/
CATEGORIES:Início e Fim de Inscrições
ATTACH;FMTTYPE=image/png:https://comunidade-olimpiadas.lidersys.com.br/wp-content/uploads/2025/05/OBGP.png
END:VEVENT
BEGIN:VEVENT
DTSTART;VALUE=DATE:20250430
DTEND;VALUE=DATE:20250501
DTSTAMP:20260422T032219
CREATED:20250513T195828Z
LAST-MODIFIED:20250831T131850Z
UID:1446-1745971200-1746057599@comunidade-olimpiadas.lidersys.com.br
SUMMARY:Olimpíada Brasileira de Fisiologia (OBFIS) - Fim de inscrições
DESCRIPTION:Área temática: \n\nFisiologia\n\nPúblico-alvo:  \n\nEstudantes de graduação\n\nModalidades e fases:  \n\nTrês etapas\n\nFinanciamento\, apoio e/ou organização:  \n\nNUDCEN; UFRJ; IBCCF; Ciências e Cognição; OBN; Simpósio Brasileiro de Neurociências; OBNG; SBNeC; FeSBE; AD Instruments
URL:https://comunidade-olimpiadas.lidersys.com.br/event/obfis-fim-de-inscricoes/
CATEGORIES:Início e Fim de Inscrições
ATTACH;FMTTYPE=image/png:https://comunidade-olimpiadas.lidersys.com.br/wp-content/uploads/2025/05/OBFIS.png
END:VEVENT
END:VCALENDAR