BEGIN:VCALENDAR
VERSION:2.0
PRODID:-//Plataforma de Colaboração para Olimpíadas Científicas - ECPv6.15.17//NONSGML v1.0//EN
CALSCALE:GREGORIAN
METHOD:PUBLISH
X-WR-CALNAME:Plataforma de Colaboração para Olimpíadas Científicas
X-ORIGINAL-URL:https://comunidade-olimpiadas.lidersys.com.br
X-WR-CALDESC:Eventos para Plataforma de Colaboração para Olimpíadas Científicas
REFRESH-INTERVAL;VALUE=DURATION:PT1H
X-Robots-Tag:noindex
X-PUBLISHED-TTL:PT1H
BEGIN:VTIMEZONE
TZID:America/Sao_Paulo
BEGIN:STANDARD
TZOFFSETFROM:-0300
TZOFFSETTO:-0300
TZNAME:-03
DTSTART:20240101T000000
END:STANDARD
END:VTIMEZONE
BEGIN:VEVENT
DTSTART;VALUE=DATE:20250505
DTEND;VALUE=DATE:20250506
DTSTAMP:20260422T032252
CREATED:20250317T124450Z
LAST-MODIFIED:20250630T202546Z
UID:793-1746403200-1746489599@comunidade-olimpiadas.lidersys.com.br
SUMMARY:Olimpíada Nacional em História do Brasil (ONHB) - Início Fase 1
DESCRIPTION:Área temática: \n\nHistória\n\nPúblico-alvo:  \n\nEstudantes do 8° e 9° anos do Ensino Fundamental;\n\nEstudantes do Ensino Médio.\n\nModalidades e fases:  \n\nSeis fases – provas on-line\n\nUma fase – prova final\n\nFinanciamento\, apoio e/ou organização:  \n\nUnicamp; ANPUH; Departamento de História – IFCH/Unicamp; Programa de Pós-graduação em História da Unicamp; SAE Unicamp
URL:https://comunidade-olimpiadas.lidersys.com.br/event/onhb-fase-1/
CATEGORIES:Prova de Competição Nacional
ATTACH;FMTTYPE=image/png:https://comunidade-olimpiadas.lidersys.com.br/wp-content/uploads/2025/03/onc-1.png
END:VEVENT
BEGIN:VEVENT
DTSTART;VALUE=DATE:20250505
DTEND;VALUE=DATE:20250506
DTSTAMP:20260422T032252
CREATED:20250317T124453Z
LAST-MODIFIED:20250630T195101Z
UID:750-1746403200-1746489599@comunidade-olimpiadas.lidersys.com.br
SUMMARY:Olimpíada Brasileira de Biologia (OBB) - Fase 3
DESCRIPTION:Área temática: \n\nBiologia\n\nPúblico-alvo:  \n\nEstudantes do Ensino Médio\n\nModalidades e fases:  \n\nTrês fases\n\nSeletiva para competição internacional  \n\nOlimpíada Ibero-Americana de Biologia (OIAB); Olimpíada Internacional de Biologia (IBO).\n\nFinanciamento\, apoio e/ou organização:  \n\nMEC; MCTI; CNPq; Gov. Estado SP; Instituto Butantan; Fundação Butantan; Escola Superior Instituto Butantan; FAPESP; CeTICS; Centre of Excellence in new target Discovery.
URL:https://comunidade-olimpiadas.lidersys.com.br/event/obb-fase-3/
CATEGORIES:Prova de Competição Nacional
ATTACH;FMTTYPE=image/png:https://comunidade-olimpiadas.lidersys.com.br/wp-content/uploads/2025/03/obb.png
END:VEVENT
BEGIN:VEVENT
DTSTART;VALUE=DATE:20250505
DTEND;VALUE=DATE:20250506
DTSTAMP:20260422T032252
CREATED:20250317T124455Z
LAST-MODIFIED:20250630T195238Z
UID:757-1746403200-1746489599@comunidade-olimpiadas.lidersys.com.br
SUMMARY:Olimpíada Brasileira de Neurociências (OBN) - Fim de inscrições (Olimpíada local descentralizada)
DESCRIPTION:Área temática: \n\nNeurociências\n\nPúblico-alvo:  \n\nEstudantes de Ensino Médio; e\n\nFaixa etária: 14 a 19 anos. \n\nModalidades e fases:  \n\nTrês fases: local\, nacional\, internacional\n\nSeletiva para competição internacional  \n\nInternational Brain Bee\n\nFinanciamento\, apoio e/ou organização:  \n\nCNPq; UFRJ; IBCCF; Simpósio Brasileiro de Neurociências; Ciências e cognição; Censupeg; OBN para graduandos; SBNeC
URL:https://comunidade-olimpiadas.lidersys.com.br/event/obn-fim-de-inscricoes-olimpiada-local-descentralizada/
CATEGORIES:Início e Fim de Inscrições
ATTACH;FMTTYPE=image/png:https://comunidade-olimpiadas.lidersys.com.br/wp-content/uploads/2025/03/obn.png
END:VEVENT
BEGIN:VEVENT
DTSTART;VALUE=DATE:20250505
DTEND;VALUE=DATE:20250506
DTSTAMP:20260422T032252
CREATED:20250513T194446Z
LAST-MODIFIED:20250831T131252Z
UID:1422-1746403200-1746489599@comunidade-olimpiadas.lidersys.com.br
SUMMARY:Olimpíada Brasileira de Inovação\, Ciência e Tecnologia (OBICT) - Início Fase 2
DESCRIPTION:Área temática: \nInovação\, Ciência e Tecnologia \nPúblico-alvo:  \n\nCategoria 1: estudantes do 1º ao 5º ano do Ensino Fundamental\nCategoria 2: estudantes do 6º ao 9º ano do Ensino Fundamental\nCategoria 3: estudantes do Ensino Médio ou Técnico\nCategoria 4: aberta a qualquer pessoa\n\nModalidades e fases:  \n\nPrimeira fase – todas categorias\n\nSegunda fase – todas categorias\n\nTerceira fase – categorias 1\, 2\, 3\n\nQuarta fase – categrias 2\, 3\n\nFinanciamento\, apoio e/ou organização:  \n\nJORGE GERDAU JOHANNPETER; RANDONCORP; INSTITUTO MARI JOHANNPETER; Assembleia Legislativa do Estado do Rio Grande do Sul; Ministério Público do Estado do Rio Grande do Sul; Prefeitura de Porto Alegre – RS; Prefeitura de Encantado – RS; Transforma RS; Pacto Pela Educação; MBC – Movimento Brasil Competitivo; Parceiros Voluntários; AEITA; FAMURS; ITA; IPT; EDUSPACE. 
URL:https://comunidade-olimpiadas.lidersys.com.br/event/obict-fase-2/
CATEGORIES:Prova de Competição Nacional
ATTACH;FMTTYPE=image/png:https://comunidade-olimpiadas.lidersys.com.br/wp-content/uploads/2025/05/obict.png
END:VEVENT
END:VCALENDAR