BEGIN:VCALENDAR
VERSION:2.0
PRODID:-//Plataforma de Colaboração para Olimpíadas Científicas - ECPv6.15.17//NONSGML v1.0//EN
CALSCALE:GREGORIAN
METHOD:PUBLISH
X-WR-CALNAME:Plataforma de Colaboração para Olimpíadas Científicas
X-ORIGINAL-URL:https://comunidade-olimpiadas.lidersys.com.br
X-WR-CALDESC:Eventos para Plataforma de Colaboração para Olimpíadas Científicas
REFRESH-INTERVAL;VALUE=DURATION:PT1H
X-Robots-Tag:noindex
X-PUBLISHED-TTL:PT1H
BEGIN:VTIMEZONE
TZID:America/Sao_Paulo
BEGIN:STANDARD
TZOFFSETFROM:-0300
TZOFFSETTO:-0300
TZNAME:-03
DTSTART:20240101T000000
END:STANDARD
END:VTIMEZONE
BEGIN:VEVENT
DTSTART;VALUE=DATE:20250506
DTEND;VALUE=DATE:20250507
DTSTAMP:20260422T032253
CREATED:20250527T014936Z
LAST-MODIFIED:20250831T131556Z
UID:1696-1746489600-1746575999@comunidade-olimpiadas.lidersys.com.br
SUMMARY:Olimpíada Nacional de Filosofia (ONFIL) - Etapa escolar
DESCRIPTION:Área temática: \n\nFilosofia\n\nPúblico-alvo:  \n\nEstudantes que não tenham concluído o Ensino Médio e tenham até 19 anos de idade\n\nModalidades e fases:  \n\nTrês etapas\n\nSeletiva para competição internacional \n\nIPO\n\nFinanciamento\, apoio e/ou organização:  \n\nUFSM; CNPq; MCTI
URL:https://comunidade-olimpiadas.lidersys.com.br/event/olimpiada-nacional-de-filosofia-onfil-etapa-escolar/
CATEGORIES:Prova de Competição Nacional
ATTACH;FMTTYPE=image/png:https://comunidade-olimpiadas.lidersys.com.br/wp-content/uploads/2025/05/ONFIL.png
END:VEVENT
END:VCALENDAR