BEGIN:VCALENDAR
VERSION:2.0
PRODID:-//Plataforma de Colaboração para Olimpíadas Científicas - ECPv6.15.17//NONSGML v1.0//EN
CALSCALE:GREGORIAN
METHOD:PUBLISH
X-ORIGINAL-URL:https://comunidade-olimpiadas.lidersys.com.br
X-WR-CALDESC:Eventos para Plataforma de Colaboração para Olimpíadas Científicas
REFRESH-INTERVAL;VALUE=DURATION:PT1H
X-Robots-Tag:noindex
X-PUBLISHED-TTL:PT1H
BEGIN:VTIMEZONE
TZID:America/Sao_Paulo
BEGIN:STANDARD
TZOFFSETFROM:-0300
TZOFFSETTO:-0300
TZNAME:-03
DTSTART:20240101T000000
END:STANDARD
END:VTIMEZONE
BEGIN:VEVENT
DTSTART;VALUE=DATE:20250512
DTEND;VALUE=DATE:20250513
DTSTAMP:20260422T045342
CREATED:20250317T124445Z
LAST-MODIFIED:20250630T202558Z
UID:795-1747008000-1747094399@comunidade-olimpiadas.lidersys.com.br
SUMMARY:Olimpíada Nacional em História do Brasil (ONHB) - Início Fase 2
DESCRIPTION:Área temática: \n\nHistória\n\nPúblico-alvo:  \n\nEstudantes do 8° e 9° anos do Ensino Fundamental;\n\nEstudantes do Ensino Médio.\n\nModalidades e fases:  \n\nSeis fases – provas on-line\n\nUma fase – prova final\n\nFinanciamento\, apoio e/ou organização:  \n\nUnicamp; ANPUH; Departamento de História – IFCH/Unicamp; Programa de Pós-graduação em História da Unicamp; SAE Unicamp
URL:https://comunidade-olimpiadas.lidersys.com.br/event/onhb-fase-2/
CATEGORIES:Prova de Competição Nacional
ATTACH;FMTTYPE=image/png:https://comunidade-olimpiadas.lidersys.com.br/wp-content/uploads/2025/03/onc-1.png
END:VEVENT
BEGIN:VEVENT
DTSTART;VALUE=DATE:20250512
DTEND;VALUE=DATE:20250513
DTSTAMP:20260422T045342
CREATED:20250513T002233Z
LAST-MODIFIED:20250701T201352Z
UID:1050-1747008000-1747094399@comunidade-olimpiadas.lidersys.com.br
SUMMARY:Olimpíada Brasileira de Geografia (OBG) - Início de inscrições
DESCRIPTION:Área temática: \n\nGeografia\n\nPúblico-alvo:  \n\nEstudantes do 9° ano do Ensino Fundamental\n\nEstudantes do Ensino Médio\n\nModalidades e fases:  \n\nTrês fases (Estaduais)\n\nUma fase (Nacional)\n\nSeletiva para Olimpíada Internacional:  \n\nInternational Geography Olympiad (iGEO)\n\nFinanciamento\, apoio e/ou organização:  \n\nUNIFAL; FACEPE; CNPq
URL:https://comunidade-olimpiadas.lidersys.com.br/event/obg-inicio-de-inscricoes/
CATEGORIES:Início e Fim de Inscrições
ATTACH;FMTTYPE=image/png:https://comunidade-olimpiadas.lidersys.com.br/wp-content/uploads/2025/05/OBG.png
END:VEVENT
END:VCALENDAR