BEGIN:VCALENDAR
VERSION:2.0
PRODID:-//Plataforma de Colaboração para Olimpíadas Científicas - ECPv6.15.17//NONSGML v1.0//EN
CALSCALE:GREGORIAN
METHOD:PUBLISH
X-WR-CALNAME:Plataforma de Colaboração para Olimpíadas Científicas
X-ORIGINAL-URL:https://comunidade-olimpiadas.lidersys.com.br
X-WR-CALDESC:Eventos para Plataforma de Colaboração para Olimpíadas Científicas
REFRESH-INTERVAL;VALUE=DURATION:PT1H
X-Robots-Tag:noindex
X-PUBLISHED-TTL:PT1H
BEGIN:VTIMEZONE
TZID:America/Sao_Paulo
BEGIN:STANDARD
TZOFFSETFROM:-0300
TZOFFSETTO:-0300
TZNAME:-03
DTSTART:20240101T000000
END:STANDARD
END:VTIMEZONE
BEGIN:VEVENT
DTSTART;VALUE=DATE:20250513
DTEND;VALUE=DATE:20250514
DTSTAMP:20260422T032335
CREATED:20250513T004813Z
LAST-MODIFIED:20250701T202520Z
UID:1090-1747094400-1747180799@comunidade-olimpiadas.lidersys.com.br
SUMMARY:Olimpíada de Matemática das Instituições Federais (OMIF)  - Início Primeira fase
DESCRIPTION:Área temática: \n\nMatemática\n\nPúblico-alvo:  \n\nEstudantes do ensino técnico integrado ao Ensino Médio das instituições da Rede Federal de Educação Profissional\, Científica e Tecnológica\n\nEstudantes do Ensino Médio da Rede Municipal e Estadual e das escolas privadas da região onde ocorre o encontro poderão participar da Feira Científica e Tecnológica\n\nModalidades e fases:  \n\nDuas fases\n\nFinanciamento\, apoio e/ou organização:  \n\nInstitutos Federais; OBM; CNPq; Biênio da Matemática Brasil; IMPA
URL:https://comunidade-olimpiadas.lidersys.com.br/event/omif-primeira-fase/
CATEGORIES:Prova de Competição Nacional
ATTACH;FMTTYPE=image/png:https://comunidade-olimpiadas.lidersys.com.br/wp-content/uploads/2025/05/omif.png
END:VEVENT
END:VCALENDAR