BEGIN:VCALENDAR
VERSION:2.0
PRODID:-//Plataforma de Colaboração para Olimpíadas Científicas - ECPv6.15.17//NONSGML v1.0//EN
CALSCALE:GREGORIAN
METHOD:PUBLISH
X-ORIGINAL-URL:https://comunidade-olimpiadas.lidersys.com.br
X-WR-CALDESC:Eventos para Plataforma de Colaboração para Olimpíadas Científicas
REFRESH-INTERVAL;VALUE=DURATION:PT1H
X-Robots-Tag:noindex
X-PUBLISHED-TTL:PT1H
BEGIN:VTIMEZONE
TZID:America/Sao_Paulo
BEGIN:STANDARD
TZOFFSETFROM:-0300
TZOFFSETTO:-0300
TZNAME:-03
DTSTART:20240101T000000
END:STANDARD
END:VTIMEZONE
BEGIN:VEVENT
DTSTART;VALUE=DATE:20250514
DTEND;VALUE=DATE:20250515
DTSTAMP:20260422T032345
CREATED:20250513T164922Z
LAST-MODIFIED:20250831T125104Z
UID:1329-1747180800-1747267199@comunidade-olimpiadas.lidersys.com.br
SUMMARY:Olimpíada Brasileira de Geopolítica (OBGP) - Fase única
DESCRIPTION:Área temática: \n\nGeopolítica\n\nPúblico-alvo:  \n\nNível 1: Estudantes do 6º e 7º ano;\n\nNível 2: Estudantes do 8º e 9º ano;\n\nNível 3: Estudantes do Ensino Médio e técnico; e\n\nNível Livre: adultos que já concluíram a educação básica.\n\nModalidades e fases:  \n\nFase única\n\nFinanciamento\, apoio e/ou organização:  \n\nSeleta Educação
URL:https://comunidade-olimpiadas.lidersys.com.br/event/obgp-fase-unica/
CATEGORIES:Prova de Competição Nacional
ATTACH;FMTTYPE=image/png:https://comunidade-olimpiadas.lidersys.com.br/wp-content/uploads/2025/05/OBGP.png
END:VEVENT
BEGIN:VEVENT
DTSTART;VALUE=DATE:20250514
DTEND;VALUE=DATE:20250515
DTSTAMP:20260422T032345
CREATED:20250530T170335Z
LAST-MODIFIED:20250831T131233Z
UID:2457-1747180800-1747267199@comunidade-olimpiadas.lidersys.com.br
SUMMARY:Olimpíada Brasileira de Inovação\, Ciência e Tecnologia (OBICT) - Fim Fase 2
DESCRIPTION:Área temática: \nInovação\, Ciência e Tecnologia \nPúblico-alvo:  \n\nCategoria 1: estudantes do 1º ao 5º ano do Ensino Fundamental\nCategoria 2: estudantes do 6º ao 9º ano do Ensino Fundamental\nCategoria 3: estudantes do Ensino Médio ou Técnico\nCategoria 4: aberta a qualquer pessoa\n\nModalidades e fases:  \n\nPrimeira fase – todas categorias\n\nSegunda fase – todas categorias\n\nTerceira fase – categorias 1\, 2\, 3\n\nQuarta fase – categrias 2\, 3\n\nFinanciamento\, apoio e/ou organização:  \n\nJORGE GERDAU JOHANNPETER; RANDONCORP; INSTITUTO MARI JOHANNPETER; Assembleia Legislativa do Estado do Rio Grande do Sul; Ministério Público do Estado do Rio Grande do Sul; Prefeitura de Porto Alegre – RS; Prefeitura de Encantado – RS; Transforma RS; Pacto Pela Educação; MBC – Movimento Brasil Competitivo; Parceiros Voluntários; AEITA; FAMURS; ITA; IPT; EDUSPACE. 
URL:https://comunidade-olimpiadas.lidersys.com.br/event/olimpiada-brasileira-de-inovacao-ciencia-e-tecnologia-obict-fim-fase-2/
CATEGORIES:Prova de Competição Nacional
ATTACH;FMTTYPE=image/png:https://comunidade-olimpiadas.lidersys.com.br/wp-content/uploads/2025/05/obict.png
END:VEVENT
END:VCALENDAR