BEGIN:VCALENDAR
VERSION:2.0
PRODID:-//Plataforma de Colaboração para Olimpíadas Científicas - ECPv6.15.17//NONSGML v1.0//EN
CALSCALE:GREGORIAN
METHOD:PUBLISH
X-ORIGINAL-URL:https://comunidade-olimpiadas.lidersys.com.br
X-WR-CALDESC:Eventos para Plataforma de Colaboração para Olimpíadas Científicas
REFRESH-INTERVAL;VALUE=DURATION:PT1H
X-Robots-Tag:noindex
X-PUBLISHED-TTL:PT1H
BEGIN:VTIMEZONE
TZID:America/Sao_Paulo
BEGIN:STANDARD
TZOFFSETFROM:-0300
TZOFFSETTO:-0300
TZNAME:-03
DTSTART:20240101T000000
END:STANDARD
END:VTIMEZONE
BEGIN:VEVENT
DTSTART;VALUE=DATE:20250516
DTEND;VALUE=DATE:20250517
DTSTAMP:20260422T032344
CREATED:20250317T124333Z
LAST-MODIFIED:20250630T200441Z
UID:780-1747353600-1747439999@comunidade-olimpiadas.lidersys.com.br
SUMMARY:Olimpíada Brasileira de Foguetes (OBAFOG) - Data limite para lançamento de foguetes
DESCRIPTION:Área temática: \n\nAstronomia e astronáutica\n\nPúblico-alvo:  \n\nNÍVEL 01 – estudantes do 1º\, 2º e 3º ano do Ensino Fundamental – Foguete de canudo movido por impulso de ar comprimido;\n\nNÍVEL 02 – estudantes do 4º e 5º ano do Ensino Fundamental – Foguete de papel movido por impulso de ar comprimido;\n\nNÍVEL 03 – estudantes do 6º ao 9º ano do Ensino Fundamental – Foguete de garrafa PET movido com água e ar comprimido;\n\nNÍVEL 04 – estudantes de qualquer série do Ensino Médio – Foguete de garrafa PET movido com vinagre e bicarbonato de sódio;\n\nNÍVEL 05 – estudantes de qualquer série do Ensino Médio – Foguete propulsão sólida; e\n\nNÍVEL 06 – estudantes do 6º ao 9º ano do Ensino Fundamental e estudantes de qualquer série do Ensino Médio- Foguete multiestágio Manual do Mundo.\n\nModalidades e fases:  \n\nFase única\n\nFinanciamento\, apoio e/ou organização:  \n\nCNPq; Deputada Tabata Amaral; Senador Marcos Pontes; Deputado Janones; Deputado Vitor Lippi; Deputado Ismael Alexandrino; Senador Marcos Pontes; BTG pactual; Bizu; Manual do Mundo; Física Total; Astrobiofísica;UERJ; Força Aérea Brasileira; AEB; SAB; MCTI; Governo Federal
URL:https://comunidade-olimpiadas.lidersys.com.br/event/obafog-data-limite-para-lancamento-de-foguetes/
CATEGORIES:Prova de Competição Nacional
ATTACH;FMTTYPE=image/png:https://comunidade-olimpiadas.lidersys.com.br/wp-content/uploads/2025/03/obafog.png
END:VEVENT
BEGIN:VEVENT
DTSTART;VALUE=DATE:20250516
DTEND;VALUE=DATE:20250517
DTSTAMP:20260422T032344
CREATED:20250317T124438Z
LAST-MODIFIED:20250630T195547Z
UID:774-1747353600-1747439999@comunidade-olimpiadas.lidersys.com.br
SUMMARY:Olimpíada Brasileira de Astronomia e Astronáutica (OBA) - Fase única
DESCRIPTION:Área temática: \n\nAstronomia e astronáutica\n\nPúblico-alvo:  \n\nNível 1: estudantes do 1o ao 3o ano do ensino fundamental;\n\nNível 2: estudantes do 4o ao 5o ano do ensino fundamental;\n\nNível 3: estudantes 6o ao 9o ano do ensino fundamental;\n\nNível 4: estudantes do ensino médio.\n\nModalidades e fases:  \n\nFase única\n\nSeletiva para competição internacional  \n\nOlimpíada Internacional de Astronomia e Astrofísica (IOAA); Olimpíada Latino-Americana de Astronomia e Astronáutica (OLAA)\n\nFinanciamento\, apoio e/ou organização:  \n\nCNPq; Deputada Tabata Amaral; Senador Marcos Pontes; Deputado Janones; Deputado Vitor Lippi; Deputado Ismael Alexandrino; Senador Marcos Pontes; BTG pactual; Bizu; Manual do Mundo; Física Total; Astrobiofísica;UERJ; Força Aérea Brasileira; AEB; SAB; MCTI; Governo Federal
URL:https://comunidade-olimpiadas.lidersys.com.br/event/oba-fase-unica/
CATEGORIES:Prova de Competição Nacional
ATTACH;FMTTYPE=image/png:https://comunidade-olimpiadas.lidersys.com.br/wp-content/uploads/2025/03/oba.png
END:VEVENT
END:VCALENDAR