BEGIN:VCALENDAR
VERSION:2.0
PRODID:-//Plataforma de Colaboração para Olimpíadas Científicas - ECPv6.15.17//NONSGML v1.0//EN
CALSCALE:GREGORIAN
METHOD:PUBLISH
X-ORIGINAL-URL:https://comunidade-olimpiadas.lidersys.com.br
X-WR-CALDESC:Eventos para Plataforma de Colaboração para Olimpíadas Científicas
REFRESH-INTERVAL;VALUE=DURATION:PT1H
X-Robots-Tag:noindex
X-PUBLISHED-TTL:PT1H
BEGIN:VTIMEZONE
TZID:America/Sao_Paulo
BEGIN:STANDARD
TZOFFSETFROM:-0300
TZOFFSETTO:-0300
TZNAME:-03
DTSTART:20240101T000000
END:STANDARD
END:VTIMEZONE
BEGIN:VEVENT
DTSTART;VALUE=DATE:20250522
DTEND;VALUE=DATE:20250523
DTSTAMP:20260422T073758
CREATED:20250513T153614Z
LAST-MODIFIED:20250526T183620Z
UID:1263-1747872000-1747958399@comunidade-olimpiadas.lidersys.com.br
SUMMARY:Campeonato Nacional de Física (CNF) - Fim de inscrições
DESCRIPTION:Área temática: \n\nFísica\n\nPúblico-alvo:  \n\nNível 1: 7º ou 8º ano do ensino fundamental\n\nNível 2: 9º ano do ensino fundamental ou 1º ano do ensino médio\n\nNível 3: 2º ou 3º ano do ensino médio ou 4º ano do ensino técnico\n\nNível 4: Estudantes classificados para as Seletivas das Olimpíadas Internacionais de Física (SOIFs) ou que não se enquadram nos níveis anteriores\n\nModalidades e fases:  \n\nFase 1 – Prova teórica\n\nFase 2 – Prova teórica e prova experimental\n\nFase 3 – Prova teórica\n\nFinanciamento:  \n\nAmpulheta do Saber; Somos Educação; Bemol.
URL:https://comunidade-olimpiadas.lidersys.com.br/event/cnf-inicio-de-inscricoes/
CATEGORIES:Início e Fim de Inscrições
ATTACH;FMTTYPE=image/png:https://comunidade-olimpiadas.lidersys.com.br/wp-content/uploads/2025/05/cnf.png
END:VEVENT
BEGIN:VEVENT
DTSTART;VALUE=DATE:20250522
DTEND;VALUE=DATE:20250524
DTSTAMP:20260422T073758
CREATED:20250317T124443Z
LAST-MODIFIED:20250701T201744Z
UID:811-1747872000-1748044799@comunidade-olimpiadas.lidersys.com.br
SUMMARY:Olimpíada Brasileira de Agropecuária (OBAP) - Fase 1
DESCRIPTION:Área temática: \n\nAgropecuária\n\nPúblico-alvo:  \n\nEstudantes do ensino técnico integrado/concomitante e técnico subsequente dos Eixos Tecnológicos: Ambiente e Saúde\, Produção Alimentícia\, Recursos Naturais e áreas afins\n\nModalidades e fases:  \n\nFase virtual\n\nFase presencial – Etapa prática\n\nFase presencial – Etapa teórica\n\nSeletiva para Olimpíada Internacional:  \n\nJá ocorreu participação na International Earth Science Olympiad (IESO)\, mas não é prática anual.\n\nFinanciamento\, apoio e/ou organização:  \n\nIFSULDEMINAS; CNPq; MEC; MCTI
URL:https://comunidade-olimpiadas.lidersys.com.br/event/obap-fase-1/
CATEGORIES:Prova de Competição Nacional
ATTACH;FMTTYPE=image/png:https://comunidade-olimpiadas.lidersys.com.br/wp-content/uploads/2025/03/obap.png
END:VEVENT
END:VCALENDAR