BEGIN:VCALENDAR
VERSION:2.0
PRODID:-//Plataforma de Colaboração para Olimpíadas Científicas - ECPv6.15.17//NONSGML v1.0//EN
CALSCALE:GREGORIAN
METHOD:PUBLISH
X-ORIGINAL-URL:https://comunidade-olimpiadas.lidersys.com.br
X-WR-CALDESC:Eventos para Plataforma de Colaboração para Olimpíadas Científicas
REFRESH-INTERVAL;VALUE=DURATION:PT1H
X-Robots-Tag:noindex
X-PUBLISHED-TTL:PT1H
BEGIN:VTIMEZONE
TZID:America/Sao_Paulo
BEGIN:STANDARD
TZOFFSETFROM:-0300
TZOFFSETTO:-0300
TZNAME:-03
DTSTART:20240101T000000
END:STANDARD
END:VTIMEZONE
BEGIN:VEVENT
DTSTART;VALUE=DATE:20250527
DTEND;VALUE=DATE:20250528
DTSTAMP:20260422T073758
CREATED:20250530T170637Z
LAST-MODIFIED:20250831T131502Z
UID:2461-1748304000-1748390399@comunidade-olimpiadas.lidersys.com.br
SUMMARY:Olimpíada Internacional de Matemática Sem Fronteiras  (OIMSF) - Fim Fase única
DESCRIPTION:Área temática: \n\nMatemática\n\nPúblico-alvo:  \n\nBásico – estudantes do 4o ao 6o. ano do Ensino Fundamental;\n\nJúnior – estudantes do 7o. ao 9o. anos do Ensino Fundamental;\n\nSênior – todas as séries do Ensino Médio.\n\nModalidades e fases:  \n\nFase única\n\nFinanciamento\, apoio e/ou organização:  \n\nAcadémie de Strasbourg; Rede POC; Metodista; Embaixada da França; Consulado Geral da França em São Paulo; Consed; Cenpec
URL:https://comunidade-olimpiadas.lidersys.com.br/event/olimpiada-internacional-de-matematica-sem-fronteiras-oimsf-fim-fase-unica/
CATEGORIES:Prova de Competição Nacional
ATTACH;FMTTYPE=image/png:https://comunidade-olimpiadas.lidersys.com.br/wp-content/uploads/2025/05/oimsf.png
END:VEVENT
BEGIN:VEVENT
DTSTART;VALUE=DATE:20250527
DTEND;VALUE=DATE:20250529
DTSTAMP:20260422T073758
CREATED:20250513T160510Z
LAST-MODIFIED:20250831T124040Z
UID:1303-1748304000-1748476799@comunidade-olimpiadas.lidersys.com.br
SUMMARY:Olimpíada Brasileira de Tecnologia (OBT) - Fase 1 - Prova de programação
DESCRIPTION:Área temática: \n\nTecnologia\n\nPúblico-alvo:  \n\nNível 1: 8º e 9º anos do Ensino Fundamental;\n\nNível 2: 1ª\, 2ª e 3ª série do Ensino Médio.\n\nModalidades e fases:  \n\nPrimeira fase\n\nSegunda fase\n\nDesafio APP (optativo)\n\nFinanciamento\, apoio e/ou organização:  \n\nInstituto Alpha Lumen; MIT Brazil; Cloudwalk
URL:https://comunidade-olimpiadas.lidersys.com.br/event/obt-fase-1-prova-de-programacao/
CATEGORIES:Prova de Competição Nacional
ATTACH;FMTTYPE=image/png:https://comunidade-olimpiadas.lidersys.com.br/wp-content/uploads/2025/05/OBT.png
END:VEVENT
END:VCALENDAR