BEGIN:VCALENDAR
VERSION:2.0
PRODID:-//Plataforma de Colaboração para Olimpíadas Científicas - ECPv6.15.17//NONSGML v1.0//EN
CALSCALE:GREGORIAN
METHOD:PUBLISH
X-WR-CALNAME:Plataforma de Colaboração para Olimpíadas Científicas
X-ORIGINAL-URL:https://comunidade-olimpiadas.lidersys.com.br
X-WR-CALDESC:Eventos para Plataforma de Colaboração para Olimpíadas Científicas
REFRESH-INTERVAL;VALUE=DURATION:PT1H
X-Robots-Tag:noindex
X-PUBLISHED-TTL:PT1H
BEGIN:VTIMEZONE
TZID:America/Sao_Paulo
BEGIN:STANDARD
TZOFFSETFROM:-0300
TZOFFSETTO:-0300
TZNAME:-03
DTSTART:20240101T000000
END:STANDARD
END:VTIMEZONE
BEGIN:VEVENT
DTSTART;VALUE=DATE:20250530
DTEND;VALUE=DATE:20250531
DTSTAMP:20260422T032254
CREATED:20250513T015748Z
LAST-MODIFIED:20250731T191336Z
UID:1144-1748563200-1748649599@comunidade-olimpiadas.lidersys.com.br
SUMMARY:Olimpíada Brasileira de Ciência e Arte da Fundação CECIERJ (OCA) - Fim de inscrições
DESCRIPTION:Área temática: \n\nArte e ciência\n\nPúblico-alvo:  \n\nCategoria I: Estudantes do 4º e 5º anos do ensino fundamental;\n\nCategoria II: Estudantes do 6º e 7º anos do ensino fundamental;\n\nCategoria III: Estudantes do 8º e 9º anos do ensino fundamental.\n\nModalidades e fases:  \n\nTrês fases\n\nFinanciamento\, apoio e/ou organização:  \n\nCEDERJ; Fundação CECIERJ; Secretaria de Ciência\, Tecnologia e Inovação; Governo do Estado do RJ
URL:https://comunidade-olimpiadas.lidersys.com.br/event/oca-fim-de-inscricoes/
CATEGORIES:Início e Fim de Inscrições
ATTACH;FMTTYPE=image/png:https://comunidade-olimpiadas.lidersys.com.br/wp-content/uploads/2025/05/OCA.png
END:VEVENT
BEGIN:VEVENT
DTSTART;VALUE=DATE:20250530
DTEND;VALUE=DATE:20250531
DTSTAMP:20260422T032254
CREATED:20250513T194537Z
LAST-MODIFIED:20250831T131246Z
UID:1424-1748563200-1748649599@comunidade-olimpiadas.lidersys.com.br
SUMMARY:Olimpíada Brasileira de Inovação\, Ciência e Tecnologia (OBICT) - Fase 3
DESCRIPTION:Área temática: \nInovação\, Ciência e Tecnologia \nPúblico-alvo:  \n\nCategoria 1: estudantes do 1º ao 5º ano do Ensino Fundamental\nCategoria 2: estudantes do 6º ao 9º ano do Ensino Fundamental\nCategoria 3: estudantes do Ensino Médio ou Técnico\nCategoria 4: aberta a qualquer pessoa\n\nModalidades e fases:  \n\nPrimeira fase – todas categorias\n\nSegunda fase – todas categorias\n\nTerceira fase – categorias 1\, 2\, 3\n\nQuarta fase – categrias 2\, 3\n\nFinanciamento\, apoio e/ou organização:  \n\nJORGE GERDAU JOHANNPETER; RANDONCORP; INSTITUTO MARI JOHANNPETER; Assembleia Legislativa do Estado do Rio Grande do Sul; Ministério Público do Estado do Rio Grande do Sul; Prefeitura de Porto Alegre – RS; Prefeitura de Encantado – RS; Transforma RS; Pacto Pela Educação; MBC – Movimento Brasil Competitivo; Parceiros Voluntários; AEITA; FAMURS; ITA; IPT; EDUSPACE. 
URL:https://comunidade-olimpiadas.lidersys.com.br/event/obict-fase-3/
CATEGORIES:Prova de Competição Nacional
ATTACH;FMTTYPE=image/png:https://comunidade-olimpiadas.lidersys.com.br/wp-content/uploads/2025/05/obict.png
END:VEVENT
BEGIN:VEVENT
DTSTART;VALUE=DATE:20250530
DTEND;VALUE=DATE:20250531
DTSTAMP:20260422T032254
CREATED:20250526T184515Z
LAST-MODIFIED:20250630T202128Z
UID:1630-1748563200-1748649599@comunidade-olimpiadas.lidersys.com.br
SUMMARY:Olimpíada Brasileira de Química (OBQ) - Fim de inscrições (seletivas estaduais\, exceto MG\, SP e SE)
DESCRIPTION:Área temática: \n\nQuímica\n\nPúblico-alvo:  \n\nModalidade A – estudantes da 1ª e da 2ª série do Ensino Médio;\n\nModalidade B – estudantes das demais séries do Ensino Médio.\n\nModalidades e fases:  \n\nPrimeira etapa – Fase I – seleciona estudantes para a fase II\, ou para a fase III;\n\nPrimeira etapa – Fase II – Olimpíada Estadual;\n\nPrimeira etapa – Fase III – prova teórica em nível nacional.\n\nSegunda etapa – Fase IV – prova teórico-prática em formato de vídeo;\n\nSegunda etapa – Fase V – Curso de Aprofundamento e Excelência em Química;\n\nSegunda etapa – Fase VI – prova de seleção para Olimpíadas Internacionais.\n\nSeletiva para competição internacional  \n\nOlimpíada Internacional de Química (IChO); Olimpíada Ibero-Americana de Química (OIAQ)\n\nFinanciamento\, apoio e/ou organização:  \n\nUFC; UFPI; ABQ; CFQ; ABICLIM; ABICLOR; CNPq; MCTI; MEC
URL:https://comunidade-olimpiadas.lidersys.com.br/event/olimpiadas-de-quimica-obq-fim-de-inscricoes-seletivas-estaduais-exceto-mg-sp-e-se/
CATEGORIES:Início e Fim de Inscrições
ATTACH;FMTTYPE=image/png:https://comunidade-olimpiadas.lidersys.com.br/wp-content/uploads/2025/05/OBQ.png
END:VEVENT
END:VCALENDAR