BEGIN:VCALENDAR
VERSION:2.0
PRODID:-//Plataforma de Colaboração para Olimpíadas Científicas - ECPv6.15.17//NONSGML v1.0//EN
CALSCALE:GREGORIAN
METHOD:PUBLISH
X-WR-CALNAME:Plataforma de Colaboração para Olimpíadas Científicas
X-ORIGINAL-URL:https://comunidade-olimpiadas.lidersys.com.br
X-WR-CALDESC:Eventos para Plataforma de Colaboração para Olimpíadas Científicas
REFRESH-INTERVAL;VALUE=DURATION:PT1H
X-Robots-Tag:noindex
X-PUBLISHED-TTL:PT1H
BEGIN:VTIMEZONE
TZID:America/Sao_Paulo
BEGIN:STANDARD
TZOFFSETFROM:-0300
TZOFFSETTO:-0300
TZNAME:-03
DTSTART:20240101T000000
END:STANDARD
END:VTIMEZONE
BEGIN:VEVENT
DTSTART;VALUE=DATE:20250602
DTEND;VALUE=DATE:20250603
DTSTAMP:20260422T015634
CREATED:20250317T124253Z
LAST-MODIFIED:20250630T202632Z
UID:801-1748822400-1748908799@comunidade-olimpiadas.lidersys.com.br
SUMMARY:Olimpíada Nacional em História do Brasil (ONHB) - Início Fase 5
DESCRIPTION:Área temática: \n\nHistória\n\nPúblico-alvo:  \n\nEstudantes do 8° e 9° anos do Ensino Fundamental;\n\nEstudantes do Ensino Médio.\n\nModalidades e fases:  \n\nSeis fases – provas on-line\n\nUma fase – prova final\n\nFinanciamento\, apoio e/ou organização:  \n\nUnicamp; ANPUH; Departamento de História – IFCH/Unicamp; Programa de Pós-graduação em História da Unicamp; SAE Unicamp
URL:https://comunidade-olimpiadas.lidersys.com.br/event/onhb-fase-5/
CATEGORIES:Prova de Competição Nacional
ATTACH;FMTTYPE=image/png:https://comunidade-olimpiadas.lidersys.com.br/wp-content/uploads/2025/03/onc-1.png
END:VEVENT
BEGIN:VEVENT
DTSTART;VALUE=DATE:20250602
DTEND;VALUE=DATE:20250603
DTSTAMP:20260422T015634
CREATED:20250317T124258Z
LAST-MODIFIED:20250630T193343Z
UID:686-1748822400-1748908799@comunidade-olimpiadas.lidersys.com.br
SUMMARY:Olimpíada Brasileira de Robótica (OBR) - Início Fase 1 (Modalidade teórica - Todos os níveis)
DESCRIPTION:Área temática: \n\nRobótica\n\nPúblico-alvo:  \n\nModalidade prática:\n\nNível 0 – estudantes do 1o\, \, 2º ou 3º anos do Ensino Fundamental – Anos Iniciais (apenas Robótica de Resgate)\n\nNível 1 – estudantes do 1º ao 8° ano do Ensino Fundamental\n\nNível 2 – estudantes do 8º ou 9° ano do Ensino Fundamental; Ensino Médio ou Ensino Técnico-Integrado\n\nLimite de idade: 19 anos\n\nModalidade teórica:\n\nNível 0 – estudantes do 1° ano do Ensino Fundamental – Anos Iniciais\n\nNível 1 – estudantes do 2° ou 3° ano do Ensino Fundamental – Anos Iniciais\n\nNível 2 – estudantes do 4° ou 5° ano do Ensino Fundamental – Anos Iniciais\n\nNível 3 – estudantes do 6° ou 7° ano do Ensino Fundamental – Anos Finais\n\nNível 4 – estudantes do 8° ou 9° ano do Ensino Fundamental – Anos Finais\n\nNível 5 – estudantes de qualquer ano do Ensino Médio ou Técnico\n\nModalidades e fases:  \n\nModalidade prática: Robótica de resgate; Robótica Artística; Robótica Virtual\n\nFase única\n\nModalidade teórica:\n\nDuas fases\, exceto no Nível 0\n\nSeletiva para Olimpíada Internacional:  \n\nRoboCup Mundial; Robocup Jr\n\nFinanciamento\, apoio e/ou organização:  \n\nUFES; UFRN; SESI; UFSJ; UFMS; IFRN; RoboCupJr; RoboCup Brasil; MNR; Competição Brasileira de Robótica; CZ; Governo da Paraíba
URL:https://comunidade-olimpiadas.lidersys.com.br/event/obr-fase-1-modalidade-teorica-todos-os-niveis/
CATEGORIES:Prova de Competição Nacional
ATTACH;FMTTYPE=image/png:https://comunidade-olimpiadas.lidersys.com.br/wp-content/uploads/2025/03/obr.png
END:VEVENT
BEGIN:VEVENT
DTSTART;VALUE=DATE:20250602
DTEND;VALUE=DATE:20250603
DTSTAMP:20260422T015634
CREATED:20250317T124303Z
LAST-MODIFIED:20250630T195258Z
UID:761-1748822400-1748908799@comunidade-olimpiadas.lidersys.com.br
SUMMARY:Olimpíada Brasileira de Neurociências (OBN) - Homologação competidores nacionais
DESCRIPTION:Área temática: \n\nNeurociências\n\nPúblico-alvo:  \n\nEstudantes de Ensino Médio; e\n\nFaixa etária: 14 a 19 anos. \n\nModalidades e fases:  \n\nTrês fases: local\, nacional\, internacional\n\nSeletiva para competição internacional  \n\nInternational Brain Bee\n\nFinanciamento\, apoio e/ou organização:  \n\nCNPq; UFRJ; IBCCF; Simpósio Brasileiro de Neurociências; Ciências e cognição; Censupeg; OBN para graduandos; SBNeC
URL:https://comunidade-olimpiadas.lidersys.com.br/event/obn-homologacao-competidores-nacionais/
CATEGORIES:Início e Fim de Inscrições
ATTACH;FMTTYPE=image/png:https://comunidade-olimpiadas.lidersys.com.br/wp-content/uploads/2025/03/obn.png
END:VEVENT
BEGIN:VEVENT
DTSTART;VALUE=DATE:20250602
DTEND;VALUE=DATE:20250603
DTSTAMP:20260422T015634
CREATED:20250513T020631Z
LAST-MODIFIED:20250830T234129Z
UID:1161-1748822400-1748908799@comunidade-olimpiadas.lidersys.com.br
SUMMARY:Liga de Matemática (LigMat) - Fim de inscrições
DESCRIPTION:Área temática: \n\nMatemática\n\nPúblico-alvo:  \n\nNível 1: Estudantes do 6º ao 7º ano do Ensino Fundamental;\n\nNível 2: Estudantes do 8º ao 9º ano do Ensino Fundamental;\n\nNível 3: Estudantes do Ensino Médio.\n\nModalidades e fases:  \n\nCompetição Nacional: Etapa inicial (Duas rodadas); Etapa final\n\nSuperliga\n\nFinanciamento\, apoio e/ou organização:  \n\nCNPq; BTG Pactual; SBC; AluraStart; Fundação Bhering; Unicamp; IC
URL:https://comunidade-olimpiadas.lidersys.com.br/event/ligmat-fim-de-inscricoes/
CATEGORIES:Início e Fim de Inscrições
ATTACH;FMTTYPE=image/png:https://comunidade-olimpiadas.lidersys.com.br/wp-content/uploads/2025/05/ligmat.png
END:VEVENT
BEGIN:VEVENT
DTSTART;VALUE=DATE:20250602
DTEND;VALUE=DATE:20250603
DTSTAMP:20260422T015634
CREATED:20250513T154817Z
LAST-MODIFIED:20250831T100447Z
UID:1278-1748822400-1748908799@comunidade-olimpiadas.lidersys.com.br
SUMMARY:Cora - Competição de Robôs Autônomos - Início de inscrições
DESCRIPTION:Área temática: \n\nRobótica\n\nPúblico-alvo:  \n\n Seguidor de Linha Avançada: a partir do 9º ano do Ensino Fundamental\, Ensino Médio\, Ensino Técnico e Graduação\n\nSeguidor de Linha Mirim: equipes com alunos do 5º ao 8º ano do Ensino Fundamental\n\nRobô Sumô: equipes com integrantes do Ensino Fundamental\, Ensino Médio\,\n\nEnsino Técnico e Graduação\n\nModalidades e fases:  \n\nSeguidor de Linha Mirim – Arrancada; Classificatórias; Repescagem; Final\n\nSeguidor de Linha Avançado – Arrancada; Classificatórias; Repescagem; Final\n\nRobô Sumô – fase de grupos\, semifinais e etapas de premiação\n\nFinanciamento\, apoio e/ou organização:  \n\nPETEE-UFMG; UFMG
URL:https://comunidade-olimpiadas.lidersys.com.br/event/cora-inicio-de-inscricoes/
CATEGORIES:Início e Fim de Inscrições
ATTACH;FMTTYPE=image/png:https://comunidade-olimpiadas.lidersys.com.br/wp-content/uploads/2025/05/cora.png
END:VEVENT
BEGIN:VEVENT
DTSTART;VALUE=DATE:20250602
DTEND;VALUE=DATE:20250603
DTSTAMP:20260422T015634
CREATED:20250513T170834Z
LAST-MODIFIED:20250831T130259Z
UID:1373-1748822400-1748908799@comunidade-olimpiadas.lidersys.com.br
SUMMARY:Olimpíada Brasileira de Administração (OBADM) - Início Fase única
DESCRIPTION:Área temática: \n\nAdministração\n\nPúblico-alvo:  \n\nEstudantes do Ensino Médio\n\nEstudantes do Ensino Técnico\n\nEstudantes do Ensino Superior\n\nProfissionais\n\nModalidades e fases:  \n\nDuas fases\n\nFinanciamento\, apoio e/ou organização:  \n\nCRA-RJ; BTG Pactual\, Administradores; CIEE-Rio
URL:https://comunidade-olimpiadas.lidersys.com.br/event/obadm-fase-unica/
CATEGORIES:Prova de Competição Nacional
ATTACH;FMTTYPE=image/png:https://comunidade-olimpiadas.lidersys.com.br/wp-content/uploads/2025/05/obadm.png
END:VEVENT
BEGIN:VEVENT
DTSTART;VALUE=DATE:20250602
DTEND;VALUE=DATE:20250603
DTSTAMP:20260422T015634
CREATED:20250831T133848Z
LAST-MODIFIED:20250831T133848Z
UID:3198-1748822400-1748908799@comunidade-olimpiadas.lidersys.com.br
SUMMARY:Olimpíada Brasileira de Educação Financeira (OBEF) - Início de inscrições
DESCRIPTION:Área temática: \n\nEducação Financeira\n\nPúblico-alvo:  \n\nNível 1: estudantes do 2º ano ao 3º ano do ensino fundamental\nNível 2: estudantes do 4º ano ao 5º ano\, do ensino fundamental\nNível 3: estudantes do 6º ano ao 7º ano\, do ensino fundamental\nNível 4: estudantes do 8º ano ao 9º ano\, do ensino fundamental\nNível 5: estudantes do 1º ao 3º ano do ensino médio e 4º ano técnico\n\nModalidades e fases:  \n\nTrês etapas\n\nFinanciamento\, apoio e/ou organização:  \n\nUFPB; CCSA; DFC; Projeto de Extensão para Toda a Vida
URL:https://comunidade-olimpiadas.lidersys.com.br/event/olimpiada-brasileira-de-educacao-financeira-obef-inicio-de-inscricoes/
CATEGORIES:Início e Fim de Inscrições
END:VEVENT
END:VCALENDAR