BEGIN:VCALENDAR
VERSION:2.0
PRODID:-//Plataforma de Colaboração para Olimpíadas Científicas - ECPv6.15.17//NONSGML v1.0//EN
CALSCALE:GREGORIAN
METHOD:PUBLISH
X-WR-CALNAME:Plataforma de Colaboração para Olimpíadas Científicas
X-ORIGINAL-URL:https://comunidade-olimpiadas.lidersys.com.br
X-WR-CALDESC:Eventos para Plataforma de Colaboração para Olimpíadas Científicas
REFRESH-INTERVAL;VALUE=DURATION:PT1H
X-Robots-Tag:noindex
X-PUBLISHED-TTL:PT1H
BEGIN:VTIMEZONE
TZID:America/Sao_Paulo
BEGIN:STANDARD
TZOFFSETFROM:-0300
TZOFFSETTO:-0300
TZNAME:-03
DTSTART:20240101T000000
END:STANDARD
END:VTIMEZONE
BEGIN:VEVENT
DTSTART;VALUE=DATE:20250603
DTEND;VALUE=DATE:20250604
DTSTAMP:20260422T015700
CREATED:20250317T124243Z
LAST-MODIFIED:20250630T193006Z
UID:673-1748908800-1748995199@comunidade-olimpiadas.lidersys.com.br
SUMMARY:Competição Feminina da OBI (CF-OBI) - Início de inscrições
DESCRIPTION:Competição Feminina da Olimpíada Brasileira de Informática \nÁrea temática: \n\nComputação\n\nPúblico-alvo:  \n\nModalidade: Programação – Nível Júnior: competidoras cursando o Ensino Fundamental\n\nModalidade: Programação – Nível 1: competidoras cursando até o primeiro ano do Ensino Médio\n\nModalidade: Programação – Nível 2: competidoras cursando até o terceiro ano do Ensino Médio\n\nModalidades e fases:  \n\nModalidade: Programação\n\nFase única\n\nSeletiva para Olimpíada Internacional:  \n\nOlimpíada Internacional de Informática (IOI); \nOlimpíada Iberoamericana de Informática (OII); \nOlimpíada Europeia de Informática para Garotas (EGOI)\n\nFinanciamento\, apoio e/ou organização:  \n\nCNPq; BTG Pactual; SBC; AluraStart; Fundação Bhering; Unicamp; IC
URL:https://comunidade-olimpiadas.lidersys.com.br/event/cf-obi-inicio-de-inscricoes/
CATEGORIES:Início e Fim de Inscrições
ATTACH;FMTTYPE=image/png:https://comunidade-olimpiadas.lidersys.com.br/wp-content/uploads/2025/03/cfobi.png
END:VEVENT
BEGIN:VEVENT
DTSTART;VALUE=DATE:20250603
DTEND;VALUE=DATE:20250604
DTSTAMP:20260422T015700
CREATED:20250317T124247Z
LAST-MODIFIED:20250630T193726Z
UID:705-1748908800-1748995199@comunidade-olimpiadas.lidersys.com.br
SUMMARY:Olimpíada de Matemática de Escolas Públicas (OBMEP) - Fase 1
DESCRIPTION:Área temática: \n\nMatemática\n\nPúblico-alvo:  \n\nNível 1 – 6º ou 7º ano do Ensino Fundamental;\n\nNível 2 – 8º ou 9º ano do Ensino Fundamental; e\n\nNível 3 – Ensino Médio. \n\nModalidades e fases:  \n\nProva objetiva; prova discursiva\n\nDuas fases\n\nFinanciamento\, apoio e/ou organização:  \n\nCAPES; CNPq; SBM; IMPA; MEC; MCTI
URL:https://comunidade-olimpiadas.lidersys.com.br/event/obmep-fase-1/
CATEGORIES:Prova de Competição Nacional
ATTACH;FMTTYPE=image/png:https://comunidade-olimpiadas.lidersys.com.br/wp-content/uploads/2025/03/obmep.png
END:VEVENT
END:VCALENDAR