BEGIN:VCALENDAR
VERSION:2.0
PRODID:-//Plataforma de Colaboração para Olimpíadas Científicas - ECPv6.15.17//NONSGML v1.0//EN
CALSCALE:GREGORIAN
METHOD:PUBLISH
X-ORIGINAL-URL:https://comunidade-olimpiadas.lidersys.com.br
X-WR-CALDESC:Eventos para Plataforma de Colaboração para Olimpíadas Científicas
REFRESH-INTERVAL;VALUE=DURATION:PT1H
X-Robots-Tag:noindex
X-PUBLISHED-TTL:PT1H
BEGIN:VTIMEZONE
TZID:America/Sao_Paulo
BEGIN:STANDARD
TZOFFSETFROM:-0300
TZOFFSETTO:-0300
TZNAME:-03
DTSTART:20240101T000000
END:STANDARD
END:VTIMEZONE
BEGIN:VEVENT
DTSTART;VALUE=DATE:20250605
DTEND;VALUE=DATE:20250606
DTSTAMP:20260422T015712
CREATED:20250317T124233Z
LAST-MODIFIED:20250630T192605Z
UID:657-1749081600-1749167999@comunidade-olimpiadas.lidersys.com.br
SUMMARY:Olimpíada Brasileira de Informática (OBI) - Início Fase 1 (Iniciação)
DESCRIPTION:Olimpíada Brasileira de Informática \nÁrea temática: \n\nComputação\n\nPúblico-alvo:  \n\nModalidade Iniciação – Nível Júnior – estudantes cursando o quarto ou o quinto ano do Ensino Fundamental;\nModalidade Iniciação – Nível 1 – estudantes cursando o sexto ou o sétimo ano do Ensino Fundamental;\nModalidade Iniciação – Nível 2 – estudantes cursando o oitavo ou o nono ano do Ensino Fundamental;\nModalidade Programação – Nível Júnior – estudantes de qualquer ano do Ensino Fundamental;\nModalidade Programação – Nível 1 – estudantes do Ensino Fundamental e do primeiro ano do Ensino Médio;\nModalidade Programação – Nível 2 – estudantes do Ensino Fundamental e até o terceiro ano do Ensino Médio;\nModalidade Programação – Nível Sênior – estudantes cursando o quarto ano de escolas do Ensino Técnico ou cursando\, pela primeira vez\, o primeiro ano de um curso de graduação;\nLimite de idade: 20 anos.\n\nModalidades e fases:  \n\nModalidade Iniciação e Modalidade Programação\nTrês fases: Local\, Estadual e Nacional.\n\nSeletiva para Olimpíada Internacional:  \n\nOlimpíada Internacional de Informática (IOI);\nOlimpíada Iberoamericana de Informática (OII);\nOlimpíada Europeia de Informática para Garotas (EGOI).\n\nFinanciamento\, apoio e/ou organização:  \n\nCNPq; BTG Pactual; SBC; AluraStart; Fundação Bhering; Unicamp; IC
URL:https://comunidade-olimpiadas.lidersys.com.br/event/obi-fase-1-iniciacao/
CATEGORIES:Prova de Competição Nacional
ATTACH;FMTTYPE=image/png:https://comunidade-olimpiadas.lidersys.com.br/wp-content/uploads/2025/03/Beige-Black-Geometric-Technology-LinkedIn-Banner.png
END:VEVENT
BEGIN:VEVENT
DTSTART;VALUE=DATE:20250605
DTEND;VALUE=DATE:20250606
DTSTAMP:20260422T015712
CREATED:20250513T200712Z
LAST-MODIFIED:20250831T132349Z
UID:1467-1749081600-1749167999@comunidade-olimpiadas.lidersys.com.br
SUMMARY:Olimpíada Brasileira de Empreendedorismo (OBE) - Fim de inscrições
DESCRIPTION:Área temática: \n\nEmpreendedorismo\n\nPúblico-alvo:  \n\nCategoria 1: Estudantes do 6º até o 8º ano do Ensino Fundamental\n\nCategoria 2: Estudantes do 9º ano do Ensino Fundamental até o 3º ano do Ensino Médio\n\nModalidades e fases:  \n\nDuas etapas\n\nFinanciamento\, apoio e/ou organização:  \n\nExpacer
URL:https://comunidade-olimpiadas.lidersys.com.br/event/obe-fim-de-inscricoes/
CATEGORIES:Início e Fim de Inscrições
ATTACH;FMTTYPE=image/png:https://comunidade-olimpiadas.lidersys.com.br/wp-content/uploads/2025/05/OBE.png
END:VEVENT
BEGIN:VEVENT
DTSTART;VALUE=DATE:20250605
DTEND;VALUE=DATE:20250606
DTSTAMP:20260422T015712
CREATED:20250513T200812Z
LAST-MODIFIED:20250831T132343Z
UID:1469-1749081600-1749167999@comunidade-olimpiadas.lidersys.com.br
SUMMARY:Olimpíada Brasileira de Empreendedorismo (OBE) - Fase 1 (Prazo para submissão de projeto)
DESCRIPTION:Área temática: \n\nEmpreendedorismo\n\nPúblico-alvo:  \n\nCategoria 1: Estudantes do 6º até o 8º ano do Ensino Fundamental\n\nCategoria 2: Estudantes do 9º ano do Ensino Fundamental até o 3º ano do Ensino Médio\n\nModalidades e fases:  \n\nDuas etapas\n\nFinanciamento\, apoio e/ou organização:  \n\nExpacer
URL:https://comunidade-olimpiadas.lidersys.com.br/event/obe-fase-1-prazo-para-submissao-de-projeto/
CATEGORIES:Prova de Competição Nacional
ATTACH;FMTTYPE=image/png:https://comunidade-olimpiadas.lidersys.com.br/wp-content/uploads/2025/05/OBE.png
END:VEVENT
BEGIN:VEVENT
DTSTART;VALUE=DATE:20250605
DTEND;VALUE=DATE:20250607
DTSTAMP:20260422T015712
CREATED:20250513T135141Z
LAST-MODIFIED:20250830T234411Z
UID:1187-1749081600-1749254399@comunidade-olimpiadas.lidersys.com.br
SUMMARY:Olimpíada Mandacaru de Matemática - Fase única
DESCRIPTION:Área temática: \n\nMatemática\n\nPúblico-alvo:  \n\nNível Cajuína – estudantes do 4º e 5º anos do Ensino Fundamental;\n\nNível Luiz Gonzaga – estudantes do 6º e 7º anos do Ensino Fundamental;\n\nNível Zumbi dos Palmares – estudantes do 8º e 9º anos do Ensino Fundamental;\n\nNível Lampião – estudantes do Ensino Médio.\n\nModalidades e fases:  \n\nFase única\n\nFinanciamento\, apoio e/ou organização:  \n\nMandacaru Soluções Educacionais
URL:https://comunidade-olimpiadas.lidersys.com.br/event/olimpiada-mandacaru-de-matematica-fase-unica/
CATEGORIES:Prova de Competição Nacional
ATTACH;FMTTYPE=image/png:https://comunidade-olimpiadas.lidersys.com.br/wp-content/uploads/2025/05/Olimpiada-Mandacaru-de-Matematica.png
END:VEVENT
END:VCALENDAR