BEGIN:VCALENDAR
VERSION:2.0
PRODID:-//Plataforma de Colaboração para Olimpíadas Científicas - ECPv6.15.17//NONSGML v1.0//EN
CALSCALE:GREGORIAN
METHOD:PUBLISH
X-WR-CALNAME:Plataforma de Colaboração para Olimpíadas Científicas
X-ORIGINAL-URL:https://comunidade-olimpiadas.lidersys.com.br
X-WR-CALDESC:Eventos para Plataforma de Colaboração para Olimpíadas Científicas
REFRESH-INTERVAL;VALUE=DURATION:PT1H
X-Robots-Tag:noindex
X-PUBLISHED-TTL:PT1H
BEGIN:VTIMEZONE
TZID:America/Sao_Paulo
BEGIN:STANDARD
TZOFFSETFROM:-0300
TZOFFSETTO:-0300
TZNAME:-03
DTSTART:20240101T000000
END:STANDARD
END:VTIMEZONE
BEGIN:VEVENT
DTSTART;VALUE=DATE:20250609
DTEND;VALUE=DATE:20250610
DTSTAMP:20260422T015659
CREATED:20250317T124202Z
LAST-MODIFIED:20250630T202641Z
UID:803-1749427200-1749513599@comunidade-olimpiadas.lidersys.com.br
SUMMARY:Olimpíada Nacional em História do Brasil (ONHB) - Início Fase 6
DESCRIPTION:Área temática: \n\nHistória\n\nPúblico-alvo:  \n\nEstudantes do 8° e 9° anos do Ensino Fundamental;\n\nEstudantes do Ensino Médio.\n\nModalidades e fases:  \n\nSeis fases – provas on-line\n\nUma fase – prova final\n\nFinanciamento\, apoio e/ou organização:  \n\nUnicamp; ANPUH; Departamento de História – IFCH/Unicamp; Programa de Pós-graduação em História da Unicamp; SAE Unicamp
URL:https://comunidade-olimpiadas.lidersys.com.br/event/onhb-fase-6/
CATEGORIES:Prova de Competição Nacional
ATTACH;FMTTYPE=image/png:https://comunidade-olimpiadas.lidersys.com.br/wp-content/uploads/2025/03/onc-1.png
END:VEVENT
BEGIN:VEVENT
DTSTART;VALUE=DATE:20250609
DTEND;VALUE=DATE:20250610
DTSTAMP:20260422T015659
CREATED:20250317T124207Z
LAST-MODIFIED:20250630T192638Z
UID:654-1749427200-1749513599@comunidade-olimpiadas.lidersys.com.br
SUMMARY:Olimpíada Brasileira de Informática (OBI) - Fim de inscrições (Programação - escola)
DESCRIPTION:Olimpíada Brasileira de Informática \nÁrea temática: \n\nComputação\n\nPúblico-alvo:  \n\nModalidade Iniciação – Nível Júnior – estudantes cursando o quarto ou o quinto ano do Ensino Fundamental;\nModalidade Iniciação – Nível 1 – estudantes cursando o sexto ou o sétimo ano do Ensino Fundamental;\nModalidade Iniciação – Nível 2 – estudantes cursando o oitavo ou o nono ano do Ensino Fundamental;\nModalidade Programação – Nível Júnior – estudantes de qualquer ano do Ensino Fundamental;\nModalidade Programação – Nível 1 – estudantes do Ensino Fundamental e do primeiro ano do Ensino Médio;\nModalidade Programação – Nível 2 – estudantes do Ensino Fundamental e até o terceiro ano do Ensino Médio;\nModalidade Programação – Nível Sênior – estudantes cursando o quarto ano de escolas do Ensino Técnico ou cursando\, pela primeira vez\, o primeiro ano de um curso de graduação;\nLimite de idade: 20 anos.\n\nModalidades e fases:  \n\nModalidade Iniciação e Modalidade Programação\nTrês fases: Local\, Estadual e Nacional.\n\nSeletiva para Olimpíada Internacional:  \n\nOlimpíada Internacional de Informática (IOI);\nOlimpíada Iberoamericana de Informática (OII);\nOlimpíada Europeia de Informática para Garotas (EGOI).\n\nFinanciamento\, apoio e/ou organização:  \n\nCNPq; BTG Pactual; SBC; AluraStart; Fundação Bhering; Unicamp; IC
URL:https://comunidade-olimpiadas.lidersys.com.br/event/obi-fim-de-inscricoes-programacao-escola/
CATEGORIES:Início e Fim de Inscrições
ATTACH;FMTTYPE=image/png:https://comunidade-olimpiadas.lidersys.com.br/wp-content/uploads/2025/03/Beige-Black-Geometric-Technology-LinkedIn-Banner.png
END:VEVENT
BEGIN:VEVENT
DTSTART;VALUE=DATE:20250609
DTEND;VALUE=DATE:20250610
DTSTAMP:20260422T015659
CREATED:20250513T001111Z
LAST-MODIFIED:20250630T201522Z
UID:1042-1749427200-1749513599@comunidade-olimpiadas.lidersys.com.br
SUMMARY:Olimpíada Brasileira de Física (OBF) - Fim de inscrições (institucional)
DESCRIPTION:Área temática: \n\nFísica\n\nPúblico-alvo:  \n\nNível Junior: estudantes do 6° ou 7º ano do Ensino Fundamental;\n\nNível I: estudantes do 8º ou 9º ano do Ensino Fundamental;\n\nNível II: estudantes da 1ª ou 2ª serie do Ensino Médio;\n\nNível III: estudantes da 3ª serie do Ensino Médio.\n\nModalidades e fases:  \n\nTrês fases\n\nSeletiva para competição internacional  \n\nInternational Physics Olympiad (IPhO);\n\nOlimpíada Iberoamericana de Física (OIbF);\n\nEuropean Physics Olympiad (EuPhO).\n\nFinanciamento\, apoio e/ou organização:  \n\nSBF; BTG Pactual
URL:https://comunidade-olimpiadas.lidersys.com.br/event/obf-fim-de-inscricoes/
CATEGORIES:Início e Fim de Inscrições
ATTACH;FMTTYPE=image/png:https://comunidade-olimpiadas.lidersys.com.br/wp-content/uploads/2025/05/OBF.png
END:VEVENT
BEGIN:VEVENT
DTSTART;VALUE=DATE:20250609
DTEND;VALUE=DATE:20250610
DTSTAMP:20260422T015659
CREATED:20250513T003330Z
LAST-MODIFIED:20250701T201617Z
UID:1068-1749427200-1749513599@comunidade-olimpiadas.lidersys.com.br
SUMMARY:Olimpíada Brasileira de Cartografia (OBRAC) - Início Etapa II - Fase 1 - Prova prática
DESCRIPTION:Área temática: \n\nCartografia\n\nPúblico-alvo:  \n\nEstudantes do 9° ano do Ensino Fundamental;\n\nEstudantes do Ensino Médio; e\n\nFaixa etária: 13 a 19 anos.\n\nModalidades e fases:  \n\nEtapa 1 – Fase 1 – teste teórico\n\nEtapa 2 – Fases 1 e 2 – teste prático\n\nEtapa 3 – Fase 1 – teste prático presencial\n\nFinanciamento\, apoio e/ou organização:  \n\nCNPq; UFF; PROEX da UFF; LABCART; Revista Tamoios
URL:https://comunidade-olimpiadas.lidersys.com.br/event/obrac-etapa-ii-fase-1-prova-pratica/
CATEGORIES:Prova de Competição Nacional
ATTACH;FMTTYPE=image/png:https://comunidade-olimpiadas.lidersys.com.br/wp-content/uploads/2025/05/OBRAC.png
END:VEVENT
BEGIN:VEVENT
DTSTART;VALUE=DATE:20250609
DTEND;VALUE=DATE:20250610
DTSTAMP:20260422T015659
CREATED:20250513T141805Z
LAST-MODIFIED:20250731T192624Z
UID:1235-1749427200-1749513599@comunidade-olimpiadas.lidersys.com.br
SUMMARY:Olimpíada Itabirana de Matemática (OIM) - Fim de inscrições (escola)
DESCRIPTION:Área temática: \n\nMatemática\n\nPúblico-alvo:  \n\nNível 1: Estudantes matriculados no 6º ou 7º ano do Ensino Fundamental;\n\nNível 2: Estudantes matriculados no 8º ou 9º ano do Ensino Fundamental;\n\nNível 3: Estudantes matriculados em qualquer ano do Ensino Médio.\n\nModalidades e fases:  \n\nDuas fases\n\nEtapa Especial “Elas em Destaque”\n\nFinanciamento\, apoio e/ou organização: \n\nUEMG; IFNMG; AOBM; CNPq; MCTI; FNDCT; Stone
URL:https://comunidade-olimpiadas.lidersys.com.br/event/oim-fim-de-inscricoes-escola/
CATEGORIES:Início e Fim de Inscrições
ATTACH;FMTTYPE=image/png:https://comunidade-olimpiadas.lidersys.com.br/wp-content/uploads/2025/05/OIM.png
END:VEVENT
BEGIN:VEVENT
DTSTART;VALUE=DATE:20250609
DTEND;VALUE=DATE:20250610
DTSTAMP:20260422T015659
CREATED:20250530T130850Z
LAST-MODIFIED:20250831T095740Z
UID:2357-1749427200-1749513599@comunidade-olimpiadas.lidersys.com.br
SUMMARY:Olimpíada Camaleão de Química (OCQ) - Fim Fase 2 [CANCELADA]
DESCRIPTION:Área temática: \n\nQuímica\n\nPúblico-alvo:  \n\nNível A: estudantes do 5° ao 9° ano do Ensino Fundamental;\n\nNível B: estudantes do Ensino Médio;\n\nNível C: pessoas que concluíram o Ensino Médio\, sem restrição de idade (Categoria Livre).\n\nModalidades e fases:  \n\nDuas fases
URL:https://comunidade-olimpiadas.lidersys.com.br/event/olimpiada-camaleao-de-quimica-ocq-fim-fase-2/
CATEGORIES:Prova de Competição Nacional
ATTACH;FMTTYPE=image/png:https://comunidade-olimpiadas.lidersys.com.br/wp-content/uploads/2025/05/OCQ.png
END:VEVENT
BEGIN:VEVENT
DTSTART;VALUE=DATE:20250609
DTEND;VALUE=DATE:20250610
DTSTAMP:20260422T015659
CREATED:20250831T132758Z
LAST-MODIFIED:20250831T132758Z
UID:3185-1749427200-1749513599@comunidade-olimpiadas.lidersys.com.br
SUMMARY:Olimpíada Brasileira de Biologia Sintética (OBBS) - Início de inscrições
DESCRIPTION:Área temática: \n\nBiologia sintética\n\nPúblico-alvo:  \n\nCategoria Regular: estudantes do Ensino Médio\nCategoria Aberta: estudantes do Ensino Fundamental\n\nModalidades e fases:  \n\nDuas fases\n\nFinanciamento\, apoio e/ou organização:  \n\nUNESP; UFABC; UnB; SynBioBR; Instituto Vertere; PROEC/UNESP; CNPq
URL:https://comunidade-olimpiadas.lidersys.com.br/event/olimpiada-brasileira-de-biologia-sintetica-obbs-inicio-de-inscricoes/
CATEGORIES:Início e Fim de Inscrições
END:VEVENT
END:VCALENDAR