BEGIN:VCALENDAR
VERSION:2.0
PRODID:-//Plataforma de Colaboração para Olimpíadas Científicas - ECPv6.15.17//NONSGML v1.0//EN
CALSCALE:GREGORIAN
METHOD:PUBLISH
X-ORIGINAL-URL:https://comunidade-olimpiadas.lidersys.com.br
X-WR-CALDESC:Eventos para Plataforma de Colaboração para Olimpíadas Científicas
REFRESH-INTERVAL;VALUE=DURATION:PT1H
X-Robots-Tag:noindex
X-PUBLISHED-TTL:PT1H
BEGIN:VTIMEZONE
TZID:America/Sao_Paulo
BEGIN:STANDARD
TZOFFSETFROM:-0300
TZOFFSETTO:-0300
TZNAME:-03
DTSTART:20240101T000000
END:STANDARD
END:VTIMEZONE
BEGIN:VEVENT
DTSTART;VALUE=DATE:20250610
DTEND;VALUE=DATE:20250611
DTSTAMP:20260422T015712
CREATED:20250317T124100Z
LAST-MODIFIED:20250630T192652Z
UID:650-1749513600-1749599999@comunidade-olimpiadas.lidersys.com.br
SUMMARY:Olimpíada Brasileira de Informática (OBI) - Fim de inscrições (Programação - competidor/a)
DESCRIPTION:Olimpíada Brasileira de Informática \nÁrea temática: \n\nComputação\n\nPúblico-alvo:  \n\nModalidade Iniciação – Nível Júnior – estudantes cursando o quarto ou o quinto ano do Ensino Fundamental;\nModalidade Iniciação – Nível 1 – estudantes cursando o sexto ou o sétimo ano do Ensino Fundamental;\nModalidade Iniciação – Nível 2 – estudantes cursando o oitavo ou o nono ano do Ensino Fundamental;\nModalidade Programação – Nível Júnior – estudantes de qualquer ano do Ensino Fundamental;\nModalidade Programação – Nível 1 – estudantes do Ensino Fundamental e do primeiro ano do Ensino Médio;\nModalidade Programação – Nível 2 – estudantes do Ensino Fundamental e até o terceiro ano do Ensino Médio;\nModalidade Programação – Nível Sênior – estudantes cursando o quarto ano de escolas do Ensino Técnico ou cursando\, pela primeira vez\, o primeiro ano de um curso de graduação;\nLimite de idade: 20 anos.\n\nModalidades e fases:  \n\nModalidade Iniciação e Modalidade Programação\nTrês fases: Local\, Estadual e Nacional.\n\nSeletiva para Olimpíada Internacional:  \n\nOlimpíada Internacional de Informática (IOI);\nOlimpíada Iberoamericana de Informática (OII);\nOlimpíada Europeia de Informática para Garotas (EGOI).\n\nFinanciamento\, apoio e/ou organização:  \n\nCNPq; BTG Pactual; SBC; AluraStart; Fundação Bhering; Unicamp; IC
URL:https://comunidade-olimpiadas.lidersys.com.br/event/obi-fim-de-inscricoes-programacao-competidor-a/
CATEGORIES:Início e Fim de Inscrições
ATTACH;FMTTYPE=image/png:https://comunidade-olimpiadas.lidersys.com.br/wp-content/uploads/2025/03/Beige-Black-Geometric-Technology-LinkedIn-Banner.png
END:VEVENT
BEGIN:VEVENT
DTSTART;VALUE=DATE:20250610
DTEND;VALUE=DATE:20250611
DTSTAMP:20260422T015712
CREATED:20250513T015842Z
LAST-MODIFIED:20250731T191331Z
UID:1147-1749513600-1749599999@comunidade-olimpiadas.lidersys.com.br
SUMMARY:Olimpíada Brasileira de Ciência e Arte da Fundação CECIERJ (OCA) - Primeira fase - prova objetiva on line
DESCRIPTION:Área temática: \n\nArte e ciência\n\nPúblico-alvo:  \n\nCategoria I: Estudantes do 4º e 5º anos do ensino fundamental;\n\nCategoria II: Estudantes do 6º e 7º anos do ensino fundamental;\n\nCategoria III: Estudantes do 8º e 9º anos do ensino fundamental.\n\nModalidades e fases:  \n\nTrês fases\n\nFinanciamento\, apoio e/ou organização:  \n\nCEDERJ; Fundação CECIERJ; Secretaria de Ciência\, Tecnologia e Inovação; Governo do Estado do RJ
URL:https://comunidade-olimpiadas.lidersys.com.br/event/oca-primeira-fase-prova-objetiva-on-line/
CATEGORIES:Prova de Competição Nacional
ATTACH;FMTTYPE=image/png:https://comunidade-olimpiadas.lidersys.com.br/wp-content/uploads/2025/05/OCA.png
END:VEVENT
BEGIN:VEVENT
DTSTART;VALUE=DATE:20250610
DTEND;VALUE=DATE:20250611
DTSTAMP:20260422T015712
CREATED:20250513T020853Z
LAST-MODIFIED:20250830T234123Z
UID:1163-1749513600-1749599999@comunidade-olimpiadas.lidersys.com.br
SUMMARY:Liga de Matemática (LigMat) - Etapa Inicial - Primeira Rodada
DESCRIPTION:Área temática: \n\nMatemática\n\nPúblico-alvo:  \n\nNível 1: Estudantes do 6º ao 7º ano do Ensino Fundamental;\n\nNível 2: Estudantes do 8º ao 9º ano do Ensino Fundamental;\n\nNível 3: Estudantes do Ensino Médio.\n\nModalidades e fases:  \n\nCompetição Nacional: Etapa inicial (Duas rodadas); Etapa final\n\nSuperliga\n\nFinanciamento\, apoio e/ou organização:  \n\nCNPq; BTG Pactual; SBC; AluraStart; Fundação Bhering; Unicamp; IC
URL:https://comunidade-olimpiadas.lidersys.com.br/event/ligmat-etapa-inicial-primeira-rodada/
CATEGORIES:Prova de Competição Nacional
ATTACH;FMTTYPE=image/png:https://comunidade-olimpiadas.lidersys.com.br/wp-content/uploads/2025/05/ligmat.png
END:VEVENT
BEGIN:VEVENT
DTSTART;VALUE=DATE:20250610
DTEND;VALUE=DATE:20250611
DTSTAMP:20260422T015712
CREATED:20250513T135514Z
LAST-MODIFIED:20250530T130335Z
UID:1195-1749513600-1749599999@comunidade-olimpiadas.lidersys.com.br
SUMMARY:Olimpíada de Matemática da Unicamp (OMU) - Início Fase 2
DESCRIPTION:Área temática: \n\nMatemática\n\nPúblico-alvo:  \n\nNível Alfa – estudantes do 6º ao 9º ano do Ensino Fundamental;\n\nNível Beta – estudantes do Ensino Médio.\n\nModalidades e fases:  \n\nTrês fases em equipes e uma fase Individual\n\nFinanciamento:  \n\nIMECC/UNICAMP
URL:https://comunidade-olimpiadas.lidersys.com.br/event/omu-fase-2/
CATEGORIES:Prova de Competição Nacional
ATTACH;FMTTYPE=image/png:https://comunidade-olimpiadas.lidersys.com.br/wp-content/uploads/2025/05/OMU.png
END:VEVENT
BEGIN:VEVENT
DTSTART;VALUE=DATE:20250610
DTEND;VALUE=DATE:20250611
DTSTAMP:20260422T015712
CREATED:20250513T140624Z
LAST-MODIFIED:20250630T193653Z
UID:1217-1749513600-1749599999@comunidade-olimpiadas.lidersys.com.br
SUMMARY:Olimpíada Mirim OBMEP - Fim de inscrições
DESCRIPTION:Área temática: \n\nMatemática\n\nPúblico-alvo:  \n\nMirim 1 – Estudantes do 2º e 3º anos do Ensino Fundamental;\n\nMirim 2 – Estudantes do 4º e 5º anos do Ensino Fundamental.\n\nModalidades e fases:  \n\nDuas fases\n\nFinanciamento\, apoio e/ou organização:  \n\nCAPES; CNPq; B3 Social; IMPA; MEC; MCTI
URL:https://comunidade-olimpiadas.lidersys.com.br/event/olimpiada-mirim-obmep-fim-de-inscricoes/
CATEGORIES:Início e Fim de Inscrições
ATTACH;FMTTYPE=image/png:https://comunidade-olimpiadas.lidersys.com.br/wp-content/uploads/2025/05/Olimpiada-Mirim-OBMEP.png
END:VEVENT
END:VCALENDAR