BEGIN:VCALENDAR
VERSION:2.0
PRODID:-//Plataforma de Colaboração para Olimpíadas Científicas - ECPv6.15.17//NONSGML v1.0//EN
CALSCALE:GREGORIAN
METHOD:PUBLISH
X-WR-CALNAME:Plataforma de Colaboração para Olimpíadas Científicas
X-ORIGINAL-URL:https://comunidade-olimpiadas.lidersys.com.br
X-WR-CALDESC:Eventos para Plataforma de Colaboração para Olimpíadas Científicas
REFRESH-INTERVAL;VALUE=DURATION:PT1H
X-Robots-Tag:noindex
X-PUBLISHED-TTL:PT1H
BEGIN:VTIMEZONE
TZID:America/Sao_Paulo
BEGIN:STANDARD
TZOFFSETFROM:-0300
TZOFFSETTO:-0300
TZNAME:-03
DTSTART:20240101T000000
END:STANDARD
END:VTIMEZONE
BEGIN:VEVENT
DTSTART;VALUE=DATE:20250611
DTEND;VALUE=DATE:20250612
DTSTAMP:20260422T015631
CREATED:20250513T193307Z
LAST-MODIFIED:20250831T130923Z
UID:1398-1749600000-1749686399@comunidade-olimpiadas.lidersys.com.br
SUMMARY:Olimpíada Brasileira de Língua Inglesa (OBLI) - Fim de inscrições
DESCRIPTION:Área temática: \n\nLíngua Inglesa\n\nPúblico-alvo:  \n\nNível Júnior: 4º e 5º anos do Ensino Fundamental;\n\nNível 1: 6º e 7º anos do Ensino Fundamental;\n\nNível 2: 8º e 9º anos do Ensino Fundamental;\n\nNível 3: Ensino Médio e Técnico; e\n\nNível Livre: adultos e pessoas que concluíram a Educação Básica.\n\nModalidades e fases:  \n\nFase única\n\nFinanciamento\, apoio e/ou organização:  \n\nSeleta Educação
URL:https://comunidade-olimpiadas.lidersys.com.br/event/obli-fim-de-inscricoes/
CATEGORIES:Início e Fim de Inscrições
ATTACH;FMTTYPE=image/png:https://comunidade-olimpiadas.lidersys.com.br/wp-content/uploads/2025/05/OBLI.png
END:VEVENT
END:VCALENDAR