BEGIN:VCALENDAR
VERSION:2.0
PRODID:-//Plataforma de Colaboração para Olimpíadas Científicas - ECPv6.15.17//NONSGML v1.0//EN
CALSCALE:GREGORIAN
METHOD:PUBLISH
X-ORIGINAL-URL:https://comunidade-olimpiadas.lidersys.com.br
X-WR-CALDESC:Eventos para Plataforma de Colaboração para Olimpíadas Científicas
REFRESH-INTERVAL;VALUE=DURATION:PT1H
X-Robots-Tag:noindex
X-PUBLISHED-TTL:PT1H
BEGIN:VTIMEZONE
TZID:America/Sao_Paulo
BEGIN:STANDARD
TZOFFSETFROM:-0300
TZOFFSETTO:-0300
TZNAME:-03
DTSTART:20240101T000000
END:STANDARD
END:VTIMEZONE
BEGIN:VEVENT
DTSTART;VALUE=DATE:20250615
DTEND;VALUE=DATE:20250616
DTSTAMP:20260422T015744
CREATED:20250513T015423Z
LAST-MODIFIED:20250731T190943Z
UID:1136-1749945600-1750031999@comunidade-olimpiadas.lidersys.com.br
SUMMARY:Olimpíada Nacional Feminina de Química (Quimeninas) - Início de inscrições
DESCRIPTION:Área temática: \n\nQuímica\n\nPúblico-alvo:  \n\nMeninas estudantes do 9º ano do Ensino Fundamental ao 2º ano do Ensino Médio\n\nModalidades e fases:  \n\nFase única\n\nFinanciamento\, apoio e/ou organização:  \n\nPNOQ; CFQ; Movimento Meninas Olímpicas
URL:https://comunidade-olimpiadas.lidersys.com.br/event/quimeninas-inicio-de-inscricoes/
CATEGORIES:Início e Fim de Inscrições
ATTACH;FMTTYPE=image/png:https://comunidade-olimpiadas.lidersys.com.br/wp-content/uploads/2025/05/Quimeninas.png
END:VEVENT
BEGIN:VEVENT
DTSTART;VALUE=DATE:20250615
DTEND;VALUE=DATE:20250616
DTSTAMP:20260422T015744
CREATED:20250530T131101Z
LAST-MODIFIED:20250831T095917Z
UID:2361-1749945600-1750031999@comunidade-olimpiadas.lidersys.com.br
SUMMARY:Torneio Virtual de Química (TVQ) - Fim Fase 1
DESCRIPTION:Área temática: \n\nQuímica\n\nPúblico-alvo:  \n\nEstudantes do 9° ano do ensino fundamental\, ensino médio e ensino técnico.\n\nModalidades e fases:  \n\nTrês fases \n\nFinanciamento\, apoio e/ou organização:  \n\nIQ/Unicamp
URL:https://comunidade-olimpiadas.lidersys.com.br/event/torneio-virtual-de-quimica-tvq-fim-fase-1/
CATEGORIES:Prova de Competição Nacional
ATTACH;FMTTYPE=image/png:https://comunidade-olimpiadas.lidersys.com.br/wp-content/uploads/2025/05/TVQ.png
END:VEVENT
END:VCALENDAR