BEGIN:VCALENDAR
VERSION:2.0
PRODID:-//Plataforma de Colaboração para Olimpíadas Científicas - ECPv6.15.17//NONSGML v1.0//EN
CALSCALE:GREGORIAN
METHOD:PUBLISH
X-ORIGINAL-URL:https://comunidade-olimpiadas.lidersys.com.br
X-WR-CALDESC:Eventos para Plataforma de Colaboração para Olimpíadas Científicas
REFRESH-INTERVAL;VALUE=DURATION:PT1H
X-Robots-Tag:noindex
X-PUBLISHED-TTL:PT1H
BEGIN:VTIMEZONE
TZID:America/Sao_Paulo
BEGIN:STANDARD
TZOFFSETFROM:-0300
TZOFFSETTO:-0300
TZNAME:-03
DTSTART:20240101T000000
END:STANDARD
END:VTIMEZONE
BEGIN:VEVENT
DTSTART;VALUE=DATE:20250616
DTEND;VALUE=DATE:20250617
DTSTAMP:20260422T015747
CREATED:20250513T021031Z
LAST-MODIFIED:20250830T234110Z
UID:1167-1750032000-1750118399@comunidade-olimpiadas.lidersys.com.br
SUMMARY:Liga de Matemática (LigMat) - Etapa final
DESCRIPTION:Área temática: \n\nMatemática\n\nPúblico-alvo:  \n\nNível 1: Estudantes do 6º ao 7º ano do Ensino Fundamental;\n\nNível 2: Estudantes do 8º ao 9º ano do Ensino Fundamental;\n\nNível 3: Estudantes do Ensino Médio.\n\nModalidades e fases:  \n\nCompetição Nacional: Etapa inicial (Duas rodadas); Etapa final\n\nSuperliga\n\nFinanciamento\, apoio e/ou organização:  \n\nCNPq; BTG Pactual; SBC; AluraStart; Fundação Bhering; Unicamp; IC
URL:https://comunidade-olimpiadas.lidersys.com.br/event/ligmat-etapa-final/
CATEGORIES:Prova de Competição Nacional
ATTACH;FMTTYPE=image/png:https://comunidade-olimpiadas.lidersys.com.br/wp-content/uploads/2025/05/ligmat.png
END:VEVENT
BEGIN:VEVENT
DTSTART;VALUE=DATE:20250616
DTEND;VALUE=DATE:20250617
DTSTAMP:20260422T015747
CREATED:20250513T141715Z
LAST-MODIFIED:20250731T192631Z
UID:1233-1750032000-1750118399@comunidade-olimpiadas.lidersys.com.br
SUMMARY:Olimpíada Itabirana de Matemática (OIM) - Fim de inscrições
DESCRIPTION:Área temática: \n\nMatemática\n\nPúblico-alvo:  \n\nNível 1: Estudantes matriculados no 6º ou 7º ano do Ensino Fundamental;\n\nNível 2: Estudantes matriculados no 8º ou 9º ano do Ensino Fundamental;\n\nNível 3: Estudantes matriculados em qualquer ano do Ensino Médio.\n\nModalidades e fases:  \n\nDuas fases\n\nEtapa Especial “Elas em Destaque”\n\nFinanciamento\, apoio e/ou organização: \n\nUEMG; IFNMG; AOBM; CNPq; MCTI; FNDCT; Stone
URL:https://comunidade-olimpiadas.lidersys.com.br/event/oim-fim-de-inscricoes/
CATEGORIES:Início e Fim de Inscrições
ATTACH;FMTTYPE=image/png:https://comunidade-olimpiadas.lidersys.com.br/wp-content/uploads/2025/05/OIM.png
END:VEVENT
BEGIN:VEVENT
DTSTART;VALUE=DATE:20250616
DTEND;VALUE=DATE:20250617
DTSTAMP:20260422T015747
CREATED:20250530T130331Z
LAST-MODIFIED:20250530T130331Z
UID:2349-1750032000-1750118399@comunidade-olimpiadas.lidersys.com.br
SUMMARY:Olimpíada de Matemática da Unicamp (OMU) - Fim Fase 2
DESCRIPTION:Área temática: \n\nMatemática\n\nPúblico-alvo:  \n\nNível Alfa – estudantes do 6º ao 9º ano do Ensino Fundamental;\n\nNível Beta – estudantes do Ensino Médio.\n\nModalidades e fases:  \n\nTrês fases em equipes e uma fase Individual\n\nFinanciamento:  \n\nIMECC/UNICAMP
URL:https://comunidade-olimpiadas.lidersys.com.br/event/olimpiada-de-matematica-da-unicamp-omu-fim-fase-2/
CATEGORIES:Prova de Competição Nacional
ATTACH;FMTTYPE=image/png:https://comunidade-olimpiadas.lidersys.com.br/wp-content/uploads/2025/05/OMU.png
END:VEVENT
END:VCALENDAR