BEGIN:VCALENDAR
VERSION:2.0
PRODID:-//Plataforma de Colaboração para Olimpíadas Científicas - ECPv6.15.17//NONSGML v1.0//EN
CALSCALE:GREGORIAN
METHOD:PUBLISH
X-ORIGINAL-URL:https://comunidade-olimpiadas.lidersys.com.br
X-WR-CALDESC:Eventos para Plataforma de Colaboração para Olimpíadas Científicas
REFRESH-INTERVAL;VALUE=DURATION:PT1H
X-Robots-Tag:noindex
X-PUBLISHED-TTL:PT1H
BEGIN:VTIMEZONE
TZID:America/Sao_Paulo
BEGIN:STANDARD
TZOFFSETFROM:-0300
TZOFFSETTO:-0300
TZNAME:-03
DTSTART:20240101T000000
END:STANDARD
END:VTIMEZONE
BEGIN:VEVENT
DTSTART;VALUE=DATE:20250621
DTEND;VALUE=DATE:20250623
DTSTAMP:20260422T015745
CREATED:20250513T154448Z
LAST-MODIFIED:20250526T183455Z
UID:1270-1750464000-1750636799@comunidade-olimpiadas.lidersys.com.br
SUMMARY:Campeonato Nacional de Física (CNF)  - Fase 2 - Prova teórica
DESCRIPTION:Área temática: \n\nFísica\n\nPúblico-alvo:  \n\nNível 1: 7º ou 8º ano do ensino fundamental\n\nNível 2: 9º ano do ensino fundamental ou 1º ano do ensino médio\n\nNível 3: 2º ou 3º ano do ensino médio ou 4º ano do ensino técnico\n\nNível 4: Estudantes classificados para as Seletivas das Olimpíadas Internacionais de Física (SOIFs) ou que não se enquadram nos níveis anteriores\n\nModalidades e fases:  \n\nFase 1 – Prova teórica\n\nFase 2 – Prova teórica e prova experimental\n\nFase 3 – Prova teórica\n\nFinanciamento:  \n\nAmpulheta do Saber; Somos Educação; Bemol.
URL:https://comunidade-olimpiadas.lidersys.com.br/event/cnf-fase-2-prova-teorica/
CATEGORIES:Prova de Competição Nacional
ATTACH;FMTTYPE=image/png:https://comunidade-olimpiadas.lidersys.com.br/wp-content/uploads/2025/05/cnf.png
END:VEVENT
BEGIN:VEVENT
DTSTART;VALUE=DATE:20250622
DTEND;VALUE=DATE:20250624
DTSTAMP:20260422T015745
CREATED:20250513T141902Z
LAST-MODIFIED:20250731T192617Z
UID:1237-1750550400-1750723199@comunidade-olimpiadas.lidersys.com.br
SUMMARY:Olimpíada Itabirana de Matemática (OIM) - Primeira fase - Nível 1
DESCRIPTION:Área temática: \n\nMatemática\n\nPúblico-alvo:  \n\nNível 1: Estudantes matriculados no 6º ou 7º ano do Ensino Fundamental;\n\nNível 2: Estudantes matriculados no 8º ou 9º ano do Ensino Fundamental;\n\nNível 3: Estudantes matriculados em qualquer ano do Ensino Médio.\n\nModalidades e fases:  \n\nDuas fases\n\nEtapa Especial “Elas em Destaque”\n\nFinanciamento\, apoio e/ou organização:  \n\nUEMG; IFNMG; AOBM; CNPq; MCTI; FNDCT; Stone
URL:https://comunidade-olimpiadas.lidersys.com.br/event/oim-primeira-fase-nivel-1/
CATEGORIES:Prova de Competição Nacional
ATTACH;FMTTYPE=image/png:https://comunidade-olimpiadas.lidersys.com.br/wp-content/uploads/2025/05/OIM.png
END:VEVENT
END:VCALENDAR