BEGIN:VCALENDAR
VERSION:2.0
PRODID:-//Plataforma de Colaboração para Olimpíadas Científicas - ECPv6.15.17//NONSGML v1.0//EN
CALSCALE:GREGORIAN
METHOD:PUBLISH
X-ORIGINAL-URL:https://comunidade-olimpiadas.lidersys.com.br
X-WR-CALDESC:Eventos para Plataforma de Colaboração para Olimpíadas Científicas
REFRESH-INTERVAL;VALUE=DURATION:PT1H
X-Robots-Tag:noindex
X-PUBLISHED-TTL:PT1H
BEGIN:VTIMEZONE
TZID:America/Sao_Paulo
BEGIN:STANDARD
TZOFFSETFROM:-0300
TZOFFSETTO:-0300
TZNAME:-03
DTSTART:20240101T000000
END:STANDARD
END:VTIMEZONE
BEGIN:VEVENT
DTSTART;VALUE=DATE:20250704
DTEND;VALUE=DATE:20250705
DTSTAMP:20260422T002958
CREATED:20250513T160655Z
LAST-MODIFIED:20250831T124029Z
UID:1307-1751587200-1751673599@comunidade-olimpiadas.lidersys.com.br
SUMMARY:Olimpíada Brasileira de Tecnologia (OBT)  - Início Fase 2 - Desenvolvimento e envio APP
DESCRIPTION:Área temática: \n\nTecnologia\n\nPúblico-alvo:  \n\nNível 1: 8º e 9º anos do Ensino Fundamental;\n\nNível 2: 1ª\, 2ª e 3ª série do Ensino Médio.\n\nModalidades e fases:  \n\nPrimeira fase\n\nSegunda fase\n\nDesafio APP (optativo)\n\nFinanciamento\, apoio e/ou organização:  \n\nInstituto Alpha Lumen; MIT Brazil; Cloudwalk
URL:https://comunidade-olimpiadas.lidersys.com.br/event/obt-fase-2-desenvolvimento-e-envio-app/
CATEGORIES:Prova de Competição Nacional
ATTACH;FMTTYPE=image/png:https://comunidade-olimpiadas.lidersys.com.br/wp-content/uploads/2025/05/OBT.png
END:VEVENT
BEGIN:VEVENT
DTSTART;VALUE=DATE:20250704
DTEND;VALUE=DATE:20250705
DTSTAMP:20260422T002958
CREATED:20250530T165058Z
LAST-MODIFIED:20250831T130117Z
UID:2429-1751587200-1751673599@comunidade-olimpiadas.lidersys.com.br
SUMMARY:Olimpíada Brasileira do Saber (OBS) - Fim Fase Presencial Global
DESCRIPTION:Área temática: \n\nInterdisciplinar\n\nPúblico-alvo:  \n\nEstudantes do 8º ano do Ensino Fundamental à 3ª série do Ensino Médio;\nIdade máxima: 19 anos.\n\nModalidades e fases:  \n\nFase I\nFase II\nFase presencial\n\nFinanciamento\, apoio e/ou organização:  \n\nLudbecs Educacional; UFMT; UFRRJ; UNESP; Robo Party; ADPRED
URL:https://comunidade-olimpiadas.lidersys.com.br/event/olimpiada-brasileira-do-saber-obs-fim-fase-presencial-global/
CATEGORIES:Prova de Competição Nacional
ATTACH;FMTTYPE=image/png:https://comunidade-olimpiadas.lidersys.com.br/wp-content/uploads/2025/05/OBS.png
END:VEVENT
END:VCALENDAR