BEGIN:VCALENDAR
VERSION:2.0
PRODID:-//Plataforma de Colaboração para Olimpíadas Científicas - ECPv6.15.17//NONSGML v1.0//EN
CALSCALE:GREGORIAN
METHOD:PUBLISH
X-WR-CALNAME:Plataforma de Colaboração para Olimpíadas Científicas
X-ORIGINAL-URL:https://comunidade-olimpiadas.lidersys.com.br
X-WR-CALDESC:Eventos para Plataforma de Colaboração para Olimpíadas Científicas
REFRESH-INTERVAL;VALUE=DURATION:PT1H
X-Robots-Tag:noindex
X-PUBLISHED-TTL:PT1H
BEGIN:VTIMEZONE
TZID:America/Sao_Paulo
BEGIN:STANDARD
TZOFFSETFROM:-0300
TZOFFSETTO:-0300
TZNAME:-03
DTSTART:20240101T000000
END:STANDARD
END:VTIMEZONE
BEGIN:VEVENT
DTSTART;VALUE=DATE:20250712
DTEND;VALUE=DATE:20250713
DTSTAMP:20260422T003000
CREATED:20250528T030319Z
LAST-MODIFIED:20250701T201542Z
UID:1919-1752278400-1752364799@comunidade-olimpiadas.lidersys.com.br
SUMMARY:Olimpíada Brasileira de Cartografia (OBRAC) - Fim Etapa II - Fase 1 - Prova prática
DESCRIPTION:Área temática: \n\nCartografia\n\nPúblico-alvo:  \n\nEstudantes do 9° ano do Ensino Fundamental;\n\nEstudantes do Ensino Médio; e\n\nFaixa etária: 13 a 19 anos.\n\nModalidades e fases:  \n\nEtapa 1 – Fase 1 – teste teórico\n\nEtapa 2 – Fases 1 e 2 – teste prático\n\nEtapa 3 – Fase 1 – teste prático presencial\n\nFinanciamento\, apoio e/ou organização:  \n\nCNPq; UFF; PROEX da UFF; LABCART; Revista Tamoios
URL:https://comunidade-olimpiadas.lidersys.com.br/event/olimpiada-brasileira-de-cartografia-obrac-fim-etapa-ii-fase-1-prova-pratica/
CATEGORIES:Prova de Competição Nacional
ATTACH;FMTTYPE=image/png:https://comunidade-olimpiadas.lidersys.com.br/wp-content/uploads/2025/05/OBRAC.png
END:VEVENT
END:VCALENDAR