BEGIN:VCALENDAR
VERSION:2.0
PRODID:-//Plataforma de Colaboração para Olimpíadas Científicas - ECPv6.15.17//NONSGML v1.0//EN
CALSCALE:GREGORIAN
METHOD:PUBLISH
X-WR-CALNAME:Plataforma de Colaboração para Olimpíadas Científicas
X-ORIGINAL-URL:https://comunidade-olimpiadas.lidersys.com.br
X-WR-CALDESC:Eventos para Plataforma de Colaboração para Olimpíadas Científicas
REFRESH-INTERVAL;VALUE=DURATION:PT1H
X-Robots-Tag:noindex
X-PUBLISHED-TTL:PT1H
BEGIN:VTIMEZONE
TZID:America/Sao_Paulo
BEGIN:STANDARD
TZOFFSETFROM:-0300
TZOFFSETTO:-0300
TZNAME:-03
DTSTART:20240101T000000
END:STANDARD
END:VTIMEZONE
BEGIN:VEVENT
DTSTART;VALUE=DATE:20250805
DTEND;VALUE=DATE:20250806
DTSTAMP:20260421T230405
CREATED:20250317T124024Z
LAST-MODIFIED:20250630T193354Z
UID:688-1754352000-1754438399@comunidade-olimpiadas.lidersys.com.br
SUMMARY:Olimpíada Brasileira de Robótica (OBR) - Fase 2 (Modalidade teórica - Níveis 1 e 2)
DESCRIPTION:Área temática: \n\nRobótica\n\nPúblico-alvo:  \n\nModalidade prática:\n\nNível 0 – estudantes do 1o\, \, 2º ou 3º anos do Ensino Fundamental – Anos Iniciais (apenas Robótica de Resgate)\n\nNível 1 – estudantes do 1º ao 8° ano do Ensino Fundamental\n\nNível 2 – estudantes do 8º ou 9° ano do Ensino Fundamental; Ensino Médio ou Ensino Técnico-Integrado\n\nLimite de idade: 19 anos\n\nModalidade teórica:\n\nNível 0 – estudantes do 1° ano do Ensino Fundamental – Anos Iniciais\n\nNível 1 – estudantes do 2° ou 3° ano do Ensino Fundamental – Anos Iniciais\n\nNível 2 – estudantes do 4° ou 5° ano do Ensino Fundamental – Anos Iniciais\n\nNível 3 – estudantes do 6° ou 7° ano do Ensino Fundamental – Anos Finais\n\nNível 4 – estudantes do 8° ou 9° ano do Ensino Fundamental – Anos Finais\n\nNível 5 – estudantes de qualquer ano do Ensino Médio ou Técnico\n\nModalidades e fases:  \n\nModalidade prática: Robótica de resgate; Robótica Artística; Robótica Virtual\n\nFase única\n\nModalidade teórica:\n\nDuas fases\, exceto no Nível 0\n\nSeletiva para Olimpíada Internacional:  \n\nRoboCup Mundial; Robocup Jr\n\nFinanciamento\, apoio e/ou organização:  \n\nUFES; UFRN; SESI; UFSJ; UFMS; IFRN; RoboCupJr; RoboCup Brasil; MNR; Competição Brasileira de Robótica; CZ; Governo da Paraíba
URL:https://comunidade-olimpiadas.lidersys.com.br/event/obr-fase-2-modalidade-teorica-niveis-1-e-2/
CATEGORIES:Prova de Competição Nacional
ATTACH;FMTTYPE=image/png:https://comunidade-olimpiadas.lidersys.com.br/wp-content/uploads/2025/03/obr.png
END:VEVENT
BEGIN:VEVENT
DTSTART;VALUE=DATE:20250805
DTEND;VALUE=DATE:20250806
DTSTAMP:20260421T230405
CREATED:20250513T002512Z
LAST-MODIFIED:20250701T201338Z
UID:1054-1754352000-1754438399@comunidade-olimpiadas.lidersys.com.br
SUMMARY:Olimpíada Brasileira de Geografia (OBG) - Início Fase 1
DESCRIPTION:Área temática: \n\nGeografia\n\nPúblico-alvo:  \n\nEstudantes do 9° ano do Ensino Fundamental\n\nEstudantes do Ensino Médio\n\nModalidades e fases:  \n\nTrês fases (Estaduais)\n\nUma fase (Nacional)\n\nSeletiva para Olimpíada Internacional:  \n\nInternational Geography Olympiad (iGEO)\n\nFinanciamento\, apoio e/ou organização:  \n\nUNIFAL; FACEPE; CNPq
URL:https://comunidade-olimpiadas.lidersys.com.br/event/obg-fase-1/
CATEGORIES:Prova de Competição Nacional
ATTACH;FMTTYPE=image/png:https://comunidade-olimpiadas.lidersys.com.br/wp-content/uploads/2025/05/OBG.png
END:VEVENT
BEGIN:VEVENT
DTSTART;VALUE=DATE:20250805
DTEND;VALUE=DATE:20250806
DTSTAMP:20260421T230405
CREATED:20250513T141349Z
LAST-MODIFIED:20250831T095752Z
UID:1225-1754352000-1754438399@comunidade-olimpiadas.lidersys.com.br
SUMMARY:Olimpíada Camaleão de Química (OCQ) - Fim de inscrições [CANCELADA]
DESCRIPTION:Área temática: \n\nQuímica\n\nPúblico-alvo:  \n\nNível A: estudantes do 5° ao 9° ano do Ensino Fundamental;\n\nNível B: estudantes do Ensino Médio;\n\nNível C: pessoas que concluíram o Ensino Médio\, sem restrição de idade (Categoria Livre).\n\nModalidades e fases:  \n\nDuas fases
URL:https://comunidade-olimpiadas.lidersys.com.br/event/ocq-fim-de-inscricoes/
CATEGORIES:Início e Fim de Inscrições
ATTACH;FMTTYPE=image/png:https://comunidade-olimpiadas.lidersys.com.br/wp-content/uploads/2025/05/OCQ.png
END:VEVENT
END:VCALENDAR