BEGIN:VCALENDAR
VERSION:2.0
PRODID:-//Plataforma de Colaboração para Olimpíadas Científicas - ECPv6.15.17//NONSGML v1.0//EN
CALSCALE:GREGORIAN
METHOD:PUBLISH
X-WR-CALNAME:Plataforma de Colaboração para Olimpíadas Científicas
X-ORIGINAL-URL:https://comunidade-olimpiadas.lidersys.com.br
X-WR-CALDESC:Eventos para Plataforma de Colaboração para Olimpíadas Científicas
REFRESH-INTERVAL;VALUE=DURATION:PT1H
X-Robots-Tag:noindex
X-PUBLISHED-TTL:PT1H
BEGIN:VTIMEZONE
TZID:America/Sao_Paulo
BEGIN:STANDARD
TZOFFSETFROM:-0300
TZOFFSETTO:-0300
TZNAME:-03
DTSTART:20240101T000000
END:STANDARD
END:VTIMEZONE
BEGIN:VEVENT
DTSTART;VALUE=DATE:20250808
DTEND;VALUE=DATE:20250809
DTSTAMP:20260421T225826
CREATED:20250317T123955Z
LAST-MODIFIED:20250630T192721Z
UID:661-1754611200-1754697599@comunidade-olimpiadas.lidersys.com.br
SUMMARY:Olimpíada Brasileira de Informática (OBI) - Fase 2 (Iniciação)
DESCRIPTION:Olimpíada Brasileira de Informática \nÁrea temática: \n\nComputação\n\nPúblico-alvo:  \n\nModalidade Iniciação – Nível Júnior – estudantes cursando o quarto ou o quinto ano do Ensino Fundamental;\nModalidade Iniciação – Nível 1 – estudantes cursando o sexto ou o sétimo ano do Ensino Fundamental;\nModalidade Iniciação – Nível 2 – estudantes cursando o oitavo ou o nono ano do Ensino Fundamental;\nModalidade Programação – Nível Júnior – estudantes de qualquer ano do Ensino Fundamental;\nModalidade Programação – Nível 1 – estudantes do Ensino Fundamental e do primeiro ano do Ensino Médio;\nModalidade Programação – Nível 2 – estudantes do Ensino Fundamental e até o terceiro ano do Ensino Médio;\nModalidade Programação – Nível Sênior – estudantes cursando o quarto ano de escolas do Ensino Técnico ou cursando\, pela primeira vez\, o primeiro ano de um curso de graduação;\nLimite de idade: 20 anos.\n\nModalidades e fases:  \n\nModalidade Iniciação e Modalidade Programação\nTrês fases: Local\, Estadual e Nacional.\n\nSeletiva para Olimpíada Internacional:  \n\nOlimpíada Internacional de Informática (IOI);\nOlimpíada Iberoamericana de Informática (OII);\nOlimpíada Europeia de Informática para Garotas (EGOI).\n\nFinanciamento\, apoio e/ou organização:  \n\nCNPq; BTG Pactual; SBC; AluraStart; Fundação Bhering; Unicamp; IC
URL:https://comunidade-olimpiadas.lidersys.com.br/event/obi-fase-2-iniciacao/
CATEGORIES:Prova de Competição Nacional
ATTACH;FMTTYPE=image/png:https://comunidade-olimpiadas.lidersys.com.br/wp-content/uploads/2025/03/Beige-Black-Geometric-Technology-LinkedIn-Banner.png
END:VEVENT
BEGIN:VEVENT
DTSTART;VALUE=DATE:20250808
DTEND;VALUE=DATE:20250809
DTSTAMP:20260421T225826
CREATED:20250528T024853Z
LAST-MODIFIED:20250701T201310Z
UID:1897-1754611200-1754697599@comunidade-olimpiadas.lidersys.com.br
SUMMARY:Olimpíada Brasileira de Geografia (OBG) - Fim Fase 1
DESCRIPTION:Área temática: \n\nGeografia\n\nPúblico-alvo:  \n\nEstudantes do 9° ano do Ensino Fundamental\n\nEstudantes do Ensino Médio\n\nModalidades e fases:  \n\nTrês fases (Estaduais)\n\nUma fase (Nacional)\n\nSeletiva para Olimpíada Internacional:  \n\nInternational Geography Olympiad (iGEO)\n\nFinanciamento\, apoio e/ou organização:  \n\nUNIFAL; FACEPE; CNPq
URL:https://comunidade-olimpiadas.lidersys.com.br/event/olimpiada-brasileira-de-geografia-obg-fim-fase-1/
CATEGORIES:Prova de Competição Nacional
ATTACH;FMTTYPE=image/png:https://comunidade-olimpiadas.lidersys.com.br/wp-content/uploads/2025/05/OBG.png
END:VEVENT
BEGIN:VEVENT
DTSTART;VALUE=DATE:20250808
DTEND;VALUE=DATE:20250809
DTSTAMP:20260421T225826
CREATED:20250831T145506Z
LAST-MODIFIED:20250831T145506Z
UID:3247-1754611200-1754697599@comunidade-olimpiadas.lidersys.com.br
SUMMARY:Olimpíada Brasileira On Line de Astronomia (OBOA) - Fim de Inscrições
DESCRIPTION:Área temática: \n\nAstronomia\n\nPúblico-alvo:  \n\nNível João Steiner – estudantes do 8º e 9º ano do Ensino Fundamental\nNível Rubens de Azevedo – estudantes do Ensino Médio\nCategoria aberta – aberta a qualquer pessoa\n\nModalidades e fases:  \n\nDuas fases\n\nFinanciamento\, apoio e/ou organização:  \n\nNOIC; ABF AstroBioFísica
URL:https://comunidade-olimpiadas.lidersys.com.br/event/olimpiada-brasileira-on-line-de-astronomia-oboa-fim-de-inscricoes/
CATEGORIES:Início e Fim de Inscrições
END:VEVENT
END:VCALENDAR