BEGIN:VCALENDAR
VERSION:2.0
PRODID:-//Plataforma de Colaboração para Olimpíadas Científicas - ECPv6.15.17//NONSGML v1.0//EN
CALSCALE:GREGORIAN
METHOD:PUBLISH
X-ORIGINAL-URL:https://comunidade-olimpiadas.lidersys.com.br
X-WR-CALDESC:Eventos para Plataforma de Colaboração para Olimpíadas Científicas
REFRESH-INTERVAL;VALUE=DURATION:PT1H
X-Robots-Tag:noindex
X-PUBLISHED-TTL:PT1H
BEGIN:VTIMEZONE
TZID:America/Sao_Paulo
BEGIN:STANDARD
TZOFFSETFROM:-0300
TZOFFSETTO:-0300
TZNAME:-03
DTSTART:20240101T000000
END:STANDARD
END:VTIMEZONE
BEGIN:VEVENT
DTSTART;VALUE=DATE:20250812
DTEND;VALUE=DATE:20250813
DTSTAMP:20260421T230537
CREATED:20250317T123946Z
LAST-MODIFIED:20250630T194912Z
UID:735-1754956800-1755043199@comunidade-olimpiadas.lidersys.com.br
SUMMARY:Olimpíada Nacional de Ciências (ONC) - Fim de inscrições
DESCRIPTION:Área temática: \n\nCiências\n\nPúblico-alvo:  \n\nEnsino Fundamental I (3º\, 4º e 5º anos); fundamental II (6º\, 7º\, 8º ou 9º ano); no Ensino Médio (1ª\, 2ª ou 3ª série); e estudantes da 4ª série do Ensino Técnico; EJANível Kids\, correspondente a estudantes do 3º\, 4º e 5º anos do ensino fundamental;\n\nNível A – estudantes do 6º e 7º ano do Ensino Fundamental;\n\nNível B – estudantes do 8º e 9º ano do Ensino Fundamental;\n\nNível C – estudantes da 1ª série do Ensino Médio;\n\nNível D – estudantes da 2ª série do Ensino Médio; e\n\nNível E – estudantes da 3ª série do Ensino Médio e 4ª série do Ensino Técnico;\n\nModalidades e fases:  \nDuas fases \nFinanciamento\, apoio e/ou organização:  \n\nUFPI; MCTI; ABQ; Departamento de História da Unicamp; Instituto Butantan; SAB; SBF; FADEX; UNFPA; UFMA; CLA; Petrobrás
URL:https://comunidade-olimpiadas.lidersys.com.br/event/onc-fim-de-inscricoes/
CATEGORIES:Início e Fim de Inscrições
ATTACH;FMTTYPE=image/png:https://comunidade-olimpiadas.lidersys.com.br/wp-content/uploads/2025/03/onc.png
END:VEVENT
BEGIN:VEVENT
DTSTART;VALUE=DATE:20250812
DTEND;VALUE=DATE:20250813
DTSTAMP:20260421T230537
CREATED:20250513T002616Z
LAST-MODIFIED:20250701T201331Z
UID:1056-1754956800-1755043199@comunidade-olimpiadas.lidersys.com.br
SUMMARY:Olimpíada Brasileira de Geografia (OBG) - Início Fase 2
DESCRIPTION:Área temática: \n\nGeografia\n\nPúblico-alvo:  \n\nEstudantes do 9° ano do Ensino Fundamental\n\nEstudantes do Ensino Médio\n\nModalidades e fases:  \n\nTrês fases (Estaduais)\n\nUma fase (Nacional)\n\nSeletiva para Olimpíada Internacional:  \n\nInternational Geography Olympiad (iGEO)\n\nFinanciamento\, apoio e/ou organização:  \n\nUNIFAL; FACEPE; CNPq
URL:https://comunidade-olimpiadas.lidersys.com.br/event/obg-fase-2/
CATEGORIES:Prova de Competição Nacional
ATTACH;FMTTYPE=image/png:https://comunidade-olimpiadas.lidersys.com.br/wp-content/uploads/2025/05/OBG.png
END:VEVENT
BEGIN:VEVENT
DTSTART;VALUE=DATE:20250812
DTEND;VALUE=DATE:20250813
DTSTAMP:20260421T230537
CREATED:20250513T010243Z
LAST-MODIFIED:20250731T185531Z
UID:1114-1754956800-1755043199@comunidade-olimpiadas.lidersys.com.br
SUMMARY:Olimpíada Brasileira de Física das Escolas Públicas (OBFEP) - Primeira fase (Escola)
DESCRIPTION:Área temática: \n\nFísica\n\nPúblico-alvo:  \n\nNível A: Estudantes do 9º ano do Ensino Fundamental\n\nNível B: Estudantes da 1ª e 2ª séries do Ensino Médio\n\nNível C: Estudantes da 3ª série e 4ª séries (onde houver) do Ensino Médio\n\nModalidades e fases:  \n\nDuas fases\n\nSeletiva para Olimpíada Internacional:  \n\nInternational Physics Olympiad (IPhO);\n\nOlimpíada Iberoamericana de Física (OIbF)\n\nFinanciamento\, apoio e/ou organização:  \n\nSBF; CNPq; FNDCT; MCTI; Governo Federal; MEC; POP Ciência; CAPES
URL:https://comunidade-olimpiadas.lidersys.com.br/event/obfep-primeira-fase-escola/
CATEGORIES:Prova de Competição Nacional
ATTACH;FMTTYPE=image/png:https://comunidade-olimpiadas.lidersys.com.br/wp-content/uploads/2025/05/OBFEP.png
END:VEVENT
BEGIN:VEVENT
DTSTART;VALUE=DATE:20250812
DTEND;VALUE=DATE:20250813
DTSTAMP:20260421T230537
CREATED:20250513T142132Z
LAST-MODIFIED:20250731T192555Z
UID:1243-1754956800-1755043199@comunidade-olimpiadas.lidersys.com.br
SUMMARY:Olimpíada Itabirana de Matemática (OIM) - Segunda fase
DESCRIPTION:Área temática: \n\nMatemática\n\nPúblico-alvo:  \n\nNível 1: Estudantes matriculados no 6º ou 7º ano do Ensino Fundamental;\n\nNível 2: Estudantes matriculados no 8º ou 9º ano do Ensino Fundamental;\n\nNível 3: Estudantes matriculados em qualquer ano do Ensino Médio.\n\nModalidades e fases:  \n\nDuas fases\n\nEtapa Especial “Elas em Destaque”\n\nFinanciamento\, apoio e/ou organização:  \n\nUEMG; IFNMG; AOBM; CNPq; MCTI; FNDCT; Stone
URL:https://comunidade-olimpiadas.lidersys.com.br/event/oim-segunda-fase/
CATEGORIES:Prova de Competição Nacional
ATTACH;FMTTYPE=image/png:https://comunidade-olimpiadas.lidersys.com.br/wp-content/uploads/2025/05/OIM.png
END:VEVENT
BEGIN:VEVENT
DTSTART;VALUE=DATE:20250812
DTEND;VALUE=DATE:20250813
DTSTAMP:20260421T230537
CREATED:20250831T140841Z
LAST-MODIFIED:20250831T140842Z
UID:3204-1754956800-1755043199@comunidade-olimpiadas.lidersys.com.br
SUMMARY:Olimpíada Brasileira de Educação Financeira (OBEF) - Primeira fase - Nível 2
DESCRIPTION:Área temática: \n\nEducação Financeira\n\nPúblico-alvo:  \n\nNível 1: estudantes do 2º ano ao 3º ano do ensino fundamental\nNível 2: estudantes do 4º ano ao 5º ano\, do ensino fundamental\nNível 3: estudantes do 6º ano ao 7º ano\, do ensino fundamental\nNível 4: estudantes do 8º ano ao 9º ano\, do ensino fundamental\nNível 5: estudantes do 1º ao 3º ano do ensino médio e 4º ano técnico\n\nModalidades e fases:  \n\nTrês etapas\n\nFinanciamento\, apoio e/ou organização:  \n\nUFPB; CCSA; DFC; Projeto de Extensão para Toda a Vida
URL:https://comunidade-olimpiadas.lidersys.com.br/event/olimpiada-brasileira-de-educacao-financeira-obef-primeira-fase-nivel-2/
CATEGORIES:Prova de Competição Nacional
END:VEVENT
END:VCALENDAR