BEGIN:VCALENDAR
VERSION:2.0
PRODID:-//Plataforma de Colaboração para Olimpíadas Científicas - ECPv6.15.17//NONSGML v1.0//EN
CALSCALE:GREGORIAN
METHOD:PUBLISH
X-WR-CALNAME:Plataforma de Colaboração para Olimpíadas Científicas
X-ORIGINAL-URL:https://comunidade-olimpiadas.lidersys.com.br
X-WR-CALDESC:Eventos para Plataforma de Colaboração para Olimpíadas Científicas
REFRESH-INTERVAL;VALUE=DURATION:PT1H
X-Robots-Tag:noindex
X-PUBLISHED-TTL:PT1H
BEGIN:VTIMEZONE
TZID:America/Sao_Paulo
BEGIN:STANDARD
TZOFFSETFROM:-0300
TZOFFSETTO:-0300
TZNAME:-03
DTSTART:20240101T000000
END:STANDARD
END:VTIMEZONE
BEGIN:VEVENT
DTSTART;VALUE=DATE:20250813
DTEND;VALUE=DATE:20250814
DTSTAMP:20260421T230512
CREATED:20250317T123938Z
LAST-MODIFIED:20250701T201750Z
UID:813-1755043200-1755129599@comunidade-olimpiadas.lidersys.com.br
SUMMARY:Olimpíada Brasileira de Agropecuária (OBAP) - Fase 2
DESCRIPTION:Área temática: \n\nAgropecuária\n\nPúblico-alvo:  \n\nEstudantes do ensino técnico integrado/concomitante e técnico subsequente dos Eixos Tecnológicos: Ambiente e Saúde\, Produção Alimentícia\, Recursos Naturais e áreas afins\n\nModalidades e fases:  \n\nFase virtual\n\nFase presencial – Etapa prática\n\nFase presencial – Etapa teórica\n\nSeletiva para Olimpíada Internacional:  \n\nJá ocorreu participação na International Earth Science Olympiad (IESO)\, mas não é prática anual.\n\nFinanciamento\, apoio e/ou organização:  \n\nIFSULDEMINAS; CNPq; MEC; MCTI
URL:https://comunidade-olimpiadas.lidersys.com.br/event/obap-fase-2/
CATEGORIES:Prova de Competição Nacional
ATTACH;FMTTYPE=image/png:https://comunidade-olimpiadas.lidersys.com.br/wp-content/uploads/2025/03/obap.png
END:VEVENT
BEGIN:VEVENT
DTSTART;VALUE=DATE:20250813
DTEND;VALUE=DATE:20250814
DTSTAMP:20260421T230512
CREATED:20250513T142226Z
LAST-MODIFIED:20250731T192546Z
UID:1245-1755043200-1755129599@comunidade-olimpiadas.lidersys.com.br
SUMMARY:Olimpíada Itabirana de Matemática (OIM) -  Etapa Especial "Elas em destaque"
DESCRIPTION:Área temática: \n\nMatemática\n\nPúblico-alvo:  \n\nNível 1: Estudantes matriculados no 6º ou 7º ano do Ensino Fundamental;\n\nNível 2: Estudantes matriculados no 8º ou 9º ano do Ensino Fundamental;\n\nNível 3: Estudantes matriculados em qualquer ano do Ensino Médio.\n\nModalidades e fases:  \n\nDuas fases\n\nEtapa Especial “Elas em Destaque”\n\nFinanciamento\, apoio e/ou organização: \n\nUEMG; IFNMG; AOBM; CNPq; MCTI; FNDCT; Stone
URL:https://comunidade-olimpiadas.lidersys.com.br/event/oim-etapa-especial-elas-em-destaque/
CATEGORIES:Prova de Competição Nacional
ATTACH;FMTTYPE=image/png:https://comunidade-olimpiadas.lidersys.com.br/wp-content/uploads/2025/05/OIM.png
END:VEVENT
BEGIN:VEVENT
DTSTART;VALUE=DATE:20250813
DTEND;VALUE=DATE:20250814
DTSTAMP:20260421T230512
CREATED:20250831T140942Z
LAST-MODIFIED:20250831T140942Z
UID:3206-1755043200-1755129599@comunidade-olimpiadas.lidersys.com.br
SUMMARY:Olimpíada Brasileira de Educação Financeira (OBEF) - Primeira fase - Nível 3
DESCRIPTION:Área temática: \n\nEducação Financeira\n\nPúblico-alvo:  \n\nNível 1: estudantes do 2º ano ao 3º ano do ensino fundamental\nNível 2: estudantes do 4º ano ao 5º ano\, do ensino fundamental\nNível 3: estudantes do 6º ano ao 7º ano\, do ensino fundamental\nNível 4: estudantes do 8º ano ao 9º ano\, do ensino fundamental\nNível 5: estudantes do 1º ao 3º ano do ensino médio e 4º ano técnico\n\nModalidades e fases:  \n\nTrês etapas\n\nFinanciamento\, apoio e/ou organização:  \n\nUFPB; CCSA; DFC; Projeto de Extensão para Toda a Vida
URL:https://comunidade-olimpiadas.lidersys.com.br/event/olimpiada-brasileira-de-educacao-financeira-obef-primeira-fase-nivel-3/
CATEGORIES:Prova de Competição Nacional
END:VEVENT
END:VCALENDAR