BEGIN:VCALENDAR
VERSION:2.0
PRODID:-//Plataforma de Colaboração para Olimpíadas Científicas - ECPv6.15.17//NONSGML v1.0//EN
CALSCALE:GREGORIAN
METHOD:PUBLISH
X-ORIGINAL-URL:https://comunidade-olimpiadas.lidersys.com.br
X-WR-CALDESC:Eventos para Plataforma de Colaboração para Olimpíadas Científicas
REFRESH-INTERVAL;VALUE=DURATION:PT1H
X-Robots-Tag:noindex
X-PUBLISHED-TTL:PT1H
BEGIN:VTIMEZONE
TZID:America/Sao_Paulo
BEGIN:STANDARD
TZOFFSETFROM:-0300
TZOFFSETTO:-0300
TZNAME:-03
DTSTART:20240101T000000
END:STANDARD
END:VTIMEZONE
BEGIN:VEVENT
DTSTART;VALUE=DATE:20250814
DTEND;VALUE=DATE:20250817
DTSTAMP:20260421T230537
CREATED:20250317T123926Z
LAST-MODIFIED:20250630T194920Z
UID:737-1755129600-1755388799@comunidade-olimpiadas.lidersys.com.br
SUMMARY:Olimpíada Nacional de Ciências (ONC) - Fase 1
DESCRIPTION:Área temática: \n\nCiências\n\nPúblico-alvo:  \n\nEnsino Fundamental I (3º\, 4º e 5º anos); fundamental II (6º\, 7º\, 8º ou 9º ano); no Ensino Médio (1ª\, 2ª ou 3ª série); e estudantes da 4ª série do Ensino Técnico; EJANível Kids\, correspondente a estudantes do 3º\, 4º e 5º anos do ensino fundamental;\n\nNível A – estudantes do 6º e 7º ano do Ensino Fundamental;\n\nNível B – estudantes do 8º e 9º ano do Ensino Fundamental;\n\nNível C – estudantes da 1ª série do Ensino Médio;\n\nNível D – estudantes da 2ª série do Ensino Médio; e\n\nNível E – estudantes da 3ª série do Ensino Médio e 4ª série do Ensino Técnico;\n\nModalidades e fases:  \nDuas fases \nFinanciamento\, apoio e/ou organização:  \n\nUFPI; MCTI; ABQ; Departamento de História da Unicamp; Instituto Butantan; SAB; SBF; FADEX; UNFPA; UFMA; CLA; Petrobrás
URL:https://comunidade-olimpiadas.lidersys.com.br/event/onc-fase-1/
CATEGORIES:Prova de Competição Nacional
ATTACH;FMTTYPE=image/png:https://comunidade-olimpiadas.lidersys.com.br/wp-content/uploads/2025/03/onc.png
END:VEVENT
BEGIN:VEVENT
DTSTART;VALUE=DATE:20250816
DTEND;VALUE=DATE:20250818
DTSTAMP:20260421T230537
CREATED:20250513T154643Z
LAST-MODIFIED:20250526T183539Z
UID:1274-1755302400-1755475199@comunidade-olimpiadas.lidersys.com.br
SUMMARY:Campeonato Nacional de Física (CNF) - Fase 3
DESCRIPTION:Área temática: \n\nFísica\n\nPúblico-alvo:  \n\nNível 1: 7º ou 8º ano do ensino fundamental\n\nNível 2: 9º ano do ensino fundamental ou 1º ano do ensino médio\n\nNível 3: 2º ou 3º ano do ensino médio ou 4º ano do ensino técnico\n\nNível 4: Estudantes classificados para as Seletivas das Olimpíadas Internacionais de Física (SOIFs) ou que não se enquadram nos níveis anteriores\n\nModalidades e fases:  \n\nFase 1 – Prova teórica\n\nFase 2 – Prova teórica e prova experimental\n\nFase 3 – Prova teórica\n\nFinanciamento:  \n\nAmpulheta do Saber; Somos Educação; Bemol.
URL:https://comunidade-olimpiadas.lidersys.com.br/event/cnf-fase-3/
CATEGORIES:Prova de Competição Nacional
ATTACH;FMTTYPE=image/png:https://comunidade-olimpiadas.lidersys.com.br/wp-content/uploads/2025/05/cnf.png
END:VEVENT
END:VCALENDAR