BEGIN:VCALENDAR
VERSION:2.0
PRODID:-//Plataforma de Colaboração para Olimpíadas Científicas - ECPv6.15.17//NONSGML v1.0//EN
CALSCALE:GREGORIAN
METHOD:PUBLISH
X-ORIGINAL-URL:https://comunidade-olimpiadas.lidersys.com.br
X-WR-CALDESC:Eventos para Plataforma de Colaboração para Olimpíadas Científicas
REFRESH-INTERVAL;VALUE=DURATION:PT1H
X-Robots-Tag:noindex
X-PUBLISHED-TTL:PT1H
BEGIN:VTIMEZONE
TZID:America/Sao_Paulo
BEGIN:STANDARD
TZOFFSETFROM:-0300
TZOFFSETTO:-0300
TZNAME:-03
DTSTART:20240101T000000
END:STANDARD
END:VTIMEZONE
BEGIN:VEVENT
DTSTART;VALUE=DATE:20250822
DTEND;VALUE=DATE:20250823
DTSTAMP:20260421T230952
CREATED:20250513T014949Z
LAST-MODIFIED:20250830T230822Z
UID:1126-1755820800-1755907199@comunidade-olimpiadas.lidersys.com.br
SUMMARY:Olimpíada Brasileira do Ensino Superior de Química (OBESQ) - Fase 2
DESCRIPTION:Área temática: \n\nQuímica\n\nPúblico-alvo: \n\nEstudantes do Ensino Superior\n\nModalidades e fases:  \n\nDuas fases\n\nFinanciamento\, apoio e/ou organização:  \n\nCNPq; CFQ; Abiclor; Abiquim; MEC; MCTI; UFC; UFPI; ABQ
URL:https://comunidade-olimpiadas.lidersys.com.br/event/obesq-fase-2/
CATEGORIES:Prova de Competição Nacional
ATTACH;FMTTYPE=image/png:https://comunidade-olimpiadas.lidersys.com.br/wp-content/uploads/2025/05/OBESQ.png
END:VEVENT
BEGIN:VEVENT
DTSTART;VALUE=DATE:20250822
DTEND;VALUE=DATE:20250823
DTSTAMP:20260421T230952
CREATED:20250526T184743Z
LAST-MODIFIED:20250630T202109Z
UID:1639-1755820800-1755907199@comunidade-olimpiadas.lidersys.com.br
SUMMARY:Olimpíada Brasileira de Química (OBQ) - Fase 2
DESCRIPTION:Área temática: \n\nQuímica\n\nPúblico-alvo:  \n\nModalidade A – estudantes da 1ª e da 2ª série do Ensino Médio;\n\nModalidade B – estudantes das demais séries do Ensino Médio.\n\nModalidades e fases:  \n\nPrimeira etapa – Fase I – seleciona estudantes para a fase II\, ou para a fase III;\n\nPrimeira etapa – Fase II – Olimpíada Estadual;\n\nPrimeira etapa – Fase III – prova teórica em nível nacional.\n\nSegunda etapa – Fase IV – prova teórico-prática em formato de vídeo;\n\nSegunda etapa – Fase V – Curso de Aprofundamento e Excelência em Química;\n\nSegunda etapa – Fase VI – prova de seleção para Olimpíadas Internacionais.\n\nSeletiva para competição internacional  \n\nOlimpíada Internacional de Química (IChO); Olimpíada Ibero-Americana de Química (OIAQ)\n\nFinanciamento\, apoio e/ou organização:  \n\nUFC; UFPI; ABQ; CFQ; ABICLIM; ABICLOR; CNPq; MCTI; MEC
URL:https://comunidade-olimpiadas.lidersys.com.br/event/olimpiadas-de-quimica-obq-fase-2/
CATEGORIES:Prova de Competição Nacional
ATTACH;FMTTYPE=image/png:https://comunidade-olimpiadas.lidersys.com.br/wp-content/uploads/2025/05/OBQ.png
END:VEVENT
END:VCALENDAR