BEGIN:VCALENDAR
VERSION:2.0
PRODID:-//Plataforma de Colaboração para Olimpíadas Científicas - ECPv6.15.17//NONSGML v1.0//EN
CALSCALE:GREGORIAN
METHOD:PUBLISH
X-WR-CALNAME:Plataforma de Colaboração para Olimpíadas Científicas
X-ORIGINAL-URL:https://comunidade-olimpiadas.lidersys.com.br
X-WR-CALDESC:Eventos para Plataforma de Colaboração para Olimpíadas Científicas
REFRESH-INTERVAL;VALUE=DURATION:PT1H
X-Robots-Tag:noindex
X-PUBLISHED-TTL:PT1H
BEGIN:VTIMEZONE
TZID:America/Sao_Paulo
BEGIN:STANDARD
TZOFFSETFROM:-0300
TZOFFSETTO:-0300
TZNAME:-03
DTSTART:20240101T000000
END:STANDARD
END:VTIMEZONE
BEGIN:VEVENT
DTSTART;VALUE=DATE:20250830
DTEND;VALUE=DATE:20250831
DTSTAMP:20260421T225919
CREATED:20250317T123915Z
LAST-MODIFIED:20250630T202651Z
UID:805-1756512000-1756598399@comunidade-olimpiadas.lidersys.com.br
SUMMARY:Olimpíada Nacional em História do Brasil (ONHB) - Fase final
DESCRIPTION:Área temática: \n\nHistória\n\nPúblico-alvo:  \n\nEstudantes do 8° e 9° anos do Ensino Fundamental;\n\nEstudantes do Ensino Médio.\n\nModalidades e fases:  \n\nSeis fases – provas on-line\n\nUma fase – prova final\n\nFinanciamento\, apoio e/ou organização:  \n\nUnicamp; ANPUH; Departamento de História – IFCH/Unicamp; Programa de Pós-graduação em História da Unicamp; SAE Unicamp
URL:https://comunidade-olimpiadas.lidersys.com.br/event/onhb-fase-final/
CATEGORIES:Prova de Competição Nacional
ATTACH;FMTTYPE=image/png:https://comunidade-olimpiadas.lidersys.com.br/wp-content/uploads/2025/03/onc-1.png
END:VEVENT
BEGIN:VEVENT
DTSTART;VALUE=DATE:20250830
DTEND;VALUE=DATE:20250831
DTSTAMP:20260421T225919
CREATED:20250831T150416Z
LAST-MODIFIED:20250831T150416Z
UID:3260-1756512000-1756598399@comunidade-olimpiadas.lidersys.com.br
SUMMARY:Olimpíada Brasileira Online de Química (OBOQ) - Primeira fase (fim)
DESCRIPTION:Área temática: \n\nQuímica\n\nPúblico-alvo:  \n\nNível 1: estudantes do 6º ao 9º ano do Ensino Fundamental\nNível 2: estudantes do 1º ou 2º ano do Ensino Médio\nNível 3: estudantes do 3º ano do Ensino Médio e medalhistas de ouro da OBQ – Modalidade A de qualquer série\nCategoria Aberta: qualquer pessoa \n\nModalidades e fases:  \n\nTrês fases\n\nFinanciamento\, apoio e/ou organização:  \n\nNOIC
URL:https://comunidade-olimpiadas.lidersys.com.br/event/olimpiada-brasileira-online-de-quimica-oboq-primeira-fase-fim/
CATEGORIES:Prova de Competição Nacional
END:VEVENT
END:VCALENDAR