BEGIN:VCALENDAR
VERSION:2.0
PRODID:-//Plataforma de Colaboração para Olimpíadas Científicas - ECPv6.15.17//NONSGML v1.0//EN
CALSCALE:GREGORIAN
METHOD:PUBLISH
X-ORIGINAL-URL:https://comunidade-olimpiadas.lidersys.com.br
X-WR-CALDESC:Eventos para Plataforma de Colaboração para Olimpíadas Científicas
REFRESH-INTERVAL;VALUE=DURATION:PT1H
X-Robots-Tag:noindex
X-PUBLISHED-TTL:PT1H
BEGIN:VTIMEZONE
TZID:America/Sao_Paulo
BEGIN:STANDARD
TZOFFSETFROM:-0300
TZOFFSETTO:-0300
TZNAME:-03
DTSTART:20240101T000000
END:STANDARD
END:VTIMEZONE
BEGIN:VEVENT
DTSTART;VALUE=DATE:20250903
DTEND;VALUE=DATE:20250904
DTSTAMP:20260421T215138
CREATED:20250513T193522Z
LAST-MODIFIED:20250831T131025Z
UID:1404-1756857600-1756943999@comunidade-olimpiadas.lidersys.com.br
SUMMARY:Torneio Brasileiro de Ciências (TBC) - Fim de inscrições
DESCRIPTION:Área temática: \n\nCiências\n\nPúblico-alvo:  \n\nNível 1: Estudantes do 6º e 7º anos do ensino fundamental;\n\nNível 2: Estudantes do 8º e 9º anos do ensino fundamental;\n\nNível 3: Estudantes do ensino médio e 4º ano técnico;\n\nNível Livre: adultos e pessoas que já concluíram a educação básica.\n\nModalidades e fases:  \n\nFase única\n\nFinanciamento\, apoio e/ou organização:  \n\nSeleta Educação
URL:https://comunidade-olimpiadas.lidersys.com.br/event/tbc-fim-de-inscricoes/
CATEGORIES:Início e Fim de Inscrições
ATTACH;FMTTYPE=image/png:https://comunidade-olimpiadas.lidersys.com.br/wp-content/uploads/2025/05/TBC.png
END:VEVENT
BEGIN:VEVENT
DTSTART;VALUE=DATE:20250903
DTEND;VALUE=DATE:20250904
DTSTAMP:20260421T215138
CREATED:20250513T195059Z
LAST-MODIFIED:20250617T183915Z
UID:1430-1756857600-1756943999@comunidade-olimpiadas.lidersys.com.br
SUMMARY:Olimpíada Titãs de Matemática - Fase única
DESCRIPTION:Área temática: \n\nMatemática\n\nPúblico-alvo:  \n\nNível Prometeus: 6º e 7º anos do Ensino Fundamental;\n\nNível Céos: 8º e 9º anos do Ensino Fundamental;\n\nNível Atlas: 1º e 2º anos do Ensino Médio;\n\nNível Febe: 3º ano do Ensino Médio e 4º ano do Técnico Integrado.\n\nModalidades e fases:  \n\nFase única
URL:https://comunidade-olimpiadas.lidersys.com.br/event/olimpiada-titas-de-matematica-fase-unica/
CATEGORIES:Prova de Competição Nacional
ATTACH;FMTTYPE=image/png:https://comunidade-olimpiadas.lidersys.com.br/wp-content/uploads/2025/05/OTM.png
END:VEVENT
BEGIN:VEVENT
DTSTART;VALUE=DATE:20250903
DTEND;VALUE=DATE:20250904
DTSTAMP:20260421T215138
CREATED:20250513T195455Z
LAST-MODIFIED:20250831T131714Z
UID:1438-1756857600-1756943999@comunidade-olimpiadas.lidersys.com.br
SUMMARY:Olimpíada de Português bê-á-bá (OP bê-á-bá) - Fim de inscrições
DESCRIPTION:Área temática: \n\nLíngua Portuguesa\n\nPúblico-alvo:  \n\nCategoria D: estudantes do 5º Ano do Ensino Fundamental;\n\nCategoria E: estudantes do 4º Ano do Ensino Fundamental;\n\nCategoria F: estudantes do 3º Ano do Ensino Fundamental;\n\nCategoria G: estudantes do 2º Ano do Ensino Fundamental;\n\nCategoria H: estudantes do 1º Ano do Ensino Fundamental.\n\nModalidades e fases:  \n\nDuas fases\n\nFinanciamento\, apoio e/ou organização:  \n\nABRALIN; Instituto Philotimia; Istituto de Letras; UFF; Associação de Professores de Português – Portugal
URL:https://comunidade-olimpiadas.lidersys.com.br/event/op-be-a-ba-fim-de-inscricoes/
CATEGORIES:Início e Fim de Inscrições
ATTACH;FMTTYPE=image/png:https://comunidade-olimpiadas.lidersys.com.br/wp-content/uploads/2025/05/OP-BEABA.png
END:VEVENT
BEGIN:VEVENT
DTSTART;VALUE=DATE:20250903
DTEND;VALUE=DATE:20250904
DTSTAMP:20260421T215138
CREATED:20250830T225925Z
LAST-MODIFIED:20250830T225925Z
UID:2994-1756857600-1756943999@comunidade-olimpiadas.lidersys.com.br
SUMMARY:Olimpíada Brasileira de Satélites MCTI (OBSAT) - Fim de inscrições (modalidade prática)
DESCRIPTION:Área temática: \n\nSatélites\n\nPúblico-alvo:  \n\nModalidade prática:\nNível 1 (N1) – Ensino Fundamental II;\nNível 2 (N2) – Ensino Médio e Técnico;\nNível 3 (N3) – Ensino Superior.\nModalidade teórica:\nNível Teórico 1 (NT1): Estudantes do 1º ano do Ensino Fundamental;\nNível Teórico 2 (NT2): Estudantes do 2º e 3º anos do Ensino Fundamental;\nNível Teórico 3 (NT3): Estudantes do 4º e 5º anos do Ensino Fundamental;\nNível Teórico 4 (NT4): Estudantes do 6º e 7º anos do Ensino Fundamental;\nNível Teórico 5 (NT5): Estudantes do 8º e 9º anos do Ensino Fundamental;\nNível Teórico 6 (NT6): Estudantes do Ensino Médio e Técnico.\n\nModalidades e fases:  \n\nModalidade prática:\nFase 0: Treinamento – Palestras para nivelamento na área aeroespacial\nFase 1: Planejamento – Imagine seu Satélite!\nFase 2: Construa\, programe\, teste seu satélite!\nFase 3: Lance seu satélite! – etapas regionais\nFase 4: Lance seu satélite! – etapa nacional\n\nModalidade teórica\nFase 0: Treinamento – Palestras para nivelamento na área aeroespacial\nFase 1: Avaliação online (Nível 1 a 6)\nFase 2: Avaliação presencial (Nível 6)\n\nFinanciamento\, apoio e/ou organização:  \n\nUFSCAR; Programa Espacial Brasileiro; AEB; LABRE; INPE; MCTI; Governo Federal
URL:https://comunidade-olimpiadas.lidersys.com.br/event/olimpiada-brasileira-de-satelites-mcti-obsat-fim-de-inscricoes-modalidade-pratica/
CATEGORIES:Início e Fim de Inscrições
ATTACH;FMTTYPE=image/png:https://comunidade-olimpiadas.lidersys.com.br/wp-content/uploads/2025/05/obsat.png
END:VEVENT
BEGIN:VEVENT
DTSTART;VALUE=DATE:20250903
DTEND;VALUE=DATE:20250904
DTSTAMP:20260421T215138
CREATED:20250831T141217Z
LAST-MODIFIED:20250831T141217Z
UID:3212-1756857600-1756943999@comunidade-olimpiadas.lidersys.com.br
SUMMARY:Olimpíada Brasileira de Educação Financeira (OBEF) - Segunda fase
DESCRIPTION:Área temática: \n\nEducação Financeira\n\nPúblico-alvo:  \n\nNível 1: estudantes do 2º ano ao 3º ano do ensino fundamental\nNível 2: estudantes do 4º ano ao 5º ano\, do ensino fundamental\nNível 3: estudantes do 6º ano ao 7º ano\, do ensino fundamental\nNível 4: estudantes do 8º ano ao 9º ano\, do ensino fundamental\nNível 5: estudantes do 1º ao 3º ano do ensino médio e 4º ano técnico\n\nModalidades e fases:  \n\nTrês etapas\n\nFinanciamento\, apoio e/ou organização:  \n\nUFPB; CCSA; DFC; Projeto de Extensão para Toda a Vida
URL:https://comunidade-olimpiadas.lidersys.com.br/event/olimpiada-brasileira-de-educacao-financeira-obef-segunda-fase/
CATEGORIES:Prova de Competição Nacional
END:VEVENT
END:VCALENDAR