BEGIN:VCALENDAR
VERSION:2.0
PRODID:-//Plataforma de Colaboração para Olimpíadas Científicas - ECPv6.15.17//NONSGML v1.0//EN
CALSCALE:GREGORIAN
METHOD:PUBLISH
X-WR-CALNAME:Plataforma de Colaboração para Olimpíadas Científicas
X-ORIGINAL-URL:https://comunidade-olimpiadas.lidersys.com.br
X-WR-CALDESC:Eventos para Plataforma de Colaboração para Olimpíadas Científicas
REFRESH-INTERVAL;VALUE=DURATION:PT1H
X-Robots-Tag:noindex
X-PUBLISHED-TTL:PT1H
BEGIN:VTIMEZONE
TZID:America/Sao_Paulo
BEGIN:STANDARD
TZOFFSETFROM:-0300
TZOFFSETTO:-0300
TZNAME:-03
DTSTART:20240101T000000
END:STANDARD
END:VTIMEZONE
BEGIN:VEVENT
DTSTART;VALUE=DATE:20250905
DTEND;VALUE=DATE:20250906
DTSTAMP:20260421T214606
CREATED:20250513T134513Z
LAST-MODIFIED:20250529T132111Z
UID:1176-1757030400-1757116799@comunidade-olimpiadas.lidersys.com.br
SUMMARY:Olimpíada Brasileira de Raciocínio Lógico (OBRL) - Fim de inscrições
DESCRIPTION:Área temática: \n\nRaciocínio lógico\n\nPúblico-alvo:  \n\nNível Zeta (violeta) – estudantes do 4º ano do Ensino Fundamental\n\nNível Teta (violeta) – estudantess do 5º ano do Ensino Fundamental\n\nNível Alfa – Iota (azul) – estudantes do 6º ano do Ensino Fundamental\n\nNível Beta – Kappa (amarelo) – estudantes do 7º ano do Ensino Fundamental\n\nNível Gama – Sigma (vermelho) – estudantes do 8º ano do Ensino Fundamental\n\nNível Ômega – Tau (verde) – estudantes do 9º ano do Ensino Fundamental\n\nNível Delta – (cinza) – estudantes da 1ª série do Ensino Médio\n\nNível Psi – (preto) – estudantes das 2ª e 3ª séries do Ensino Médio\n\nModalidades e fases:  \n\nDuas fases
URL:https://comunidade-olimpiadas.lidersys.com.br/event/obrl-fim-de-inscricoes/
CATEGORIES:Início e Fim de Inscrições
ATTACH;FMTTYPE=image/png:https://comunidade-olimpiadas.lidersys.com.br/wp-content/uploads/2025/05/OBRL.png
END:VEVENT
BEGIN:VEVENT
DTSTART;VALUE=DATE:20250905
DTEND;VALUE=DATE:20250906
DTSTAMP:20260421T214606
CREATED:20250513T155256Z
LAST-MODIFIED:20250831T123826Z
UID:1286-1757030400-1757116799@comunidade-olimpiadas.lidersys.com.br
SUMMARY:Maratona SBC de programação - Fim de inscrições ("café com leite")
DESCRIPTION:Área temática: \n\nProgramação\n\nPúblico-alvo:  \n\nTer iniciado o primeiro curso superior há no máximo 5 anos ou completar no máximo 23 anos de idade no ano da competição\n\nModalidades e fases:  \n\nFase zero (online\, facultativa)\n\nPrimeira Fase\n\nFinal Nacional\n\nSeletiva para Olimpíada Internacional:  \n\nInternational Collegiate Programming Contest (ICPC) – ICPC Latin America Champions\n\nFinanciamento\, apoio e/ou organização:  \n\nSBF; Fundação Behring; Fundação Estudar; b projetos
URL:https://comunidade-olimpiadas.lidersys.com.br/event/maratona-sbc-de-programacao-fim-de-inscricoes-cafe-com-leite/
CATEGORIES:Início e Fim de Inscrições
ATTACH;FMTTYPE=image/png:https://comunidade-olimpiadas.lidersys.com.br/wp-content/uploads/2025/05/sbc.png
END:VEVENT
BEGIN:VEVENT
DTSTART;VALUE=DATE:20250905
DTEND;VALUE=DATE:20250908
DTSTAMP:20260421T214606
CREATED:20250830T233507Z
LAST-MODIFIED:20250830T233507Z
UID:3007-1757030400-1757289599@comunidade-olimpiadas.lidersys.com.br
SUMMARY:Olimpíada Matemáticos por Diversão (OMpD) - Primeira fase
DESCRIPTION:Área temática: \n\nMatemática\n\nPúblico-alvo:  \n\nNível 1: Estudantes do 6° e 7° anos do Ensino Fundamental\nNível 2: Estudantes do 8° e 9° anos do Ensino Fundamental\nNível 3: Estudantes do 1° ao 3° anos do Ensino Médio\nNível U: Estudantes em cursos de graduação e estudantes em cursos pré-universitários que ainda não foram para a universidade\, que não possuam diploma de ensino superior\n\nModalidades e fases:  \n\nDuas fases
URL:https://comunidade-olimpiadas.lidersys.com.br/event/olimpiada-matematicos-por-diversao-ompd-primeira-fase/
CATEGORIES:Prova de Competição Nacional
END:VEVENT
END:VCALENDAR