BEGIN:VCALENDAR
VERSION:2.0
PRODID:-//Plataforma de Colaboração para Olimpíadas Científicas - ECPv6.15.17//NONSGML v1.0//EN
CALSCALE:GREGORIAN
METHOD:PUBLISH
X-ORIGINAL-URL:https://comunidade-olimpiadas.lidersys.com.br
X-WR-CALDESC:Eventos para Plataforma de Colaboração para Olimpíadas Científicas
REFRESH-INTERVAL;VALUE=DURATION:PT1H
X-Robots-Tag:noindex
X-PUBLISHED-TTL:PT1H
BEGIN:VTIMEZONE
TZID:America/Sao_Paulo
BEGIN:STANDARD
TZOFFSETFROM:-0300
TZOFFSETTO:-0300
TZNAME:-03
DTSTART:20240101T000000
END:STANDARD
END:VTIMEZONE
BEGIN:VEVENT
DTSTART;VALUE=DATE:20250908
DTEND;VALUE=DATE:20250909
DTSTAMP:20260421T231750
CREATED:20250530T125827Z
LAST-MODIFIED:20250530T125827Z
UID:2337-1757289600-1757375999@comunidade-olimpiadas.lidersys.com.br
SUMMARY:Olimpíada Brasileira de Raciocínio Lógico (OBRL) - Fim Fase 1
DESCRIPTION:Área temática: \n\nRaciocínio lógico\n\nPúblico-alvo:  \n\nNível Zeta (violeta) – estudantes do 4º ano do Ensino Fundamental\n\nNível Teta (violeta) – estudantess do 5º ano do Ensino Fundamental\n\nNível Alfa – Iota (azul) – estudantes do 6º ano do Ensino Fundamental\n\nNível Beta – Kappa (amarelo) – estudantes do 7º ano do Ensino Fundamental\n\nNível Gama – Sigma (vermelho) – estudantes do 8º ano do Ensino Fundamental\n\nNível Ômega – Tau (verde) – estudantes do 9º ano do Ensino Fundamental\n\nNível Delta – (cinza) – estudantes da 1ª série do Ensino Médio\n\nNível Psi – (preto) – estudantes das 2ª e 3ª séries do Ensino Médio\n\nModalidades e fases:  \n\nDuas fases
URL:https://comunidade-olimpiadas.lidersys.com.br/event/olimpiada-brasileira-de-raciocinio-logico-obrl-fim-fase-1/
CATEGORIES:Prova de Competição Nacional
ATTACH;FMTTYPE=image/png:https://comunidade-olimpiadas.lidersys.com.br/wp-content/uploads/2025/05/OBRL.png
END:VEVENT
BEGIN:VEVENT
DTSTART;VALUE=DATE:20250908
DTEND;VALUE=DATE:20250909
DTSTAMP:20260421T231750
CREATED:20250831T133122Z
LAST-MODIFIED:20250831T133122Z
UID:3191-1757289600-1757375999@comunidade-olimpiadas.lidersys.com.br
SUMMARY:Olimpíada Brasileira de Biologia Sintética (OBBS) - Fase 1 (Fim)
DESCRIPTION:Área temática: \n\nBiologia sintética\n\nPúblico-alvo:  \n\nCategoria Regular: estudantes do Ensino Médio\nCategoria Aberta: estudantes do Ensino Fundamental\n\nModalidades e fases:  \n\nDuas fases\n\nFinanciamento\, apoio e/ou organização:  \n\nUNESP; UFABC; UnB; SynBioBR; Instituto Vertere; PROEC/UNESP; CNPq
URL:https://comunidade-olimpiadas.lidersys.com.br/event/olimpiada-brasileira-de-biologia-sintetica-obbs-fase-1-fim/
CATEGORIES:Prova de Competição Nacional
END:VEVENT
BEGIN:VEVENT
DTSTART;VALUE=DATE:20250908
DTEND;VALUE=DATE:20250909
DTSTAMP:20260421T231750
CREATED:20250831T152545Z
LAST-MODIFIED:20250831T152545Z
UID:3279-1757289600-1757375999@comunidade-olimpiadas.lidersys.com.br
SUMMARY:Maratona Cactus de Matemática - Fim de Inscrições
DESCRIPTION:Área temática: \n\nMatemática\n\nPúblico-alvo:  \n\nEstudantes do 3º ao 9º ano do Ensino Fundamental\n\nFinanciamento\, apoio e/ou organização:  \n\nAssociação Cactus
URL:https://comunidade-olimpiadas.lidersys.com.br/event/maratona-cactus-de-matematica-fim-de-inscricoes/
CATEGORIES:Início e Fim de Inscrições
END:VEVENT
END:VCALENDAR