BEGIN:VCALENDAR
VERSION:2.0
PRODID:-//Plataforma de Colaboração para Olimpíadas Científicas - ECPv6.15.17//NONSGML v1.0//EN
CALSCALE:GREGORIAN
METHOD:PUBLISH
X-WR-CALNAME:Plataforma de Colaboração para Olimpíadas Científicas
X-ORIGINAL-URL:https://comunidade-olimpiadas.lidersys.com.br
X-WR-CALDESC:Eventos para Plataforma de Colaboração para Olimpíadas Científicas
REFRESH-INTERVAL;VALUE=DURATION:PT1H
X-Robots-Tag:noindex
X-PUBLISHED-TTL:PT1H
BEGIN:VTIMEZONE
TZID:America/Sao_Paulo
BEGIN:STANDARD
TZOFFSETFROM:-0300
TZOFFSETTO:-0300
TZNAME:-03
DTSTART:20240101T000000
END:STANDARD
END:VTIMEZONE
BEGIN:VEVENT
DTSTART;VALUE=DATE:20250910
DTEND;VALUE=DATE:20250911
DTSTAMP:20260421T214606
CREATED:20250317T123905Z
LAST-MODIFIED:20250630T193014Z
UID:677-1757462400-1757548799@comunidade-olimpiadas.lidersys.com.br
SUMMARY:Competição Feminina da OBI (CF-OBI) - Fim de inscrições  (escola)
DESCRIPTION:Competição Feminina da Olimpíada Brasileira de Informática \nÁrea temática: \n\nComputação\n\nPúblico-alvo:  \n\nModalidade: Programação – Nível Júnior: competidoras cursando o Ensino Fundamental\n\nModalidade: Programação – Nível 1: competidoras cursando até o primeiro ano do Ensino Médio\n\nModalidade: Programação – Nível 2: competidoras cursando até o terceiro ano do Ensino Médio\n\nModalidades e fases:  \n\nModalidade: Programação\n\nFase única\n\nSeletiva para Olimpíada Internacional:  \n\nOlimpíada Internacional de Informática (IOI); \nOlimpíada Iberoamericana de Informática (OII); \nOlimpíada Europeia de Informática para Garotas (EGOI)\n\nFinanciamento\, apoio e/ou organização:  \n\nCNPq; BTG Pactual; SBC; AluraStart; Fundação Bhering; Unicamp; IC
URL:https://comunidade-olimpiadas.lidersys.com.br/event/cf-obi-fim-de-inscricoes-escola/
CATEGORIES:Início e Fim de Inscrições
ATTACH;FMTTYPE=image/png:https://comunidade-olimpiadas.lidersys.com.br/wp-content/uploads/2025/03/cfobi.png
END:VEVENT
BEGIN:VEVENT
DTSTART;VALUE=DATE:20250910
DTEND;VALUE=DATE:20250911
DTSTAMP:20260421T214606
CREATED:20250513T193618Z
LAST-MODIFIED:20250831T131019Z
UID:1406-1757462400-1757548799@comunidade-olimpiadas.lidersys.com.br
SUMMARY:Torneio Brasileiro de Ciências (TBC) - Fase única
DESCRIPTION:Área temática: \n\nCiências\n\nPúblico-alvo:  \n\nNível 1: Estudantes do 6º e 7º anos do ensino fundamental;\n\nNível 2: Estudantes do 8º e 9º anos do ensino fundamental;\n\nNível 3: Estudantes do ensino médio e 4º ano técnico;\n\nNível Livre: adultos e pessoas que já concluíram a educação básica.\n\nModalidades e fases:  \n\nFase única\n\nFinanciamento\, apoio e/ou organização:  \n\nSeleta Educação
URL:https://comunidade-olimpiadas.lidersys.com.br/event/tbc-fase-unica/
CATEGORIES:Prova de Competição Nacional
ATTACH;FMTTYPE=image/png:https://comunidade-olimpiadas.lidersys.com.br/wp-content/uploads/2025/05/TBC.png
END:VEVENT
END:VCALENDAR