BEGIN:VCALENDAR
VERSION:2.0
PRODID:-//Plataforma de Colaboração para Olimpíadas Científicas - ECPv6.15.17//NONSGML v1.0//EN
CALSCALE:GREGORIAN
METHOD:PUBLISH
X-ORIGINAL-URL:https://comunidade-olimpiadas.lidersys.com.br
X-WR-CALDESC:Eventos para Plataforma de Colaboração para Olimpíadas Científicas
REFRESH-INTERVAL;VALUE=DURATION:PT1H
X-Robots-Tag:noindex
X-PUBLISHED-TTL:PT1H
BEGIN:VTIMEZONE
TZID:America/Sao_Paulo
BEGIN:STANDARD
TZOFFSETFROM:-0300
TZOFFSETTO:-0300
TZNAME:-03
DTSTART:20240101T000000
END:STANDARD
END:VTIMEZONE
BEGIN:VEVENT
DTSTART;VALUE=DATE:20250912
DTEND;VALUE=DATE:20250914
DTSTAMP:20260421T214728
CREATED:20250317T124034Z
LAST-MODIFIED:20250630T195353Z
UID:765-1757635200-1757807999@comunidade-olimpiadas.lidersys.com.br
SUMMARY:Olimpíada Brasileira de Neurociências (OBN) - Fase 2
DESCRIPTION:Área temática: \n\nNeurociências\n\nPúblico-alvo:  \n\nEstudantes de Ensino Médio; e\n\nFaixa etária: 14 a 19 anos. \n\nModalidades e fases:  \n\nTrês fases: local\, nacional\, internacional\n\nSeletiva para competição internacional  \n\nInternational Brain Bee\n\nFinanciamento\, apoio e/ou organização:  \n\nCNPq; UFRJ; IBCCF; Simpósio Brasileiro de Neurociências; Ciências e cognição; Censupeg; OBN para graduandos; SBNeC
URL:https://comunidade-olimpiadas.lidersys.com.br/event/obn-fase-2/
CATEGORIES:Prova de Competição Nacional
ATTACH;FMTTYPE=image/png:https://comunidade-olimpiadas.lidersys.com.br/wp-content/uploads/2025/03/obn.png
END:VEVENT
BEGIN:VEVENT
DTSTART;VALUE=DATE:20250912
DTEND;VALUE=DATE:20250915
DTSTAMP:20260421T214728
CREATED:20250831T143430Z
LAST-MODIFIED:20250831T143430Z
UID:3235-1757635200-1757894399@comunidade-olimpiadas.lidersys.com.br
SUMMARY:Olimpíada Brasileira Online de Física (OBOF) - Primeira fase
DESCRIPTION:Área temática: \n\nFísica\n\nPúblico-alvo:  \n\nNível Júnior: estudantes do 6º e 7º anos do Ensino Fundamental\nNível Moysés Nussenzveig: estudantes do 8º e 9º anos do Ensino Fundamental\nNível César Lattes: estudantes do 1º e 2º anos do Ensino Médio\nNível Elisa Frota Pessoa: estudantes do 3º ano do Ensino Médio\nCategoria aberta: pessoas que não se encaixem nas outras categorias\, incluindo estudantes do 4º ano do Ensino Técnico\n\nModalidades e fases:  \n\nDuas fases\n\nFinanciamento\, apoio e/ou organização:  \n\nFisicadu; NOIC
URL:https://comunidade-olimpiadas.lidersys.com.br/event/olimpiada-brasileira-online-de-fisica-obof-primeira-fase/
CATEGORIES:Prova de Competição Nacional
END:VEVENT
BEGIN:VEVENT
DTSTART;VALUE=DATE:20250913
DTEND;VALUE=DATE:20250914
DTSTAMP:20260421T214728
CREATED:20250513T004312Z
LAST-MODIFIED:20250701T201857Z
UID:1082-1757721600-1757807999@comunidade-olimpiadas.lidersys.com.br
SUMMARY:Olimpíada Brasileira de Linguística (OBL) - Segunda fase polos presenciais
DESCRIPTION:Área temática: \n\nLinguística\n\nPúblico-alvo:  \n\nMirim: estudantes do 6º ao 8º ano do Ensino Fundamental;\n\nRegular: estudantes do 9º ano do Ensino Fundamental ao último ano do Ensino Médio; e\n\nAberta: qualquer pessoa\, de qualquer idade\, que não esteja matriculada na Educação Básica\, independentemente da escolaridade.\n\nModalidades e fases:  \n\nDuas fases (categorias Mirim\, Aberta e Regular)\n\nEscola de Linguística de Outono (ELO) e Olimpíada Internacional de Linguística (categoria Regular)\n\nSeletiva para Olimpíada Internacional:  \n\nOlimpíada Internacional de Linguística (IOL)\n\nFinanciamento\, apoio e/ou organização:  \n\nVertere instituto; Abralin; Gelne; UFSCAR; UFRJ; UFRN; UFPB; Liga olímpica (OBECON\, SAPIENTIA; Vitalis); Parábola; Estúdio Vértebra
URL:https://comunidade-olimpiadas.lidersys.com.br/event/obl-segunda-fase-polos-presenciais/
CATEGORIES:Prova de Competição Nacional
ATTACH;FMTTYPE=image/png:https://comunidade-olimpiadas.lidersys.com.br/wp-content/uploads/2025/05/OBL.png
END:VEVENT
BEGIN:VEVENT
DTSTART;VALUE=DATE:20250913
DTEND;VALUE=DATE:20250914
DTSTAMP:20260421T214728
CREATED:20250513T135605Z
LAST-MODIFIED:20250529T133217Z
UID:1197-1757721600-1757807999@comunidade-olimpiadas.lidersys.com.br
SUMMARY:Olimpíada de Matemática da Unicamp (OMU) - Fase 3
DESCRIPTION:Área temática: \n\nMatemática\n\nPúblico-alvo:  \n\nNível Alfa – estudantes do 6º ao 9º ano do Ensino Fundamental;\n\nNível Beta – estudantes do Ensino Médio.\n\nModalidades e fases:  \n\nTrês fases em equipes e uma fase Individual\n\nFinanciamento:  \n\nIMECC/UNICAMP
URL:https://comunidade-olimpiadas.lidersys.com.br/event/omu-fase-3/
CATEGORIES:Prova de Competição Nacional
ATTACH;FMTTYPE=image/png:https://comunidade-olimpiadas.lidersys.com.br/wp-content/uploads/2025/05/OMU.png
END:VEVENT
BEGIN:VEVENT
DTSTART;VALUE=DATE:20250913
DTEND;VALUE=DATE:20250914
DTSTAMP:20260421T214728
CREATED:20250513T155517Z
LAST-MODIFIED:20250831T123820Z
UID:1289-1757721600-1757807999@comunidade-olimpiadas.lidersys.com.br
SUMMARY:Maratona SBC de programação - Fase 1
DESCRIPTION:Área temática: \n\nProgramação\n\nPúblico-alvo:  \n\nTer iniciado o primeiro curso superior há no máximo 5 anos ou completar no máximo 23 anos de idade no ano da competição\n\nModalidades e fases:  \n\nFase zero (online\, facultativa)\n\nPrimeira Fase\n\nFinal Nacional\n\nSeletiva para Olimpíada Internacional:  \n\nInternational Collegiate Programming Contest (ICPC) – ICPC Latin America Champions\n\nFinanciamento\, apoio e/ou organização:  \n\nSBF; Fundação Behring; Fundação Estudar; b projetos
URL:https://comunidade-olimpiadas.lidersys.com.br/event/maratona-sbc-de-programacao-fase-1/
CATEGORIES:Prova de Competição Nacional
ATTACH;FMTTYPE=image/png:https://comunidade-olimpiadas.lidersys.com.br/wp-content/uploads/2025/05/sbc.png
END:VEVENT
BEGIN:VEVENT
DTSTART;VALUE=DATE:20250913
DTEND;VALUE=DATE:20250914
DTSTAMP:20260421T214728
CREATED:20250513T200951Z
LAST-MODIFIED:20250831T132331Z
UID:1473-1757721600-1757807999@comunidade-olimpiadas.lidersys.com.br
SUMMARY:Olimpíada Brasileira de Empreendedorismo (OBE) - Fase 3 (Evento de encerramento e premiação)
DESCRIPTION:Área temática: \n\nEmpreendedorismo\n\nPúblico-alvo:  \n\nCategoria 1: Estudantes do 6º até o 8º ano do Ensino Fundamental\n\nCategoria 2: Estudantes do 9º ano do Ensino Fundamental até o 3º ano do Ensino Médio\n\nModalidades e fases:  \n\nDuas etapas\n\nFinanciamento\, apoio e/ou organização:  \n\nExpacer
URL:https://comunidade-olimpiadas.lidersys.com.br/event/obe-fase-3-evento-de-encerramento-e-premiacao/
CATEGORIES:Prova de Competição Nacional
ATTACH;FMTTYPE=image/png:https://comunidade-olimpiadas.lidersys.com.br/wp-content/uploads/2025/05/OBE.png
END:VEVENT
BEGIN:VEVENT
DTSTART;VALUE=DATE:20250913
DTEND;VALUE=DATE:20250914
DTSTAMP:20260421T214728
CREATED:20250528T030539Z
LAST-MODIFIED:20250701T201535Z
UID:1923-1757721600-1757807999@comunidade-olimpiadas.lidersys.com.br
SUMMARY:Olimpíada Brasileira de Cartografia (OBRAC) - Fim Etapa II - Fase 2 - Prova prática II
DESCRIPTION:Área temática: \n\nCartografia\n\nPúblico-alvo:  \n\nEstudantes do 9° ano do Ensino Fundamental;\n\nEstudantes do Ensino Médio; e\n\nFaixa etária: 13 a 19 anos.\n\nModalidades e fases:  \n\nEtapa 1 – Fase 1 – teste teórico\n\nEtapa 2 – Fases 1 e 2 – teste prático\n\nEtapa 3 – Fase 1 – teste prático presencial\n\nFinanciamento\, apoio e/ou organização:  \n\nCNPq; UFF; PROEX da UFF; LABCART; Revista Tamoios
URL:https://comunidade-olimpiadas.lidersys.com.br/event/obrac-fim-etapa-ii-fase-2-prova-pratica-ii/
CATEGORIES:Prova de Competição Nacional
ATTACH;FMTTYPE=image/png:https://comunidade-olimpiadas.lidersys.com.br/wp-content/uploads/2025/05/OBRAC.png
END:VEVENT
BEGIN:VEVENT
DTSTART;VALUE=DATE:20250913
DTEND;VALUE=DATE:20250914
DTSTAMP:20260421T214728
CREATED:20250530T164219Z
LAST-MODIFIED:20250831T131656Z
UID:2413-1757721600-1757807999@comunidade-olimpiadas.lidersys.com.br
SUMMARY:Olimpíada de Português bê-á-bá (OP bê-á-bá) - Fim Fase 1
DESCRIPTION:Área temática: \n\nLíngua Portuguesa\n\nPúblico-alvo:  \n\nCategoria D: estudantes do 5º Ano do Ensino Fundamental;\n\nCategoria E: estudantes do 4º Ano do Ensino Fundamental;\n\nCategoria F: estudantes do 3º Ano do Ensino Fundamental;\n\nCategoria G: estudantes do 2º Ano do Ensino Fundamental;\n\nCategoria H: estudantes do 1º Ano do Ensino Fundamental.\n\nModalidades e fases:  \n\nDuas fases\n\nFinanciamento\, apoio e/ou organização:  \n\nABRALIN; Instituto Philotimia; Istituto de Letras; UFF; Associação de Professores de Português – Portugal
URL:https://comunidade-olimpiadas.lidersys.com.br/event/olimpiada-de-portugues-be-a-ba-op-be-a-ba-fim-fase-1/
CATEGORIES:Prova de Competição Nacional
ATTACH;FMTTYPE=image/png:https://comunidade-olimpiadas.lidersys.com.br/wp-content/uploads/2025/05/OP-BEABA.png
END:VEVENT
BEGIN:VEVENT
DTSTART;VALUE=DATE:20250913
DTEND;VALUE=DATE:20250914
DTSTAMP:20260421T214728
CREATED:20250530T165713Z
LAST-MODIFIED:20250831T130825Z
UID:2443-1757721600-1757807999@comunidade-olimpiadas.lidersys.com.br
SUMMARY:Olimpíada do Tesouro Direto de Educação Financeira (OLITEF) - Fim Fase única
DESCRIPTION:Área temática: \n\nEducação Financeira\n\nPúblico-alvo:  \n\nNível 1 – Estudantes do 6º e 7º anos do Ensino Fundamental;\n\nNível 2 – Estudantes do 8º e 9º anos do Ensino Fundamental;\n\nNível 3 – Estudantes do 1º ano ao 3º ano do Ensino Médio. \n\nModalidades e fases:  \n\nFase única\n\nFinanciamento\, apoio e/ou organização:  \n\nTesouro Nacional; Tesouro Direto; B3; UpMat Educacional; Instituto Brasil Solidário; OBECON; OBEF; UNDIME; Consed; Aprender Valor; Banco Central do Brasil; Ministério da Fazenda; MEC
URL:https://comunidade-olimpiadas.lidersys.com.br/event/olimpiada-do-tesouro-direto-de-educacao-financeira-olitef-fim-fase-unica/
CATEGORIES:Prova de Competição Nacional
ATTACH;FMTTYPE=image/png:https://comunidade-olimpiadas.lidersys.com.br/wp-content/uploads/2025/05/OLITEF.png
END:VEVENT
END:VCALENDAR