BEGIN:VCALENDAR
VERSION:2.0
PRODID:-//Plataforma de Colaboração para Olimpíadas Científicas - ECPv6.15.17//NONSGML v1.0//EN
CALSCALE:GREGORIAN
METHOD:PUBLISH
X-WR-CALNAME:Plataforma de Colaboração para Olimpíadas Científicas
X-ORIGINAL-URL:https://comunidade-olimpiadas.lidersys.com.br
X-WR-CALDESC:Eventos para Plataforma de Colaboração para Olimpíadas Científicas
REFRESH-INTERVAL;VALUE=DURATION:PT1H
X-Robots-Tag:noindex
X-PUBLISHED-TTL:PT1H
BEGIN:VTIMEZONE
TZID:America/Sao_Paulo
BEGIN:STANDARD
TZOFFSETFROM:-0300
TZOFFSETTO:-0300
TZNAME:-03
DTSTART:20240101T000000
END:STANDARD
END:VTIMEZONE
BEGIN:VEVENT
DTSTART;VALUE=DATE:20250912
DTEND;VALUE=DATE:20250915
DTSTAMP:20260421T231751
CREATED:20250831T143430Z
LAST-MODIFIED:20250831T143430Z
UID:3235-1757635200-1757894399@comunidade-olimpiadas.lidersys.com.br
SUMMARY:Olimpíada Brasileira Online de Física (OBOF) - Primeira fase
DESCRIPTION:Área temática: \n\nFísica\n\nPúblico-alvo:  \n\nNível Júnior: estudantes do 6º e 7º anos do Ensino Fundamental\nNível Moysés Nussenzveig: estudantes do 8º e 9º anos do Ensino Fundamental\nNível César Lattes: estudantes do 1º e 2º anos do Ensino Médio\nNível Elisa Frota Pessoa: estudantes do 3º ano do Ensino Médio\nCategoria aberta: pessoas que não se encaixem nas outras categorias\, incluindo estudantes do 4º ano do Ensino Técnico\n\nModalidades e fases:  \n\nDuas fases\n\nFinanciamento\, apoio e/ou organização:  \n\nFisicadu; NOIC
URL:https://comunidade-olimpiadas.lidersys.com.br/event/olimpiada-brasileira-online-de-fisica-obof-primeira-fase/
CATEGORIES:Prova de Competição Nacional
END:VEVENT
BEGIN:VEVENT
DTSTART;VALUE=DATE:20250914
DTEND;VALUE=DATE:20250915
DTSTAMP:20260421T231751
CREATED:20250513T135652Z
LAST-MODIFIED:20250529T133140Z
UID:1199-1757808000-1757894399@comunidade-olimpiadas.lidersys.com.br
SUMMARY:Olimpíada de Matemática da Unicamp (OMU) - Fase individual
DESCRIPTION:Área temática: \n\nMatemática\n\nPúblico-alvo:  \n\nNível Alfa – estudantes do 6º ao 9º ano do Ensino Fundamental;\n\nNível Beta – estudantes do Ensino Médio.\n\nModalidades e fases:  \n\nTrês fases em equipes e uma fase Individual\n\nFinanciamento:  \n\nIMECC/UNICAMP
URL:https://comunidade-olimpiadas.lidersys.com.br/event/omu-fase-individual/
CATEGORIES:Prova de Competição Nacional
ATTACH;FMTTYPE=image/png:https://comunidade-olimpiadas.lidersys.com.br/wp-content/uploads/2025/05/OMU.png
END:VEVENT
BEGIN:VEVENT
DTSTART;VALUE=DATE:20250914
DTEND;VALUE=DATE:20250915
DTSTAMP:20260421T231751
CREATED:20250530T173013Z
LAST-MODIFIED:20250831T100238Z
UID:2488-1757808000-1757894399@comunidade-olimpiadas.lidersys.com.br
SUMMARY:Maratona Tech - Fim Fase 1
DESCRIPTION:Área temática: \n\nTecnologia\n\nPúblico-alvo:  \n\nNível 1: 6º e 7º ano do Ensino Fundamental;\nNível 2: 8º e 9º ano do Ensino Fundamental; e\nNível 3: Ensino Médio.\n\nModalidades e fases:  \n\nDuas fases\n\nFinanciamento\, apoio e/ou organização:  \n\nIfood; Arco; Rocketseat; Mercado Livre; Instituto Coca-Cola Brasil; Instituto Gol; Fundação Behring; Instituto Localiza; Finep; MCTI
URL:https://comunidade-olimpiadas.lidersys.com.br/event/maratona-tech-fim-fase-1/
CATEGORIES:Prova de Competição Nacional
ATTACH;FMTTYPE=image/png:https://comunidade-olimpiadas.lidersys.com.br/wp-content/uploads/2025/05/Maratona-Tech.png
END:VEVENT
BEGIN:VEVENT
DTSTART;VALUE=DATE:20250914
DTEND;VALUE=DATE:20250915
DTSTAMP:20260421T231751
CREATED:20250831T144133Z
LAST-MODIFIED:20250831T144133Z
UID:3243-1757808000-1757894399@comunidade-olimpiadas.lidersys.com.br
SUMMARY:Olimpíada Brasileira Online de Informática (OBOI) - Fase única
DESCRIPTION:Área temática: \n\nInformática\n\nPúblico-alvo:  \n\nNível Júnior: estudantes até 1º ano do Ensino Médio\nNível Pleno: estudantes até 3º ano do Ensino Médio\nNível Sênior: aberto ao público\n\nModalidades e fases:  \n\nDuas fases\n\nFinanciamento\, apoio e/ou organização:  \n\nNOIC; Neps Academy
URL:https://comunidade-olimpiadas.lidersys.com.br/event/olimpiada-brasileira-online-de-informatica-oboi-fase-unica/
CATEGORIES:Prova de Competição Nacional
END:VEVENT
END:VCALENDAR