BEGIN:VCALENDAR
VERSION:2.0
PRODID:-//Plataforma de Colaboração para Olimpíadas Científicas - ECPv6.15.17//NONSGML v1.0//EN
CALSCALE:GREGORIAN
METHOD:PUBLISH
X-WR-CALNAME:Plataforma de Colaboração para Olimpíadas Científicas
X-ORIGINAL-URL:https://comunidade-olimpiadas.lidersys.com.br
X-WR-CALDESC:Eventos para Plataforma de Colaboração para Olimpíadas Científicas
REFRESH-INTERVAL;VALUE=DURATION:PT1H
X-Robots-Tag:noindex
X-PUBLISHED-TTL:PT1H
BEGIN:VTIMEZONE
TZID:America/Sao_Paulo
BEGIN:STANDARD
TZOFFSETFROM:-0300
TZOFFSETTO:-0300
TZNAME:-03
DTSTART:20240101T000000
END:STANDARD
END:VTIMEZONE
BEGIN:VEVENT
DTSTART;VALUE=DATE:20250925
DTEND;VALUE=DATE:20250928
DTSTAMP:20260421T231750
CREATED:20250830T232702Z
LAST-MODIFIED:20250830T232702Z
UID:3002-1758758400-1759017599@comunidade-olimpiadas.lidersys.com.br
SUMMARY:Olimpíada do Oceano (O2) - Modalidade Conhecimento
DESCRIPTION:Área temática: \n\nCultura oceânica\n\nPúblico-alvo:  \n\nModalidade Conhecimento – Prova 1 – Estudantes do 4º e 5º ano do Ensino Fundamental\nModalidade Conhecimento – Prova 2 – Estudantes do 6º e 7º ano do Ensino Fundamental\nModalidade Conhecimento – Prova 3 – Estudantes do 8º e 9º ano do Ensino Fundamental\nModalidade Conhecimento – Prova 4 – Estudantes do 1º e 2º ano do Ensino Médio\nModalidade Conhecimento – Prova 5 – Estudantes do 3º ano do Ensino Médio \n\nModalidades e fases:  \n\nTrês modalidades:\nConhecimento – a partir de 8 anos\nProjetos socioambientais\nProduções artísticas\, culturais e/ou tecnológicas\n\nFinanciamento\, apoio e/ou organização:  \n\nUFPA; UNIFESP; Maré de Ciência; MCTI; UNESCO; CNPq; Fundação Grupo Boticário de Proteção à Natureza; EUceano; Comissão Interministerial para os Recursos do Mar; PPGMar/MEC; Rede de Escolas Azuis do Atlântico (All-Atlantic Blue Schools Network)
URL:https://comunidade-olimpiadas.lidersys.com.br/event/olimpiada-do-oceano-o2-modalidade-conhecimento/
CATEGORIES:Prova de Competição Nacional
END:VEVENT
BEGIN:VEVENT
DTSTART;VALUE=DATE:20250927
DTEND;VALUE=DATE:20250928
DTSTAMP:20260421T231750
CREATED:20250317T123815Z
LAST-MODIFIED:20250630T192814Z
UID:667-1758931200-1759017599@comunidade-olimpiadas.lidersys.com.br
SUMMARY:Olimpíada Brasileira de Informática (OBI) - Fase 3 (Programação)
DESCRIPTION:Olimpíada Brasileira de Informática \nÁrea temática: \n\nComputação\n\nPúblico-alvo:  \n\nModalidade Iniciação – Nível Júnior – estudantes cursando o quarto ou o quinto ano do Ensino Fundamental;\nModalidade Iniciação – Nível 1 – estudantes cursando o sexto ou o sétimo ano do Ensino Fundamental;\nModalidade Iniciação – Nível 2 – estudantes cursando o oitavo ou o nono ano do Ensino Fundamental;\nModalidade Programação – Nível Júnior – estudantes de qualquer ano do Ensino Fundamental;\nModalidade Programação – Nível 1 – estudantes do Ensino Fundamental e do primeiro ano do Ensino Médio;\nModalidade Programação – Nível 2 – estudantes do Ensino Fundamental e até o terceiro ano do Ensino Médio;\nModalidade Programação – Nível Sênior – estudantes cursando o quarto ano de escolas do Ensino Técnico ou cursando\, pela primeira vez\, o primeiro ano de um curso de graduação;\nLimite de idade: 20 anos.\n\nModalidades e fases:  \n\nModalidade Iniciação e Modalidade Programação\nTrês fases: Local\, Estadual e Nacional.\n\nSeletiva para Olimpíada Internacional:  \n\nOlimpíada Internacional de Informática (IOI);\nOlimpíada Iberoamericana de Informática (OII);\nOlimpíada Europeia de Informática para Garotas (EGOI).\n\nFinanciamento\, apoio e/ou organização:  \n\nCNPq; BTG Pactual; SBC; AluraStart; Fundação Bhering; Unicamp; IC
URL:https://comunidade-olimpiadas.lidersys.com.br/event/obi-fase-3-programacao/
CATEGORIES:Prova de Competição Nacional
ATTACH;FMTTYPE=image/png:https://comunidade-olimpiadas.lidersys.com.br/wp-content/uploads/2025/03/Beige-Black-Geometric-Technology-LinkedIn-Banner.png
END:VEVENT
BEGIN:VEVENT
DTSTART;VALUE=DATE:20250927
DTEND;VALUE=DATE:20250928
DTSTAMP:20260421T231750
CREATED:20250513T021215Z
LAST-MODIFIED:20250830T234055Z
UID:1171-1758931200-1759017599@comunidade-olimpiadas.lidersys.com.br
SUMMARY:Liga de Matemática (LigMat) - Superliga Níveis 1 e 2
DESCRIPTION:Área temática: \n\nMatemática\n\nPúblico-alvo:  \n\nNível 1: Estudantes do 6º ao 7º ano do Ensino Fundamental;\n\nNível 2: Estudantes do 8º ao 9º ano do Ensino Fundamental;\n\nNível 3: Estudantes do Ensino Médio.\n\nModalidades e fases:  \n\nCompetição Nacional: Etapa inicial (Duas rodadas); Etapa final\n\nSuperliga\n\nFinanciamento\, apoio e/ou organização:  \n\nCNPq; BTG Pactual; SBC; AluraStart; Fundação Bhering; Unicamp; IC
URL:https://comunidade-olimpiadas.lidersys.com.br/event/ligmat-superliga-niveis-1-e-2/
CATEGORIES:Prova de Competição Nacional
ATTACH;FMTTYPE=image/png:https://comunidade-olimpiadas.lidersys.com.br/wp-content/uploads/2025/05/ligmat.png
END:VEVENT
BEGIN:VEVENT
DTSTART;VALUE=DATE:20250927
DTEND;VALUE=DATE:20250928
DTSTAMP:20260421T231750
CREATED:20250831T141311Z
LAST-MODIFIED:20250831T141311Z
UID:3214-1758931200-1759017599@comunidade-olimpiadas.lidersys.com.br
SUMMARY:Olimpíada Brasileira de Educação Financeira (OBEF) - Terceira fase
DESCRIPTION:Área temática: \n\nEducação Financeira\n\nPúblico-alvo:  \n\nNível 1: estudantes do 2º ano ao 3º ano do ensino fundamental\nNível 2: estudantes do 4º ano ao 5º ano\, do ensino fundamental\nNível 3: estudantes do 6º ano ao 7º ano\, do ensino fundamental\nNível 4: estudantes do 8º ano ao 9º ano\, do ensino fundamental\nNível 5: estudantes do 1º ao 3º ano do ensino médio e 4º ano técnico\n\nModalidades e fases:  \n\nTrês etapas\n\nFinanciamento\, apoio e/ou organização:  \n\nUFPB; CCSA; DFC; Projeto de Extensão para Toda a Vida
URL:https://comunidade-olimpiadas.lidersys.com.br/event/olimpiada-brasileira-de-educacao-financeira-obef-terceira-fase/
CATEGORIES:Prova de Competição Nacional
END:VEVENT
BEGIN:VEVENT
DTSTART;VALUE=DATE:20250927
DTEND;VALUE=DATE:20250930
DTSTAMP:20260421T231750
CREATED:20250830T233816Z
LAST-MODIFIED:20250830T233816Z
UID:3010-1758931200-1759190399@comunidade-olimpiadas.lidersys.com.br
SUMMARY:Olimpíada Matemáticos por Diversão (OMpD) - Segunda fase
DESCRIPTION:Área temática: \n\nMatemática\n\nPúblico-alvo:  \n\nNível 1: Estudantes do 6° e 7° anos do Ensino Fundamental\nNível 2: Estudantes do 8° e 9° anos do Ensino Fundamental\nNível 3: Estudantes do 1° ao 3° anos do Ensino Médio\nNível U: Estudantes em cursos de graduação e estudantes em cursos pré-universitários que ainda não foram para a universidade\, que não possuam diploma de ensino superior\n\nModalidades e fases:  \n\nDuas fases
URL:https://comunidade-olimpiadas.lidersys.com.br/event/olimpiada-matematicos-por-diversao-ompd-segunda-fase/
CATEGORIES:Prova de Competição Nacional
END:VEVENT
END:VCALENDAR