BEGIN:VCALENDAR
VERSION:2.0
PRODID:-//Plataforma de Colaboração para Olimpíadas Científicas - ECPv6.15.17//NONSGML v1.0//EN
CALSCALE:GREGORIAN
METHOD:PUBLISH
X-WR-CALNAME:Plataforma de Colaboração para Olimpíadas Científicas
X-ORIGINAL-URL:https://comunidade-olimpiadas.lidersys.com.br
X-WR-CALDESC:Eventos para Plataforma de Colaboração para Olimpíadas Científicas
REFRESH-INTERVAL;VALUE=DURATION:PT1H
X-Robots-Tag:noindex
X-PUBLISHED-TTL:PT1H
BEGIN:VTIMEZONE
TZID:America/Sao_Paulo
BEGIN:STANDARD
TZOFFSETFROM:-0300
TZOFFSETTO:-0300
TZNAME:-03
DTSTART:20240101T000000
END:STANDARD
END:VTIMEZONE
BEGIN:VEVENT
DTSTART;VALUE=DATE:20251001
DTEND;VALUE=DATE:20251002
DTSTAMP:20260421T201820
CREATED:20250513T005521Z
LAST-MODIFIED:20250702T140840Z
UID:1102-1759276800-1759363199@comunidade-olimpiadas.lidersys.com.br
SUMMARY:Olimpíada Brasileira de Satélites MCTI (OBSAT) - Início Modalidade prática - Fase 2 - Construa\, programe\, teste seu satélite
DESCRIPTION:Área temática: \n\nSatélites\n\nPúblico-alvo:  \n\nModalidade prática:\nNível 1 (N1) – Ensino Fundamental II;\nNível 2 (N2) – Ensino Médio e Técnico;\nNível 3 (N3) – Ensino Superior.\nModalidade teórica:\nNível Teórico 1 (NT1): Estudantes do 1º ano do Ensino Fundamental;\nNível Teórico 2 (NT2): Estudantes do 2º e 3º anos do Ensino Fundamental;\nNível Teórico 3 (NT3): Estudantes do 4º e 5º anos do Ensino Fundamental;\nNível Teórico 4 (NT4): Estudantes do 6º e 7º anos do Ensino Fundamental;\nNível Teórico 5 (NT5): Estudantes do 8º e 9º anos do Ensino Fundamental;\nNível Teórico 6 (NT6): Estudantes do Ensino Médio e Técnico.\n\nModalidades e fases:  \n\nModalidade prática:\nFase 0: Treinamento – Palestras para nivelamento na área aeroespacial\nFase 1: Planejamento – Imagine seu Satélite!\nFase 2: Construa\, programe\, teste seu satélite!\nFase 3: Lance seu satélite! – etapas regionais\nFase 4: Lance seu satélite! – etapa nacional\n\nModalidade teórica\nFase 0: Treinamento – Palestras para nivelamento na área aeroespacial\nFase 1: Avaliação online (Nível 1 a 6)\nFase 2: Avaliação presencial (Nível 6)\n\nFinanciamento\, apoio e/ou organização:  \n\nUFSCAR; Programa Espacial Brasileiro; AEB; LABRE; INPE; MCTI; Governo Federal
URL:https://comunidade-olimpiadas.lidersys.com.br/event/obsat-modalidade-pratica-fase-2-construa-programe-teste-seu-satelite/
CATEGORIES:Prova de Competição Nacional
ATTACH;FMTTYPE=image/png:https://comunidade-olimpiadas.lidersys.com.br/wp-content/uploads/2025/05/obsat.png
END:VEVENT
BEGIN:VEVENT
DTSTART;VALUE=DATE:20251001
DTEND;VALUE=DATE:20251002
DTSTAMP:20260421T201820
CREATED:20250513T153529Z
LAST-MODIFIED:20250831T100042Z
UID:1261-1759276800-1759363199@comunidade-olimpiadas.lidersys.com.br
SUMMARY:Desafio Bebras Brasil - Início Fase única
DESCRIPTION:Área temática: \n\nComputação\n\nPúblico-alvo:  \n\nPre-Primary – estudantes do 3º ano do Ensino Fundamental\n\nPrimary – estudantes dos 4º e 5º anos do Ensino Fundamental\n\nBenjamins – estudantes dos 6º e 7º anos do Ensino Fundamental\n\nCadets – estudantes dos 8º e 9º anos do Ensino Fundamental\n\nJuniors – estudantes das 1º e 2º anos do Ensino Médio\n\nSeniors – estudantes da 3º ano do Ensino Médio\n\nModalidades e fases:  \n\nFase única\n\nFinanciamento\, apoio e/ou organização:  \n\nUPMat Educacional; Bebras International Chalenge in Informatics and Computational Thinking.
URL:https://comunidade-olimpiadas.lidersys.com.br/event/bebras-fase-unica/
CATEGORIES:Prova de Competição Nacional
ATTACH;FMTTYPE=image/png:https://comunidade-olimpiadas.lidersys.com.br/wp-content/uploads/2025/05/bebras.png
END:VEVENT
BEGIN:VEVENT
DTSTART;VALUE=DATE:20251001
DTEND;VALUE=DATE:20251002
DTSTAMP:20260421T201820
CREATED:20250831T151330Z
LAST-MODIFIED:20250831T151508Z
UID:3272-1759276800-1759363199@comunidade-olimpiadas.lidersys.com.br
SUMMARY:Olimpíada de Empreendedorismo (OE) - Segunda fase
DESCRIPTION:Área temática: \n\nEmpreendedorismo\n\nPúblico-alvo:  \n\nEnsino Fundamental – Anos Finais: estudantes do 6º ao 9º ano\nEnsino Médio: estudantes do 1º ao 3º ano\n\nModalidades e fases:  \n\nTrês etapas\n\nFinanciamento\, apoio e/ou organização:  \n\nCNPq; MCTI; UFES; USP; UNINASSAU; Você Sabia?; Davi Braga; Pyong Lee; Estudando.com; Medalhei; IB; Cristiana Arcangeli; CDN; Escola M60
URL:https://comunidade-olimpiadas.lidersys.com.br/event/olimpiada-de-empreendedorismo-oe-segunda-fase/
CATEGORIES:Prova de Competição Nacional
END:VEVENT
END:VCALENDAR