BEGIN:VCALENDAR
VERSION:2.0
PRODID:-//Plataforma de Colaboração para Olimpíadas Científicas - ECPv6.15.17//NONSGML v1.0//EN
CALSCALE:GREGORIAN
METHOD:PUBLISH
X-ORIGINAL-URL:https://comunidade-olimpiadas.lidersys.com.br
X-WR-CALDESC:Eventos para Plataforma de Colaboração para Olimpíadas Científicas
REFRESH-INTERVAL;VALUE=DURATION:PT1H
X-Robots-Tag:noindex
X-PUBLISHED-TTL:PT1H
BEGIN:VTIMEZONE
TZID:America/Sao_Paulo
BEGIN:STANDARD
TZOFFSETFROM:-0300
TZOFFSETTO:-0300
TZNAME:-03
DTSTART:20240101T000000
END:STANDARD
END:VTIMEZONE
BEGIN:VEVENT
DTSTART;VALUE=DATE:20251003
DTEND;VALUE=DATE:20251005
DTSTAMP:20260421T202402
CREATED:20250513T195642Z
LAST-MODIFIED:20250831T131702Z
UID:1442-1759449600-1759622399@comunidade-olimpiadas.lidersys.com.br
SUMMARY:Olimpíada de Português bê-á-bá (OP bê-á-bá) - Fase 2
DESCRIPTION:Área temática: \n\nLíngua Portuguesa\n\nPúblico-alvo:  \n\nCategoria D: estudantes do 5º Ano do Ensino Fundamental;\n\nCategoria E: estudantes do 4º Ano do Ensino Fundamental;\n\nCategoria F: estudantes do 3º Ano do Ensino Fundamental;\n\nCategoria G: estudantes do 2º Ano do Ensino Fundamental;\n\nCategoria H: estudantes do 1º Ano do Ensino Fundamental.\n\nModalidades e fases:  \n\nDuas fases\n\nFinanciamento\, apoio e/ou organização:  \n\nABRALIN; Instituto Philotimia; Istituto de Letras; UFF; Associação de Professores de Português – Portugal
URL:https://comunidade-olimpiadas.lidersys.com.br/event/op-be-a-ba-fase-2/
CATEGORIES:Prova de Competição Nacional
ATTACH;FMTTYPE=image/png:https://comunidade-olimpiadas.lidersys.com.br/wp-content/uploads/2025/05/OP-BEABA.png
END:VEVENT
BEGIN:VEVENT
DTSTART;VALUE=DATE:20251003
DTEND;VALUE=DATE:20251006
DTSTAMP:20260421T202402
CREATED:20250831T150605Z
LAST-MODIFIED:20250831T150605Z
UID:3262-1759449600-1759708799@comunidade-olimpiadas.lidersys.com.br
SUMMARY:Olimpíada Brasileira Online de Química (OBOQ) - Segunda fase
DESCRIPTION:Área temática: \n\nQuímica\n\nPúblico-alvo:  \n\nNível 1: estudantes do 6º ao 9º ano do Ensino Fundamental\nNível 2: estudantes do 1º ou 2º ano do Ensino Médio\nNível 3: estudantes do 3º ano do Ensino Médio e medalhistas de ouro da OBQ – Modalidade A de qualquer série\nCategoria Aberta: qualquer pessoa \n\nModalidades e fases:  \n\nTrês fases\n\nFinanciamento\, apoio e/ou organização:  \n\nNOIC
URL:https://comunidade-olimpiadas.lidersys.com.br/event/olimpiada-brasileira-online-de-quimica-oboq-segunda-fase/
CATEGORIES:Prova de Competição Nacional
END:VEVENT
END:VCALENDAR