BEGIN:VCALENDAR
VERSION:2.0
PRODID:-//Plataforma de Colaboração para Olimpíadas Científicas - ECPv6.15.17//NONSGML v1.0//EN
CALSCALE:GREGORIAN
METHOD:PUBLISH
X-WR-CALNAME:Plataforma de Colaboração para Olimpíadas Científicas
X-ORIGINAL-URL:https://comunidade-olimpiadas.lidersys.com.br
X-WR-CALDESC:Eventos para Plataforma de Colaboração para Olimpíadas Científicas
REFRESH-INTERVAL;VALUE=DURATION:PT1H
X-Robots-Tag:noindex
X-PUBLISHED-TTL:PT1H
BEGIN:VTIMEZONE
TZID:America/Sao_Paulo
BEGIN:STANDARD
TZOFFSETFROM:-0300
TZOFFSETTO:-0300
TZNAME:-03
DTSTART:20240101T000000
END:STANDARD
END:VTIMEZONE
BEGIN:VEVENT
DTSTART;VALUE=DATE:20251008
DTEND;VALUE=DATE:20251009
DTSTAMP:20260421T201809
CREATED:20250513T194041Z
LAST-MODIFIED:20250831T131125Z
UID:1414-1759881600-1759967999@comunidade-olimpiadas.lidersys.com.br
SUMMARY:Torneio de Física para Meninas (TFM) - Fase 2
DESCRIPTION:Área temática: \n\nFísica\n\nPúblico-alvo:  \n\nEstudantes do Ensino Médio que se identificam com o gênero feminino \n\nModalidades e fases:  \n\nDuas fases\n\nFinanciamento\, apoio e/ou organização:  \n\nIIF; Movimento Meninas Olímpicas; IFNMG; IFC; UFSM; OBF; SBF; CNPq; Governo Federal
URL:https://comunidade-olimpiadas.lidersys.com.br/event/tfm-fase-2/
CATEGORIES:Prova de Competição Nacional
ATTACH;FMTTYPE=image/png:https://comunidade-olimpiadas.lidersys.com.br/wp-content/uploads/2025/05/TFM.png
END:VEVENT
BEGIN:VEVENT
DTSTART;VALUE=DATE:20251008
DTEND;VALUE=DATE:20251009
DTSTAMP:20260421T201809
CREATED:20250530T180846Z
LAST-MODIFIED:20250630T202036Z
UID:2495-1759881600-1759967999@comunidade-olimpiadas.lidersys.com.br
SUMMARY:Olimpíada Brasileira de Química (OBQ) - Fim Jornada pedagógica PNOQ 30 anos
DESCRIPTION:Área temática: \n\nQuímica\n\nPúblico-alvo:  \n\nModalidade A – estudantes da 1ª e da 2ª série do Ensino Médio;\n\nModalidade B – estudantes das demais séries do Ensino Médio.\n\nModalidades e fases:  \n\nPrimeira etapa – Fase I – seleciona estudantes para a fase II\, ou para a fase III;\n\nPrimeira etapa – Fase II – Olimpíada Estadual;\n\nPrimeira etapa – Fase III – prova teórica em nível nacional.\n\nSegunda etapa – Fase IV – prova teórico-prática em formato de vídeo;\n\nSegunda etapa – Fase V – Curso de Aprofundamento e Excelência em Química;\n\nSegunda etapa – Fase VI – prova de seleção para Olimpíadas Internacionais.\n\nSeletiva para competição internacional  \n\nOlimpíada Internacional de Química (IChO); Olimpíada Ibero-Americana de Química (OIAQ)\n\nFinanciamento\, apoio e/ou organização:  \n\nUFC; UFPI; ABQ; CFQ; ABICLIM; ABICLOR; CNPq; MCTI; MEC
URL:https://comunidade-olimpiadas.lidersys.com.br/event/olimpiada-brasileira-de-quimica-obq-fim-jornada-pedagogica-pnoq-30-anos/
CATEGORIES:Semana Olímpica
ATTACH;FMTTYPE=image/png:https://comunidade-olimpiadas.lidersys.com.br/wp-content/uploads/2025/05/OBQ.png
END:VEVENT
END:VCALENDAR