BEGIN:VCALENDAR
VERSION:2.0
PRODID:-//Plataforma de Colaboração para Olimpíadas Científicas - ECPv6.15.17//NONSGML v1.0//EN
CALSCALE:GREGORIAN
METHOD:PUBLISH
X-ORIGINAL-URL:https://comunidade-olimpiadas.lidersys.com.br
X-WR-CALDESC:Eventos para Plataforma de Colaboração para Olimpíadas Científicas
REFRESH-INTERVAL;VALUE=DURATION:PT1H
X-Robots-Tag:noindex
X-PUBLISHED-TTL:PT1H
BEGIN:VTIMEZONE
TZID:America/Sao_Paulo
BEGIN:STANDARD
TZOFFSETFROM:-0300
TZOFFSETTO:-0300
TZNAME:-03
DTSTART:20240101T000000
END:STANDARD
END:VTIMEZONE
BEGIN:VEVENT
DTSTART;VALUE=DATE:20251025
DTEND;VALUE=DATE:20251026
DTSTAMP:20260421T202404
CREATED:20250317T123732Z
LAST-MODIFIED:20250630T193733Z
UID:707-1761350400-1761436799@comunidade-olimpiadas.lidersys.com.br
SUMMARY:Olimpíada de Matemática de Escolas Públicas (OBMEP) - Fase 2
DESCRIPTION:Área temática: \n\nMatemática\n\nPúblico-alvo:  \n\nNível 1 – 6º ou 7º ano do Ensino Fundamental;\n\nNível 2 – 8º ou 9º ano do Ensino Fundamental; e\n\nNível 3 – Ensino Médio. \n\nModalidades e fases:  \n\nProva objetiva; prova discursiva\n\nDuas fases\n\nFinanciamento\, apoio e/ou organização:  \n\nCAPES; CNPq; SBM; IMPA; MEC; MCTI
URL:https://comunidade-olimpiadas.lidersys.com.br/event/obmep-fase-2/
CATEGORIES:Prova de Competição Nacional
ATTACH;FMTTYPE=image/png:https://comunidade-olimpiadas.lidersys.com.br/wp-content/uploads/2025/03/obmep.png
END:VEVENT
BEGIN:VEVENT
DTSTART;VALUE=DATE:20251025
DTEND;VALUE=DATE:20251027
DTSTAMP:20260421T202404
CREATED:20250831T143543Z
LAST-MODIFIED:20250831T143543Z
UID:3237-1761350400-1761523199@comunidade-olimpiadas.lidersys.com.br
SUMMARY:Olimpíada Brasileira Online de Física (OBOF) - Segunda fase
DESCRIPTION:Área temática: \n\nFísica\n\nPúblico-alvo:  \n\nNível Júnior: estudantes do 6º e 7º anos do Ensino Fundamental\nNível Moysés Nussenzveig: estudantes do 8º e 9º anos do Ensino Fundamental\nNível César Lattes: estudantes do 1º e 2º anos do Ensino Médio\nNível Elisa Frota Pessoa: estudantes do 3º ano do Ensino Médio\nCategoria aberta: pessoas que não se encaixem nas outras categorias\, incluindo estudantes do 4º ano do Ensino Técnico\n\nModalidades e fases:  \n\nDuas fases\n\nFinanciamento\, apoio e/ou organização:  \n\nFisicadu; NOIC
URL:https://comunidade-olimpiadas.lidersys.com.br/event/olimpiada-brasileira-online-de-fisica-obof-segunda-fase/
CATEGORIES:Prova de Competição Nacional
END:VEVENT
END:VCALENDAR