BEGIN:VCALENDAR
VERSION:2.0
PRODID:-//Plataforma de Colaboração para Olimpíadas Científicas - ECPv6.15.17//NONSGML v1.0//EN
CALSCALE:GREGORIAN
METHOD:PUBLISH
X-ORIGINAL-URL:https://comunidade-olimpiadas.lidersys.com.br
X-WR-CALDESC:Eventos para Plataforma de Colaboração para Olimpíadas Científicas
REFRESH-INTERVAL;VALUE=DURATION:PT1H
X-Robots-Tag:noindex
X-PUBLISHED-TTL:PT1H
BEGIN:VTIMEZONE
TZID:America/Sao_Paulo
BEGIN:STANDARD
TZOFFSETFROM:-0300
TZOFFSETTO:-0300
TZNAME:-03
DTSTART:20240101T000000
END:STANDARD
END:VTIMEZONE
BEGIN:VEVENT
DTSTART;VALUE=DATE:20251105
DTEND;VALUE=DATE:20251107
DTSTAMP:20260421T184853
CREATED:20250831T142926Z
LAST-MODIFIED:20250831T142926Z
UID:3227-1762300800-1762473599@comunidade-olimpiadas.lidersys.com.br
SUMMARY:Olimpíada Nacional de Eficiência Energética (ONEE) - Terceira Fase
DESCRIPTION:Área temática: \n\nEficiência Energética\n\nPúblico-alvo:  \n\nEstudantes do 8º e 9º ano do Ensino Fundamental\n\nModalidades e fases:  \n\nDuas fases\n\nFinanciamento\, apoio e/ou organização:  \n\niABRADEE; EDP; ANEEL; Distribuidoras de energia
URL:https://comunidade-olimpiadas.lidersys.com.br/event/olimpiada-nacional-de-eficiencia-energetica-onee-terceira-fase/
CATEGORIES:Prova de Competição Nacional
END:VEVENT
END:VCALENDAR